BEGIN:VCALENDAR
VERSION:2.0
PRODID:-//Alliance Francaise of NW CT - ECPv6.15.11//NONSGML v1.0//EN
CALSCALE:GREGORIAN
METHOD:PUBLISH
X-ORIGINAL-URL:https://afnwct.org
X-WR-CALDESC:Events for Alliance Francaise of NW CT
REFRESH-INTERVAL;VALUE=DURATION:PT1H
X-Robots-Tag:noindex
X-PUBLISHED-TTL:PT1H
BEGIN:VTIMEZONE
TZID:America/New_York
BEGIN:DAYLIGHT
TZOFFSETFROM:-0500
TZOFFSETTO:-0400
TZNAME:EDT
DTSTART:20230312T070000
END:DAYLIGHT
BEGIN:STANDARD
TZOFFSETFROM:-0400
TZOFFSETTO:-0500
TZNAME:EST
DTSTART:20231105T060000
END:STANDARD
BEGIN:DAYLIGHT
TZOFFSETFROM:-0500
TZOFFSETTO:-0400
TZNAME:EDT
DTSTART:20240310T070000
END:DAYLIGHT
BEGIN:STANDARD
TZOFFSETFROM:-0400
TZOFFSETTO:-0500
TZNAME:EST
DTSTART:20241103T060000
END:STANDARD
BEGIN:DAYLIGHT
TZOFFSETFROM:-0500
TZOFFSETTO:-0400
TZNAME:EDT
DTSTART:20250309T070000
END:DAYLIGHT
BEGIN:STANDARD
TZOFFSETFROM:-0400
TZOFFSETTO:-0500
TZNAME:EST
DTSTART:20251102T060000
END:STANDARD
END:VTIMEZONE
BEGIN:VEVENT
DTSTART;TZID=America/New_York:20241005T130000
DTEND;TZID=America/New_York:20241005T160000
DTSTAMP:20260424T115501
CREATED:20240825T141812Z
LAST-MODIFIED:20240825T141812Z
UID:43986-1728133200-1728144000@afnwct.org
SUMMARY:Pétanque Finals and Party
DESCRIPTION:October 5th\, Saturday\, 1:00 pm\, chez Fran in Southbury\, party starting afterwards. \n$5 for non-Pétanque league members \nPay by PayPal  \n\n  \n   \n\n\n\n        \n        Petanque Finals Party for Non-Petanque members\n      \n\n\n\n        \n            Single $5.00 USD\n          \n      \n\n\n\n        \n        Name\n      \n\n\n\n        \n      \n\n\n\n        \n        Email
URL:https://afnwct.org/event/petanque-finals-and-party/
LOCATION:CT
ATTACH;FMTTYPE=image/jpeg:https://afnwct.org/wp-content/uploads/2024/08/Petanque-16-9.jpg
END:VEVENT
END:VCALENDAR