BEGIN:VCALENDAR
VERSION:2.0
PRODID:-//Alliance Francaise of NW CT - ECPv6.15.11//NONSGML v1.0//EN
CALSCALE:GREGORIAN
METHOD:PUBLISH
X-ORIGINAL-URL:https://afnwct.org
X-WR-CALDESC:Events for Alliance Francaise of NW CT
REFRESH-INTERVAL;VALUE=DURATION:PT1H
X-Robots-Tag:noindex
X-PUBLISHED-TTL:PT1H
BEGIN:VTIMEZONE
TZID:America/New_York
BEGIN:DAYLIGHT
TZOFFSETFROM:-0500
TZOFFSETTO:-0400
TZNAME:EDT
DTSTART:20230312T070000
END:DAYLIGHT
BEGIN:STANDARD
TZOFFSETFROM:-0400
TZOFFSETTO:-0500
TZNAME:EST
DTSTART:20231105T060000
END:STANDARD
BEGIN:DAYLIGHT
TZOFFSETFROM:-0500
TZOFFSETTO:-0400
TZNAME:EDT
DTSTART:20240310T070000
END:DAYLIGHT
BEGIN:STANDARD
TZOFFSETFROM:-0400
TZOFFSETTO:-0500
TZNAME:EST
DTSTART:20241103T060000
END:STANDARD
BEGIN:DAYLIGHT
TZOFFSETFROM:-0500
TZOFFSETTO:-0400
TZNAME:EDT
DTSTART:20250309T070000
END:DAYLIGHT
BEGIN:STANDARD
TZOFFSETFROM:-0400
TZOFFSETTO:-0500
TZNAME:EST
DTSTART:20251102T060000
END:STANDARD
END:VTIMEZONE
BEGIN:VEVENT
DTSTART;TZID=America/New_York:20241205T160000
DTEND;TZID=America/New_York:20241205T180000
DTSTAMP:20260424T091938
CREATED:20240827T132049Z
LAST-MODIFIED:20240827T132049Z
UID:44024-1733414400-1733421600@afnwct.org
SUMMARY:Groupe de lecture
DESCRIPTION:First Thursday of every month beginning at 4:00 pm at a private home in Woodbury.\nAttendance is limited to 8 people. \nCall 203-482-3633 to reserve your spot. \nLire à haute voix\nÉcouter les autres lire\nComprendre ce que l’on entend\nCommenter les thèmes et techniques littéraires \nEn ce moment\, le groupe lit:\nLa Vie et la Passion de Dodin-Bouffant\, Gourmet de Marcel Rouff\nLe prochain livre sera Changer l’Eau des Fleurs de Valérie Perrin
URL:https://afnwct.org/event/groupe-de-lecture-52-2-4-2-2-5-2-4/
LOCATION:CT
ATTACH;FMTTYPE=image/jpeg:https://afnwct.org/wp-content/uploads/2023/08/Lectures-16-9.jpg
END:VEVENT
END:VCALENDAR