BEGIN:VCALENDAR
VERSION:2.0
PRODID:-//Alliance Francaise of NW CT - ECPv6.15.11//NONSGML v1.0//EN
CALSCALE:GREGORIAN
METHOD:PUBLISH
X-WR-CALNAME:Alliance Francaise of NW CT
X-ORIGINAL-URL:https://afnwct.org
X-WR-CALDESC:Events for Alliance Francaise of NW CT
REFRESH-INTERVAL;VALUE=DURATION:PT1H
X-Robots-Tag:noindex
X-PUBLISHED-TTL:PT1H
BEGIN:VTIMEZONE
TZID:America/New_York
BEGIN:DAYLIGHT
TZOFFSETFROM:-0500
TZOFFSETTO:-0400
TZNAME:EDT
DTSTART:20240310T070000
END:DAYLIGHT
BEGIN:STANDARD
TZOFFSETFROM:-0400
TZOFFSETTO:-0500
TZNAME:EST
DTSTART:20241103T060000
END:STANDARD
BEGIN:DAYLIGHT
TZOFFSETFROM:-0500
TZOFFSETTO:-0400
TZNAME:EDT
DTSTART:20250309T070000
END:DAYLIGHT
BEGIN:STANDARD
TZOFFSETFROM:-0400
TZOFFSETTO:-0500
TZNAME:EST
DTSTART:20251102T060000
END:STANDARD
BEGIN:DAYLIGHT
TZOFFSETFROM:-0500
TZOFFSETTO:-0400
TZNAME:EDT
DTSTART:20260308T070000
END:DAYLIGHT
BEGIN:STANDARD
TZOFFSETFROM:-0400
TZOFFSETTO:-0500
TZNAME:EST
DTSTART:20261101T060000
END:STANDARD
END:VTIMEZONE
BEGIN:VEVENT
DTSTART;TZID=America/New_York:20250427T150000
DTEND;TZID=America/New_York:20250427T170000
DTSTAMP:20260423T200643
CREATED:20250326T192039Z
LAST-MODIFIED:20250401T160401Z
UID:44536-1745766000-1745773200@afnwct.org
SUMMARY:Fête des Crêpes
DESCRIPTION:April 27th\, Sunday\, 3:00–5:00 pm\, chez les Rousseau \nSpring is in full bloom and what better way to celebrate than with freshly made dessert crêpes (traditional and gluten-free galettes). Cost $10.  \nRSVP to Diane * events@afnwct.org ( (860) 480-0143.  \nPay online at afnwct.org\, or send your check to AFNWCT\, One Pomperaug Office Park\, Suite 301\, Southbury\, CT 06488. \nPay by PayPal  \n\n \n\n\n\n\nFête des Crêpes 2025\n\n\nMember $11.00 USD\n\n\n\nName\n\n\n\n\n\n\nEmail
URL:https://afnwct.org/event/fete-de-noel-a-festive-lunch-2-2/
LOCATION:CT
ATTACH;FMTTYPE=image/jpeg:https://afnwct.org/wp-content/uploads/2024/08/Social-Events-16-9.jpg
END:VEVENT
END:VCALENDAR