BEGIN:VCALENDAR
VERSION:2.0
PRODID:-//Alliance Francaise of NW CT - ECPv6.15.11//NONSGML v1.0//EN
CALSCALE:GREGORIAN
METHOD:PUBLISH
X-ORIGINAL-URL:https://afnwct.org
X-WR-CALDESC:Events for Alliance Francaise of NW CT
REFRESH-INTERVAL;VALUE=DURATION:PT1H
X-Robots-Tag:noindex
X-PUBLISHED-TTL:PT1H
BEGIN:VTIMEZONE
TZID:America/New_York
BEGIN:DAYLIGHT
TZOFFSETFROM:-0500
TZOFFSETTO:-0400
TZNAME:EDT
DTSTART:20240310T070000
END:DAYLIGHT
BEGIN:STANDARD
TZOFFSETFROM:-0400
TZOFFSETTO:-0500
TZNAME:EST
DTSTART:20241103T060000
END:STANDARD
BEGIN:DAYLIGHT
TZOFFSETFROM:-0500
TZOFFSETTO:-0400
TZNAME:EDT
DTSTART:20250309T070000
END:DAYLIGHT
BEGIN:STANDARD
TZOFFSETFROM:-0400
TZOFFSETTO:-0500
TZNAME:EST
DTSTART:20251102T060000
END:STANDARD
BEGIN:DAYLIGHT
TZOFFSETFROM:-0500
TZOFFSETTO:-0400
TZNAME:EDT
DTSTART:20260308T070000
END:DAYLIGHT
BEGIN:STANDARD
TZOFFSETFROM:-0400
TZOFFSETTO:-0500
TZNAME:EST
DTSTART:20261101T060000
END:STANDARD
END:VTIMEZONE
BEGIN:VEVENT
DTSTART;TZID=America/New_York:20250812T110000
DTEND;TZID=America/New_York:20250812T123000
DTSTAMP:20260423T154910
CREATED:20250326T185837Z
LAST-MODIFIED:20250326T185837Z
UID:44456-1754996400-1755001800@afnwct.org
SUMMARY:Livres d’Histoire
DESCRIPTION:Every Tuesday morning at the Alliance Center \n11:00–12:30  \nWe will continue our reading and discussion of La Carte Postale by Anne Berest (available at Amazon.com). It’s never too late to join the group!  \nThe book is a family history that spans the troubled years of inter-war France and the Nazi occupation. Your reading and understanding of this extraordinary book will be enhanced by the photographs\, maps and historic films that John Lamb has assembled to bring context to the action.
URL:https://afnwct.org/event/livres-dhistoire-17-2-15/
LOCATION:AF Center\, One Pomperaug Office Park\, Suite 301\, Southbury\, CT\, 06488\, United States
ATTACH;FMTTYPE=image/jpeg:https://afnwct.org/wp-content/uploads/2024/08/Livres-dHistoire-icon.jpg
END:VEVENT
END:VCALENDAR