BEGIN:VCALENDAR
VERSION:2.0
PRODID:-//Alliance Francaise of NW CT - ECPv6.15.11//NONSGML v1.0//EN
CALSCALE:GREGORIAN
METHOD:PUBLISH
X-WR-CALNAME:Alliance Francaise of NW CT
X-ORIGINAL-URL:https://afnwct.org
X-WR-CALDESC:Events for Alliance Francaise of NW CT
REFRESH-INTERVAL;VALUE=DURATION:PT1H
X-Robots-Tag:noindex
X-PUBLISHED-TTL:PT1H
BEGIN:VTIMEZONE
TZID:America/New_York
BEGIN:DAYLIGHT
TZOFFSETFROM:-0500
TZOFFSETTO:-0400
TZNAME:EDT
DTSTART:20240310T070000
END:DAYLIGHT
BEGIN:STANDARD
TZOFFSETFROM:-0400
TZOFFSETTO:-0500
TZNAME:EST
DTSTART:20241103T060000
END:STANDARD
BEGIN:DAYLIGHT
TZOFFSETFROM:-0500
TZOFFSETTO:-0400
TZNAME:EDT
DTSTART:20250309T070000
END:DAYLIGHT
BEGIN:STANDARD
TZOFFSETFROM:-0400
TZOFFSETTO:-0500
TZNAME:EST
DTSTART:20251102T060000
END:STANDARD
BEGIN:DAYLIGHT
TZOFFSETFROM:-0500
TZOFFSETTO:-0400
TZNAME:EDT
DTSTART:20260308T070000
END:DAYLIGHT
BEGIN:STANDARD
TZOFFSETFROM:-0400
TZOFFSETTO:-0500
TZNAME:EST
DTSTART:20261101T060000
END:STANDARD
END:VTIMEZONE
BEGIN:VEVENT
DTSTART;TZID=America/New_York:20251214T130000
DTEND;TZID=America/New_York:20251214T160000
DTSTAMP:20260423T101737
CREATED:20250823T150956Z
LAST-MODIFIED:20250823T160312Z
UID:44699-1765717200-1765728000@afnwct.org
SUMMARY:Fête de Noël\, a Festive Luncheon
DESCRIPTION:Chez Laurent et Grace Vernillet\nDecember 14th\nSunday\n1:00–4:00\n$40 per person\nReserve quickly\, there is a max of 32 people\nEnjoy a delicious and festive luncheon \nPlease reserve and pre-pay a week in advance.\n1. Reserve: Email at events@afnwct.org\nOr call Evelyne at 203-512-6532.\n2. Pay: Paypal Below ($5 surcharge) $45 total\nOr mail check to: AFNWCT\, One Pomperaug Office Park\nSuite 301\, Southbury\, CT 06488 \n\n  \n   \n\n\n\n        \n        La fête de Noël 2024\n      \n\n\n\n        \n            1 Attendee $45.00 USD\n          \n            2 Attendees $85.00 USD\n          \n      \n\n\n\n        \n        Attendee's Name/s\n      \n\n\n\n        \n      \n\n\n\n        \n        Email
URL:https://afnwct.org/event/bastille-day-a-manhattan-2-2-2/
LOCATION:CT
ATTACH;FMTTYPE=image/jpeg:https://afnwct.org/wp-content/uploads/2024/08/Social-Events-16-9.jpg
END:VEVENT
END:VCALENDAR