BEGIN:VCALENDAR
VERSION:2.0
PRODID:-//Alliance Francaise of NW CT - ECPv6.15.11//NONSGML v1.0//EN
CALSCALE:GREGORIAN
METHOD:PUBLISH
X-ORIGINAL-URL:https://afnwct.org
X-WR-CALDESC:Events for Alliance Francaise of NW CT
REFRESH-INTERVAL;VALUE=DURATION:PT1H
X-Robots-Tag:noindex
X-PUBLISHED-TTL:PT1H
BEGIN:VTIMEZONE
TZID:America/New_York
BEGIN:DAYLIGHT
TZOFFSETFROM:-0500
TZOFFSETTO:-0400
TZNAME:EDT
DTSTART:20250309T070000
END:DAYLIGHT
BEGIN:STANDARD
TZOFFSETFROM:-0400
TZOFFSETTO:-0500
TZNAME:EST
DTSTART:20251102T060000
END:STANDARD
BEGIN:DAYLIGHT
TZOFFSETFROM:-0500
TZOFFSETTO:-0400
TZNAME:EDT
DTSTART:20260308T070000
END:DAYLIGHT
BEGIN:STANDARD
TZOFFSETFROM:-0400
TZOFFSETTO:-0500
TZNAME:EST
DTSTART:20261101T060000
END:STANDARD
BEGIN:DAYLIGHT
TZOFFSETFROM:-0500
TZOFFSETTO:-0400
TZNAME:EDT
DTSTART:20270314T070000
END:DAYLIGHT
BEGIN:STANDARD
TZOFFSETFROM:-0400
TZOFFSETTO:-0500
TZNAME:EST
DTSTART:20271107T060000
END:STANDARD
END:VTIMEZONE
BEGIN:VEVENT
DTSTART;TZID=America/New_York:20260613T160000
DTEND;TZID=America/New_York:20260613T190000
DTSTAMP:20260423T070917
CREATED:20260403T151453Z
LAST-MODIFIED:20260404T015103Z
UID:45228-1781366400-1781377200@afnwct.org
SUMMARY:Picnic & Pétanque
DESCRIPTION:Chez Joyce and Gilles Rousseau \nJune 13\nSaturday\n4:00–7:00 pm\n$10 per person \nRain or shine\, there will be a picnic at the Rousseaus’ including pétanque tutorials and warm-up matches. Hot dogs\, hamburgers and surprises will be grilled for you. Just bring your own side dishes\, some to share and favorite beverage. \n \nPlease reserve and pre-pay a week in advance.\n1. Reserve: Email at events@afnwct.org\nOr call Evelyne at 203-512-6532.\n2. Pay: Paypal Below ($2 surcharge) $12 total\nOr mail check to: AFNWCT\, One Pomperaug Office Park\nSuite 301\, Southbury\, CT 06488 \n\n  \n   \n\n\n\n        \n        Picnic & Pétanque 2026\n      \n\n\n\n        \n            1 Attendee $13.00 USD\n          \n            2 Attendees $23.00 USD\n          \n      \n\n\n\n        \n        Name/s\n      \n\n\n\n        \n      \n\n\n\n        \n        Email
URL:https://afnwct.org/event/picnic-petanque/
LOCATION:Rousseau residence\, 67 Horse Fence Hill Rd.\, Southbury\, CT\, 06488\, United States
ATTACH;FMTTYPE=image/jpeg:https://afnwct.org/wp-content/uploads/2024/08/Social-Events-16-9.jpg
END:VEVENT
END:VCALENDAR