BEGIN:VCALENDAR
VERSION:2.0
PRODID:-//Alliance Francaise of NW CT - ECPv6.15.11//NONSGML v1.0//EN
CALSCALE:GREGORIAN
METHOD:PUBLISH
X-WR-CALNAME:Alliance Francaise of NW CT
X-ORIGINAL-URL:https://afnwct.org
X-WR-CALDESC:Events for Alliance Francaise of NW CT
REFRESH-INTERVAL;VALUE=DURATION:PT1H
X-Robots-Tag:noindex
X-PUBLISHED-TTL:PT1H
BEGIN:VTIMEZONE
TZID:America/New_York
BEGIN:DAYLIGHT
TZOFFSETFROM:-0500
TZOFFSETTO:-0400
TZNAME:EDT
DTSTART:20170312T070000
END:DAYLIGHT
BEGIN:STANDARD
TZOFFSETFROM:-0400
TZOFFSETTO:-0500
TZNAME:EST
DTSTART:20171105T060000
END:STANDARD
BEGIN:DAYLIGHT
TZOFFSETFROM:-0500
TZOFFSETTO:-0400
TZNAME:EDT
DTSTART:20180311T070000
END:DAYLIGHT
BEGIN:STANDARD
TZOFFSETFROM:-0400
TZOFFSETTO:-0500
TZNAME:EST
DTSTART:20181104T060000
END:STANDARD
BEGIN:DAYLIGHT
TZOFFSETFROM:-0500
TZOFFSETTO:-0400
TZNAME:EDT
DTSTART:20190310T070000
END:DAYLIGHT
BEGIN:STANDARD
TZOFFSETFROM:-0400
TZOFFSETTO:-0500
TZNAME:EST
DTSTART:20191103T060000
END:STANDARD
BEGIN:DAYLIGHT
TZOFFSETFROM:-0500
TZOFFSETTO:-0400
TZNAME:EDT
DTSTART:20200308T070000
END:DAYLIGHT
BEGIN:STANDARD
TZOFFSETFROM:-0400
TZOFFSETTO:-0500
TZNAME:EST
DTSTART:20201101T060000
END:STANDARD
END:VTIMEZONE
BEGIN:VEVENT
DTSTART;TZID=America/New_York:20190907T100000
DTEND;TZID=America/New_York:20190907T120000
DTSTAMP:20260424T022654
CREATED:20190906T214407Z
LAST-MODIFIED:20190906T214407Z
UID:41246-1567850400-1567857600@afnwct.org
SUMMARY:Annual Board Meeting
DESCRIPTION:This is our opportunity to share with all of the membership\, the successes we encountered during the September 2018 – August 2019 year of the Alliance Francaise. The meeting will be followed by a brunch. \nHelp us to celebrate by letting us know you are coming. We need to hear from you with an RSVP for this event by Thursday\,September 5th by return email or calling 203-707- 0710. SVP.
URL:https://afnwct.org/event/annual-board-meeting/
LOCATION:AF Center\, One Pomperaug Office Park\, Suite 301\, Southbury\, CT\, 06488\, United States
CATEGORIES:aaHomePage,Annual Meeting,Lunch
END:VEVENT
BEGIN:VEVENT
DTSTART;TZID=America/New_York:20180908T110000
DTEND;TZID=America/New_York:20180908T110000
DTSTAMP:20260424T022654
CREATED:20180823T193408Z
LAST-MODIFIED:20180826T054437Z
UID:40433-1536404400-1536404400@afnwct.org
SUMMARY:AFNWCT Annual Meeting
DESCRIPTION:The meeting will begin at 11 AM at the AF Center\, followed by lunch\, and then we will have a presentation by Francoise Lampe\, who will speak on “How to Discover One’s French And French Canadian Ancestry.” \nRSVP by phone at: 203-707-0710.
URL:https://afnwct.org/event/afnwct-annual-meeting/
LOCATION:CT
CATEGORIES:aaHomePage,Annual Meeting,Lunch,Presentation
END:VEVENT
END:VCALENDAR