BEGIN:VCALENDAR
VERSION:2.0
PRODID:-//Alliance Francaise of NW CT - ECPv6.15.11//NONSGML v1.0//EN
CALSCALE:GREGORIAN
METHOD:PUBLISH
X-ORIGINAL-URL:https://afnwct.org
X-WR-CALDESC:Events for Alliance Francaise of NW CT
REFRESH-INTERVAL;VALUE=DURATION:PT1H
X-Robots-Tag:noindex
X-PUBLISHED-TTL:PT1H
BEGIN:VTIMEZONE
TZID:America/New_York
BEGIN:DAYLIGHT
TZOFFSETFROM:-0500
TZOFFSETTO:-0400
TZNAME:EDT
DTSTART:20160313T070000
END:DAYLIGHT
BEGIN:STANDARD
TZOFFSETFROM:-0400
TZOFFSETTO:-0500
TZNAME:EST
DTSTART:20161106T060000
END:STANDARD
BEGIN:DAYLIGHT
TZOFFSETFROM:-0500
TZOFFSETTO:-0400
TZNAME:EDT
DTSTART:20170312T070000
END:DAYLIGHT
BEGIN:STANDARD
TZOFFSETFROM:-0400
TZOFFSETTO:-0500
TZNAME:EST
DTSTART:20171105T060000
END:STANDARD
BEGIN:DAYLIGHT
TZOFFSETFROM:-0500
TZOFFSETTO:-0400
TZNAME:EDT
DTSTART:20180311T070000
END:DAYLIGHT
BEGIN:STANDARD
TZOFFSETFROM:-0400
TZOFFSETTO:-0500
TZNAME:EST
DTSTART:20181104T060000
END:STANDARD
BEGIN:DAYLIGHT
TZOFFSETFROM:-0500
TZOFFSETTO:-0400
TZNAME:EDT
DTSTART:20190310T070000
END:DAYLIGHT
BEGIN:STANDARD
TZOFFSETFROM:-0400
TZOFFSETTO:-0500
TZNAME:EST
DTSTART:20191103T060000
END:STANDARD
BEGIN:DAYLIGHT
TZOFFSETFROM:-0500
TZOFFSETTO:-0400
TZNAME:EDT
DTSTART:20200308T070000
END:DAYLIGHT
BEGIN:STANDARD
TZOFFSETFROM:-0400
TZOFFSETTO:-0500
TZNAME:EST
DTSTART:20201101T060000
END:STANDARD
BEGIN:DAYLIGHT
TZOFFSETFROM:-0500
TZOFFSETTO:-0400
TZNAME:EDT
DTSTART:20210314T070000
END:DAYLIGHT
BEGIN:STANDARD
TZOFFSETFROM:-0400
TZOFFSETTO:-0500
TZNAME:EST
DTSTART:20211107T060000
END:STANDARD
BEGIN:DAYLIGHT
TZOFFSETFROM:-0500
TZOFFSETTO:-0400
TZNAME:EDT
DTSTART:20220313T070000
END:DAYLIGHT
BEGIN:STANDARD
TZOFFSETFROM:-0400
TZOFFSETTO:-0500
TZNAME:EST
DTSTART:20221106T060000
END:STANDARD
BEGIN:DAYLIGHT
TZOFFSETFROM:-0500
TZOFFSETTO:-0400
TZNAME:EDT
DTSTART:20230312T070000
END:DAYLIGHT
BEGIN:STANDARD
TZOFFSETFROM:-0400
TZOFFSETTO:-0500
TZNAME:EST
DTSTART:20231105T060000
END:STANDARD
BEGIN:DAYLIGHT
TZOFFSETFROM:-0500
TZOFFSETTO:-0400
TZNAME:EDT
DTSTART:20240310T070000
END:DAYLIGHT
BEGIN:STANDARD
TZOFFSETFROM:-0400
TZOFFSETTO:-0500
TZNAME:EST
DTSTART:20241103T060000
END:STANDARD
BEGIN:DAYLIGHT
TZOFFSETFROM:-0500
TZOFFSETTO:-0400
TZNAME:EDT
DTSTART:20250309T070000
END:DAYLIGHT
BEGIN:STANDARD
TZOFFSETFROM:-0400
TZOFFSETTO:-0500
TZNAME:EST
DTSTART:20251102T060000
END:STANDARD
END:VTIMEZONE
BEGIN:VEVENT
DTSTART;TZID=America/New_York:20240321T183000
DTEND;TZID=America/New_York:20240321T183000
DTSTAMP:20260423T113608
CREATED:20240311T193124Z
LAST-MODIFIED:20240403T190849Z
UID:43664-1711045800-1711045800@afnwct.org
SUMMARY:Ciné Club
DESCRIPTION:Monthly showings of classic French movies – Title to be announced (subtitled in English). \nPopcorn provided\, BYOB. \n6:30 pm at the Alliance Center
URL:https://afnwct.org/event/cineclub-presents-cesar-2-2-4-2/
LOCATION:AF Center\, One Pomperaug Office Park\, Suite 301\, Southbury\, CT\, 06488\, United States
CATEGORIES:aaHomePage,Ciné-Club,French Discussion Group
ATTACH;FMTTYPE=image/jpeg:https://afnwct.org/wp-content/uploads/2024/03/Le-Cinema-Series-16-9.jpg
END:VEVENT
BEGIN:VEVENT
DTSTART;TZID=America/New_York:20230518T000000
DTEND;TZID=America/New_York:20230518T000000
DTSTAMP:20260423T113608
CREATED:20230421T012644Z
LAST-MODIFIED:20230421T012644Z
UID:42356-1684368000-1684368000@afnwct.org
SUMMARY:Ciné Club
DESCRIPTION:Ciné Club on the 3rd Thursday of the month \nLes Combattantes \n6:45 pm at the Alliance Center\nApril 20\, May 18\, June 29
URL:https://afnwct.org/event/cineclub-presents-cesar-2-2-5/
LOCATION:CT
CATEGORIES:aaHomePage,Ciné-Club,French Discussion Group
ATTACH;FMTTYPE=image/jpeg:https://afnwct.org/wp-content/uploads/2023/02/cine.jpg
END:VEVENT
BEGIN:VEVENT
DTSTART;TZID=America/New_York:20230420T184500
DTEND;TZID=America/New_York:20230420T210000
DTSTAMP:20260423T113608
CREATED:20230421T012553Z
LAST-MODIFIED:20230421T012654Z
UID:42355-1682016300-1682024400@afnwct.org
SUMMARY:Ciné Club
DESCRIPTION:Ciné Club on the 3rd Thursday of the month \nLes Combattantes \n6:45 pm at the Alliance Center\nApril 20\, May 18\, June 29
URL:https://afnwct.org/event/cineclub-presents-cesar-2-2-4/
LOCATION:CT
CATEGORIES:aaHomePage,Ciné-Club,French Discussion Group
ATTACH;FMTTYPE=image/jpeg:https://afnwct.org/wp-content/uploads/2023/02/cine.jpg
END:VEVENT
BEGIN:VEVENT
DTSTART;TZID=America/New_York:20230325T140000
DTEND;TZID=America/New_York:20230325T160000
DTSTAMP:20260423T113608
CREATED:20230213T050001Z
LAST-MODIFIED:20230307T050352Z
UID:42306-1679752800-1679760000@afnwct.org
SUMMARY:A Younger Matisse at the Met\, will follow the artist until his mid 30’s.
DESCRIPTION:A Younger Matisse at the Met\, will follow the artist until his mid 30’s. \nPresented by Armchair Art Tours’ Michael Morris. \nRefreshments will be served. \nSaturday\, March 25 at 2:00 pm at the Alliance Center
URL:https://afnwct.org/event/cineclub-presents-cesar-2-2-3/
LOCATION:CT
CATEGORIES:aaHomePage,Ciné-Club,French Discussion Group
END:VEVENT
BEGIN:VEVENT
DTSTART;TZID=America/New_York:20230316T183000
DTEND;TZID=America/New_York:20230316T210000
DTSTAMP:20260423T113608
CREATED:20230213T045253Z
LAST-MODIFIED:20230307T232540Z
UID:42300-1678991400-1679000400@afnwct.org
SUMMARY:Ciné Club
DESCRIPTION:Ciné Club on the 3rd Thursday of the month \n6:30 pm at the Alliance Center\nJanuary 19\, February 28\, March 16
URL:https://afnwct.org/event/cineclub-presents-cesar-2-2/
LOCATION:CT
CATEGORIES:aaHomePage,Ciné-Club,French Discussion Group
ATTACH;FMTTYPE=image/jpeg:https://afnwct.org/wp-content/uploads/2023/02/cine.jpg
END:VEVENT
BEGIN:VEVENT
DTSTART;TZID=America/New_York:20230228T183000
DTEND;TZID=America/New_York:20230228T210000
DTSTAMP:20260423T113608
CREATED:20230213T045802Z
LAST-MODIFIED:20230213T045802Z
UID:42307-1677609000-1677618000@afnwct.org
SUMMARY:Ciné Club
DESCRIPTION:Ciné Club on the 3rd Thursday of the month \n6:30 pm at the Alliance Center\nJanuary 19\, February 28\, March 16\nBYOB and a snack \nTitles will be announced later.\nIf there is a French language movie you are particularly fond of\, let us know\, we’ll try to find it.
URL:https://afnwct.org/event/cineclub-presents-cesar-2-2-2/
LOCATION:CT
CATEGORIES:aaHomePage,Ciné-Club,French Discussion Group
ATTACH;FMTTYPE=image/jpeg:https://afnwct.org/wp-content/uploads/2023/02/cine.jpg
END:VEVENT
BEGIN:VEVENT
DTSTART;TZID=America/New_York:20230126T183000
DTEND;TZID=America/New_York:20230126T183000
DTSTAMP:20260423T113608
CREATED:20230103T004809Z
LAST-MODIFIED:20230120T000543Z
UID:42278-1674757800-1674757800@afnwct.org
SUMMARY:Ciné Club
DESCRIPTION:We will share Classic French films with you. They will be chosen around a theme\, actor\, director\, historical period\, etc… and subtitled in English. The titles will be announced soon. \nNote the new dates and time:\nThursday\, January 26 at 6:30 pm\nThursday\, February 23 at 6:30 pm\nThursday\, March 16 at 6:30 pm \nTitles will be announced later.\nIf there is a French language movie you are particularly fond of\, let us know\, we’ll try to find it.
URL:https://afnwct.org/event/cineclub-presents-cesar-2/
LOCATION:AF Center\, One Pomperaug Office Park\, Suite 301\, Southbury\, CT\, 06488\, United States
CATEGORIES:aaHomePage,Ciné-Club,French Discussion Group
END:VEVENT
BEGIN:VEVENT
DTSTART;TZID=America/New_York:20200419T140000
DTEND;TZID=America/New_York:20200419T170000
DTSTAMP:20260423T113608
CREATED:20200225T191023Z
LAST-MODIFIED:20200225T191023Z
UID:41481-1587304800-1587315600@afnwct.org
SUMMARY:CineClub Presents: "Cesar"
DESCRIPTION:Join us on Sunday\, April 19\, for a screening of Cesar\, from 1936. In part three of Marcel Pagnol’s Marseille trilogy\, Fanny’s son sets out to find Marius.
URL:https://afnwct.org/event/cineclub-presents-cesar/
LOCATION:AF Center\, One Pomperaug Office Park\, Suite 301\, Southbury\, CT\, 06488\, United States
CATEGORIES:aaHomePage,Ciné-Club,French Discussion Group
ATTACH;FMTTYPE=image/jpeg:https://afnwct.org/wp-content/uploads/2020/02/Cesar_film_1936_poster_credit_San-Diego-Becks.jpg
END:VEVENT
BEGIN:VEVENT
DTSTART;TZID=America/New_York:20200308T140000
DTEND;TZID=America/New_York:20200308T170000
DTSTAMP:20260423T113608
CREATED:20200225T190544Z
LAST-MODIFIED:20200225T190623Z
UID:41477-1583676000-1583686800@afnwct.org
SUMMARY:CineClub Presents: "Le Prenom"
DESCRIPTION:Join us on Sunday\, March 8\, for a screening of Le Prenom\, a film comedy from 2012: Parents shock their relatives when they name their son Adolf.
URL:https://afnwct.org/event/cineclub-3/
LOCATION:AF Center\, One Pomperaug Office Park\, Suite 301\, Southbury\, CT\, 06488\, United States
CATEGORIES:aaHomePage,Ciné-Club,French Discussion Group
ATTACH;FMTTYPE=image/jpeg:https://afnwct.org/wp-content/uploads/2020/02/Le-Prenom_film_credit_amazon-canada.jpg
END:VEVENT
BEGIN:VEVENT
DTSTART;TZID=America/New_York:20200216T140000
DTEND;TZID=America/New_York:20200216T163000
DTSTAMP:20260423T113608
CREATED:20200125T230707Z
LAST-MODIFIED:20200125T230707Z
UID:41442-1581861600-1581870600@afnwct.org
SUMMARY:CineClub
DESCRIPTION:This month’s film will be Joyeux Noel\, from 2005. Not a holiday film\, but an historical drama based on the spontaneous Christmas truce of 1914.
URL:https://afnwct.org/event/cineclub-2/
LOCATION:AF Center\, One Pomperaug Office Park\, Suite 301\, Southbury\, CT\, 06488\, United States
CATEGORIES:aaHomePage,Ciné-Club
ATTACH;FMTTYPE=image/jpeg:https://afnwct.org/wp-content/uploads/2020/01/Joyeux-Noel_2005_image-credit_Amazon.jpg
END:VEVENT
BEGIN:VEVENT
DTSTART;TZID=America/New_York:20200105T140000
DTEND;TZID=America/New_York:20200105T170000
DTSTAMP:20260423T113608
CREATED:20200105T032136Z
LAST-MODIFIED:20200105T032136Z
UID:41405-1578232800-1578243600@afnwct.org
SUMMARY:CineClub Et Discussion
DESCRIPTION:Our first film of the year is Fanny\, from 1932. \nPart 2 of the Marseille trilogy: pregant Fanny accepts the marriage proposal of M. Panisse. \n  \n 
URL:https://afnwct.org/event/cineclub-et-discussion-4/
LOCATION:AF Center\, One Pomperaug Office Park\, Suite 301\, Southbury\, CT\, 06488\, United States
CATEGORIES:aaHomePage,Ciné-Club,French Discussion Group
ATTACH;FMTTYPE=image/jpeg:https://afnwct.org/wp-content/uploads/2017/12/CINEMA-ET-CONVERSATION.jpg
END:VEVENT
BEGIN:VEVENT
DTSTART;TZID=America/New_York:20191110T150000
DTEND;TZID=America/New_York:20191110T173000
DTSTAMP:20260423T113608
CREATED:20190926T184949Z
LAST-MODIFIED:20191102T223633Z
UID:41266-1573398000-1573407000@afnwct.org
SUMMARY:CineClub Et Discussion
DESCRIPTION:Join us for “Marius” from 1931. The first of Marcel Pagnol’s Marseille Trilogy is a romance\, and includes some hilarious dialogues that equal or surpass the best of Abbott and Costello. The comedy stands the test of time in this film released when sound in movies was new.
URL:https://afnwct.org/event/cineclub-et-discussion-3/
LOCATION:AF Center\, One Pomperaug Office Park\, Suite 301\, Southbury\, CT\, 06488\, United States
CATEGORIES:aaHomePage,Ciné-Club,French Discussion Group
ATTACH;FMTTYPE=image/jpeg:https://afnwct.org/wp-content/uploads/2017/12/CINEMA-ET-CONVERSATION.jpg
END:VEVENT
BEGIN:VEVENT
DTSTART;TZID=America/New_York:20191018T190000
DTEND;TZID=America/New_York:20191018T213000
DTSTAMP:20260423T113608
CREATED:20190906T192851Z
LAST-MODIFIED:20190906T192851Z
UID:41207-1571425200-1571434200@afnwct.org
SUMMARY:Cineclub Et Discussion
DESCRIPTION:Join us for “Chocolat” from 2000. Juliette Binoche stats as a mysterious chocolate maker who shakes up a small town in this beautiful film.
URL:https://afnwct.org/event/cineclub-et-discussion-2/
LOCATION:AF Center\, One Pomperaug Office Park\, Suite 301\, Southbury\, CT\, 06488\, United States
CATEGORIES:aaHomePage,Ciné-Club
ATTACH;FMTTYPE=image/jpeg:https://afnwct.org/wp-content/uploads/2019/09/Chocolat-poster_c_TV-Guide.jpg
END:VEVENT
BEGIN:VEVENT
DTSTART;TZID=America/New_York:20190913T190000
DTEND;TZID=America/New_York:20190913T210000
DTSTAMP:20260423T113608
CREATED:20190906T191839Z
LAST-MODIFIED:20190906T191839Z
UID:41204-1568401200-1568408400@afnwct.org
SUMMARY:CineClub Et Discussion
DESCRIPTION:Join us for “Les Tontons Flingueurs”\, or “Monsieur Gangster”\, a classic slapstick comedy from 1963.
URL:https://afnwct.org/event/cineclub-et-discussion/
LOCATION:AF Center\, One Pomperaug Office Park\, Suite 301\, Southbury\, CT\, 06488\, United States
CATEGORIES:aaHomePage,Ciné-Club
ATTACH;FMTTYPE=image/jpeg:https://afnwct.org/wp-content/uploads/2019/09/Les-Tontons-Flingueurs_c_AFDelhi.jpg
END:VEVENT
BEGIN:VEVENT
DTSTART;TZID=America/New_York:20190419T180000
DTEND;TZID=America/New_York:20190419T180000
DTSTAMP:20260423T113608
CREATED:20190316T203250Z
LAST-MODIFIED:20190316T203250Z
UID:40945-1555696800-1555696800@afnwct.org
SUMMARY:CineClub: La Veuve de Saint-Pierre (2000)
DESCRIPTION:This film starring Juliette Binoche in a haunting and beautifully photographed film\, is set in the 1840s in the French departement of Saint-Pierre\, off the Canadian North Atlantic coast. A convict is sentenced to death for a drunken murder\, and strives to atone and redeem himself while the island awaits the arrival of a guillotine to carry out the execution. (1 hr.\, 48 min.)
URL:https://afnwct.org/event/cineclub-la-veuve-de-saint-pierre-2000/
LOCATION:AF Center\, One Pomperaug Office Park\, Suite 301\, Southbury\, CT\, 06488\, United States
CATEGORIES:aaHomePage,Ciné-Club
ATTACH;FMTTYPE=image/jpeg:https://afnwct.org/wp-content/uploads/2019/03/La-Veuve-de-Saint-Pierre.jpg
END:VEVENT
BEGIN:VEVENT
DTSTART;TZID=America/New_York:20190324T140000
DTEND;TZID=America/New_York:20190324T140000
DTSTAMP:20260423T113608
CREATED:20190116T210738Z
LAST-MODIFIED:20190116T211228Z
UID:40851-1553436000-1553436000@afnwct.org
SUMMARY:CineClub: Les Visiteurs
DESCRIPTION:
URL:https://afnwct.org/event/cineclub-rififi-chez-les-hommes/
LOCATION:AF Center\, One Pomperaug Office Park\, Suite 301\, Southbury\, CT\, 06488\, United States
CATEGORIES:aaHomePage,Ciné-Club
ATTACH;FMTTYPE=image/jpeg:https://afnwct.org/wp-content/uploads/2019/01/Les-Visiteurs.jpg
END:VEVENT
BEGIN:VEVENT
DTSTART;TZID=America/New_York:20190217T140000
DTEND;TZID=America/New_York:20190217T140000
DTSTAMP:20260423T113608
CREATED:20181217T013621Z
LAST-MODIFIED:20181217T013621Z
UID:40751-1550412000-1550412000@afnwct.org
SUMMARY:CineClub
DESCRIPTION:Join us for a screening of “Rififi Chez Les Hommes” from 1955\, at 2pm.
URL:https://afnwct.org/event/cineclub/
LOCATION:AF Center\, One Pomperaug Office Park\, Suite 301\, Southbury\, CT\, 06488\, United States
CATEGORIES:aaHomePage,Ciné-Club,French Discussion Group
ATTACH;FMTTYPE=image/jpeg:https://afnwct.org/wp-content/uploads/2018/12/Rififi_1955-poster.jpg
END:VEVENT
BEGIN:VEVENT
DTSTART;TZID=America/New_York:20190127T140000
DTEND;TZID=America/New_York:20190127T140000
DTSTAMP:20260423T113608
CREATED:20181216T000011Z
LAST-MODIFIED:20181216T000135Z
UID:40736-1548597600-1548597600@afnwct.org
SUMMARY:CineClub: Visages\, Villages (Documentary)
DESCRIPTION:“Visages\, Villages” (Faces\, Places) follows the filmmaker Agnes Varda and the French photographer and artist JR traveling around rural France\, creating portraits of the people they come across.
URL:https://afnwct.org/event/cineclub-visages-villages-documentary/
LOCATION:AF Center\, One Pomperaug Office Park\, Suite 301\, Southbury\, CT\, 06488\, United States
CATEGORIES:aaHomePage,Ciné-Club,French Discussion Group
ATTACH;FMTTYPE=image/jpeg:https://afnwct.org/wp-content/uploads/2018/12/Visages-Villages.jpg
END:VEVENT
BEGIN:VEVENT
DTSTART;TZID=America/New_York:20181116T183000
DTEND;TZID=America/New_York:20181116T183000
DTSTAMP:20260423T113608
CREATED:20181015T202852Z
LAST-MODIFIED:20181016T213140Z
UID:40601-1542393000-1542393000@afnwct.org
SUMMARY:CINECLUB: "Le Samourai"
DESCRIPTION:Join us at 6:30pm at the AF Center\, for “Le Samourai“\, a neo-noir film with Alain Delon from 1967.
URL:https://afnwct.org/event/cineclub-le-samourai/
LOCATION:AF Center\, One Pomperaug Office Park\, Suite 301\, Southbury\, CT\, 06488\, United States
CATEGORIES:aaHomePage,Ciné-Club
ATTACH;FMTTYPE=image/jpeg:https://afnwct.org/wp-content/uploads/2017/12/CINEMA-ET-CONVERSATION.jpg
END:VEVENT
BEGIN:VEVENT
DTSTART;TZID=America/New_York:20181026T183000
DTEND;TZID=America/New_York:20181026T183000
DTSTAMP:20260423T113608
CREATED:20180916T043642Z
LAST-MODIFIED:20181022T181149Z
UID:40467-1540578600-1540578600@afnwct.org
SUMMARY:Cine Club
DESCRIPTION:For Halloween\, we will look at a classic horror film\, “Diabolique.” This thriller by legendary director Henri‑Georges Clouzot shocked audiences when it was released. It is a story of two women—the wife and the mistress of the sadistic headmaster of a boarding school—who hatch a revenge plot. The film features plot twists and terrifying images. “Diabolique” features outstanding performances by Simone Signoret\, Véra Clouzot\, and Paul Meurisse.
URL:https://afnwct.org/event/cine-club-2/
LOCATION:AF Center\, One Pomperaug Office Park\, Suite 301\, Southbury\, CT\, 06488\, United States
CATEGORIES:aaHomePage,Ciné-Club
ATTACH;FMTTYPE=image/jpeg:https://afnwct.org/wp-content/uploads/2017/12/CINEMA-ET-CONVERSATION.jpg
END:VEVENT
BEGIN:VEVENT
DTSTART;TZID=America/New_York:20181005T183000
DTEND;TZID=America/New_York:20181005T183000
DTSTAMP:20260423T113608
CREATED:20180916T043023Z
LAST-MODIFIED:20180916T045710Z
UID:40465-1538764200-1538764200@afnwct.org
SUMMARY:Cine Club
DESCRIPTION:Join us for a screening of “La Cage aux Folles”\, a classic farce from 1978.
URL:https://afnwct.org/event/cine-club/
LOCATION:AF Center\, One Pomperaug Office Park\, Suite 301\, Southbury\, CT\, 06488\, United States
CATEGORIES:aaHomePage,Ciné-Club
ATTACH;FMTTYPE=image/jpeg:https://afnwct.org/wp-content/uploads/2017/12/CINEMA-ET-CONVERSATION.jpg
END:VEVENT
BEGIN:VEVENT
DTSTART;TZID=America/New_York:20180715T140000
DTEND;TZID=America/New_York:20180715T140000
DTSTAMP:20260423T113608
CREATED:20180521T212442Z
LAST-MODIFIED:20180521T212442Z
UID:40302-1531663200-1531663200@afnwct.org
SUMMARY:Cinema Et Conversation
DESCRIPTION:
URL:https://afnwct.org/event/cinema-et-conversation-6/
LOCATION:CT
CATEGORIES:aaHomePage,Ciné-Club
ATTACH;FMTTYPE=image/jpeg:https://afnwct.org/wp-content/uploads/2017/12/CINEMA-ET-CONVERSATION.jpg
END:VEVENT
BEGIN:VEVENT
DTSTART;TZID=America/New_York:20180615T190000
DTEND;TZID=America/New_York:20180615T190000
DTSTAMP:20260423T113608
CREATED:20180406T175503Z
LAST-MODIFIED:20180611T192953Z
UID:40244-1529089200-1529089200@afnwct.org
SUMMARY:Cinema Et Conversation: "Day of The Jackal"
DESCRIPTION:This Friday\, June the 15th\, we will reattempt the showing of Day of the Jackal (1973). This film is in English with French subtitles.  It is a British film showing a fictional story based in a tense period in French history when Charles DeGaulle’s life was in danger from ultranationalist extremists. Based on a mystery by Frederic Forsyth where we know the conclusion\, but do not know how the plot will take us there.  Special permission was granted to film behind the scenes at a Bastille Day Celebration and film inside the Ministry of the Interior.  Strother Purdy will introduce the film.                      The film will commence at 7PM\, at the AF Center\, please BYOB. Snacks will be provided. \n  \nThis Friday\, June the 15th\, we will reattempt the showing of Day of the Jackal (1973). This film is in English with French subtitles.  It is a British film showing a fictional story based in a tense period in French history when Charles DeGaulle’s life was in danger from ultranationalist extremists. Based on a mystery by Frederic Forsyth where we know the conclusion\, but do not know how the plot will take us there.  Special permission was granted to film behind the scenes at a Bastille Day Celebration and film inside the Ministry of the Interior.  Strother Purdy will introduce the film. \nThe film will commence at 7PM\, at the AF Center\, please BYOB. Snacks will be provided.
URL:https://afnwct.org/event/cinema-et-conversation-la-cage-aux-folles/
LOCATION:CT
CATEGORIES:aaHomePage,Ciné-Club,French Discussion Group
ATTACH;FMTTYPE=image/jpeg:https://afnwct.org/wp-content/uploads/2017/12/CINEMA-ET-CONVERSATION.jpg
END:VEVENT
BEGIN:VEVENT
DTSTART;TZID=America/New_York:20180518T183000
DTEND;TZID=America/New_York:20180518T183000
DTSTAMP:20260423T113608
CREATED:20180331T201224Z
LAST-MODIFIED:20180406T174504Z
UID:40226-1526668200-1526668200@afnwct.org
SUMMARY:Cinema Et Conversation
DESCRIPTION:For May\, we plan on showing Day of the Jackal (1973). The film will be in English\, but we will show French subtitles. Although the film is American\, it does a superb job in showing a fictional story based in a tense period in French history when Charles DeGaulle’s life was in real danger from ultranationalist extremists. This is a film version of a breakthrough mystery by Frederic Forsyth where we know the conclusion\, but we don’t know how the plot will take us there. The producers received rare permission to film behind the scenes at a Bastille Day celebration\, and to film inside the Ministry of the Interior for meeting scenes. Strother Purdy will introduce the film in English\, and Anne Quinson-Franklin will introduce the film in French. \nSnacks will be provided\, BYOB.
URL:https://afnwct.org/event/cinema-et-conversation-5/
LOCATION:CT
CATEGORIES:aaHomePage,Ciné-Club,French Discussion Group
ATTACH;FMTTYPE=image/jpeg:https://afnwct.org/wp-content/uploads/2017/12/CINEMA-ET-CONVERSATION.jpg
END:VEVENT
BEGIN:VEVENT
DTSTART;TZID=America/New_York:20180420T183000
DTEND;TZID=America/New_York:20180420T183000
DTSTAMP:20260423T113608
CREATED:20180310T182541Z
LAST-MODIFIED:20180406T173420Z
UID:40204-1524249000-1524249000@afnwct.org
SUMMARY:Cinema et Conversation
DESCRIPTION:For April\, we plan on changing the pace and showing something funny\, light and relatively recent. The film is Intouchables (2011). It is a “bromance” comedy involving an unlikely friendship between a quadriplegic billionaire and his irreverent caretaker. It is based on a true friendship. \nPizza will be served\, BYOB. \n 
URL:https://afnwct.org/event/cinema-et-conversation-4/
LOCATION:CT
CATEGORIES:aaHomePage,Ciné-Club
ATTACH;FMTTYPE=image/jpeg:https://afnwct.org/wp-content/uploads/2017/12/CINEMA-ET-CONVERSATION.jpg
END:VEVENT
BEGIN:VEVENT
DTSTART;TZID=America/New_York:20180318T140000
DTEND;TZID=America/New_York:20180318T140000
DTSTAMP:20260423T113608
CREATED:20180124T192956Z
LAST-MODIFIED:20180124T192956Z
UID:40100-1521381600-1521381600@afnwct.org
SUMMARY:Cinema et Conversation
DESCRIPTION:Moderators Strother Purdy and Mark Franklin will present each month to AF members a wide selection of French films to view and discuss. The viewing will be held at the AF Center. \nSunday 2pm presentations will include snacks and BYOB. \nThe March 2018 presentation will be a suspense thriller. \nFriday evening 6:30pm presentations will include pizza and BYOB. \nA $5 donation will be accepted. \nInterested members can receive a listing of the movies by calling 203-707-0710. \nCome enjoy and educate yourself on French Cinéma!
URL:https://afnwct.org/event/cinema-et-conversation-3/
LOCATION:CT
CATEGORIES:aaHomePage,Ciné-Club,French Discussion Group
ATTACH;FMTTYPE=image/jpeg:https://afnwct.org/wp-content/uploads/2017/12/CINEMA-ET-CONVERSATION.jpg
END:VEVENT
BEGIN:VEVENT
DTSTART;TZID=America/New_York:20180223T183000
DTEND;TZID=America/New_York:20180223T183000
DTSTAMP:20260423T113608
CREATED:20180108T200029Z
LAST-MODIFIED:20180216T223748Z
UID:40063-1519410600-1519410600@afnwct.org
SUMMARY:Cinema et Conversation: "La Regle du Jeu"
DESCRIPTION:Our film will be “La Règle du Jeu” (“The Rules of the Game”) from 1939. It was directed by Jean Renoir\, son of the legendary painter\, and is universally praised as one of the greatest films of all time. It is a drama set in the decadent and callous French society entre deux guerres\, immediately before the start of World War II. The war broke out within months after the film’s release. For those in the AFNWCT Groupe de Lecture\, this is the same decadent world described in the first chapters of the group’s recently finished book\, Pierre Assouline’s Lutetia. \nA $5 donation will be accepted. \nInterested members can receive a listing of the movies by calling 203-707-0710. \nCome enjoy and educate yourself on French Cinéma! \n 
URL:https://afnwct.org/event/cinema-et-conversation-2/
LOCATION:CT
CATEGORIES:aaHomePage,Ciné-Club,French Discussion Group
ATTACH;FMTTYPE=image/jpeg:https://afnwct.org/wp-content/uploads/2017/12/CINEMA-ET-CONVERSATION.jpg
END:VEVENT
BEGIN:VEVENT
DTSTART;TZID=America/New_York:20180128T140000
DTEND;TZID=America/New_York:20180128T140000
DTSTAMP:20260423T113608
CREATED:20171214T213230Z
LAST-MODIFIED:20180102T215303Z
UID:39958-1517148000-1517148000@afnwct.org
SUMMARY:Cinema Et Conversation
DESCRIPTION:CINÉMA ET CONVERSATION \nModerators Strother Purdy and Mark Franklin will present each month to AF members a wide selection of French films to view and discuss. The viewing will be held at the AF Center 2:00pm\, we will present a comedy\, “La Folie des Grandeurs” (1971). Our moderators Strother Purdy and Mark\nFranklin will lead the discussions. Pizza will be served with BYOB. \nSunday 2:00pm presentations will include snacks and BYOB. \nFriday evening 6:30pm presentations will include pizza and BYOB. \nA $5 donation will be accepted. \nInterested members can receive a listing of the movies by calling 203-707-0710. \nCome\, enjoy\, and educate yourself on French Cinéma! \n 
URL:https://afnwct.org/event/cinema-et-conversation/
LOCATION:CT
CATEGORIES:aaHomePage,Ciné-Club
ATTACH;FMTTYPE=image/jpeg:https://afnwct.org/wp-content/uploads/2017/12/CINEMA-ET-CONVERSATION.jpg
END:VEVENT
BEGIN:VEVENT
DTSTART;TZID=America/New_York:20170509T130000
DTEND;TZID=America/New_York:20170509T153000
DTSTAMP:20260423T113608
CREATED:20170427T013138Z
LAST-MODIFIED:20170427T013138Z
UID:39361-1494334800-1494343800@afnwct.org
SUMMARY:Cine-Club 1pm
DESCRIPTION:Today’s French film will be “Eight Women” starring Catherine Deneuve\, Isabelle Huppert and Fanny Ardent\, among others. \nShown in French with English subtitles\, this is a musical comedy/mystery from 2002 directed by François Ozon (Potiche. Lots of songs and fun take place in this movie. \nAt an isolated mansion in the snowy countryside of 1950s France\, a family is gathered for the holiday season. But there will be no celebration — their beloved patriarch has been murdered! The killer can only be one of the eight women closest to the man of the house. \nAFNWCT members attend free of charge. A suggested donation of $5 is requested from non-members.
URL:https://afnwct.org/event/cine-club-1pm-2/
LOCATION:CT
CATEGORIES:aaHomePage,Ciné-Club
ATTACH;FMTTYPE=image/jpeg:https://afnwct.org/wp-content/uploads/2015/08/film-596519_1280.jpg
END:VEVENT
BEGIN:VEVENT
DTSTART;TZID=America/New_York:20170505T190000
DTEND;TZID=America/New_York:20170505T210000
DTSTAMP:20260423T113608
CREATED:20170427T012009Z
LAST-MODIFIED:20170427T012009Z
UID:39357-1494010800-1494018000@afnwct.org
SUMMARY:Short Films Festival - Program 3
DESCRIPTION:Program 3 – Field of Dreams \nEmbark on a cinematic voyage you will never forget\, with the greatest new exponents of European filmmaking. The Eurochannel Short Films Tour is back for its eighth edition\, with a special programming theme: happiness! \nThe Eurochannel Short Films Tour has been a successful Eurochannel trademark for the last seven years. A unique event\, the tour invites viewers to follow talented directors on an exciting exploration of Europe through short films: with the directors as guides\, viewers discover fascinating cultures through the eyes of a filmmaker. Almost every European country and region is represented in this edition of the Eurochannel Short Films Tour – each of whose film is broadcast in its original language and subtitled in English – which is an example of the program’s creativity and dynamism. \nProgram 3 – Field of Dreams  \nA Place on Earth – Serbia \nCountryside by the Sea – Portugal \nAlptraum – Germany/Switzerland \nBarathon – France (Île de Ré) \nLife is Everything – Italy \nKamila – Czech Republic \nA Suggested Donation of $5 is kindly requested. Questions? Call (203) 707-0710
URL:https://afnwct.org/event/short-films-festival-program-3-2/
LOCATION:CT
CATEGORIES:aaHomePage,Ciné-Club
ATTACH;FMTTYPE=image/jpeg:https://afnwct.org/wp-content/uploads/2016/09/Short-Films.jpg
END:VEVENT
END:VCALENDAR