BEGIN:VCALENDAR
VERSION:2.0
PRODID:-//Alliance Francaise of NW CT - ECPv6.15.11//NONSGML v1.0//EN
CALSCALE:GREGORIAN
METHOD:PUBLISH
X-ORIGINAL-URL:https://afnwct.org
X-WR-CALDESC:Events for Alliance Francaise of NW CT
REFRESH-INTERVAL;VALUE=DURATION:PT1H
X-Robots-Tag:noindex
X-PUBLISHED-TTL:PT1H
BEGIN:VTIMEZONE
TZID:America/New_York
BEGIN:DAYLIGHT
TZOFFSETFROM:-0500
TZOFFSETTO:-0400
TZNAME:EDT
DTSTART:20140309T070000
END:DAYLIGHT
BEGIN:STANDARD
TZOFFSETFROM:-0400
TZOFFSETTO:-0500
TZNAME:EST
DTSTART:20141102T060000
END:STANDARD
BEGIN:DAYLIGHT
TZOFFSETFROM:-0500
TZOFFSETTO:-0400
TZNAME:EDT
DTSTART:20150308T070000
END:DAYLIGHT
BEGIN:STANDARD
TZOFFSETFROM:-0400
TZOFFSETTO:-0500
TZNAME:EST
DTSTART:20151101T060000
END:STANDARD
BEGIN:DAYLIGHT
TZOFFSETFROM:-0500
TZOFFSETTO:-0400
TZNAME:EDT
DTSTART:20160313T070000
END:DAYLIGHT
BEGIN:STANDARD
TZOFFSETFROM:-0400
TZOFFSETTO:-0500
TZNAME:EST
DTSTART:20161106T060000
END:STANDARD
END:VTIMEZONE
BEGIN:VEVENT
DTSTART;TZID=America/New_York:20151009T190000
DTEND;TZID=America/New_York:20151009T210000
DTSTAMP:20260423T213801
CREATED:20150807T152818Z
LAST-MODIFIED:20151001T204416Z
UID:37319-1444417200-1444424400@afnwct.org
SUMMARY:"Family Life" Short Films Festival Program
DESCRIPTION:The Alliance Francaise of NW CT\, in collaboration with the Southbury Film Commission\, continues its Short Film Festival with Program 3 of Eurochannel’s 6th Short Film Tour at the AF Center\, Southbury on Friday\, October 9 starting at 7:00 pm. All short films\, ranging from 5 to 30 minutes\, have the theme of “Youth in Europe” and are shown in their original version with English subtitles and are free and open to the public. \nProgram 3: “Family Life” – will feature films from Spain (Catalonia)\, Netherlands/Turkey\, Georgia\, UK (Scotland)\, Spain (Bajadoz)\, Italy (Reggio Calabra) and Poland (see details below.) \nAll Programs are free.  Gather your friends and family and come discover Europe\, visit its countries and listen to all its languages… \nRSVP IS REQUESTED FOR EACH PROGRAM. Please call 203-707-0710\n \nAs part of this Short Film Festival\, other Programs will be shown on October 23 and November 8.\n \nThe Southbury Film Commission’s mission is to market the town of Southbury as a filming destination by promoting local professionals and support services. For more information\, please go to: www.southburyfilm.org \n\n\n\nPROGRAM 3\nFAMILY LIFE\n\n\n\n\nSPAIN: Catalonia\nHappily Ever After\, for Another Year\n16\nComedy\n\n\nNETHERLANDS / TURKEY\nThe Horse and the Nightingale\n13\nDrama\n\n\nGEORGIA\nDinola\n15\nDrama\n\n\nUK: SCOTLAND\nNurture\n20\nDrama\n\n\nSPAIN: Bajadoz\nEpitaphs\n20\nDrama\, Comedy\n\n\nITALY: Reggio Calabra\nHakuna Matata\n16\nDrama\n\n\nPOLAND\nHosana\n10\nAdventure\n\n\n\nEurochannel (www.eurochannel.com) is the award winning television channel featuring premium European entertainment with the biggest stars. Eurochannel presents only top-of-the-line European programming from recent blockbusters to critically acclaimed TV series. Experience Europe on Eurochannel through cinematic adventure\, humor\, history and entertainment. Eurochannel is available on Sling International. To stay up to date on our latest programming\, like us on Facebook (www.facebook.com/Eurochannel) and like us on Twitter (www.twitter.com/Eurochannel).\n\n 
URL:https://afnwct.org/event/family-life-short-films-festival-program/
CATEGORIES:Ciné-Club
ATTACH;FMTTYPE=image/jpeg:https://afnwct.org/wp-content/uploads/2015/08/Dinola_1.jpg
END:VEVENT
BEGIN:VEVENT
DTSTART;TZID=America/New_York:20150925T190000
DTEND;TZID=America/New_York:20150925T210000
DTSTAMP:20260423T213801
CREATED:20150807T152200Z
LAST-MODIFIED:20150909T200724Z
UID:37317-1443207600-1443214800@afnwct.org
SUMMARY:"Runaways" Short Films Festival Program
DESCRIPTION:The Alliance Francaise of NW CT\, in collaboration with the Southbury Film Commission\, continues its Short Film Festival with Program 6 of Eurochannel’s 6th Short Film Tour at the AF Center\, Southbury on September 25 starting at 7:00 pm. All short films\, ranging from 5 to 30 minutes\, have the theme of “Youth in Europe” and are shown in their original version with English subtitles. \nFree and open to the public\, Program 6: “Runaways” – will feature films from Sweden\, Portugal\, Netherlands\, Italy\, Belgium\, Italy And Germany (see details below.) \nAll Programs are free.  Gather your friends and family and come discover Europe\, visit its countries and listen to all its languages… \nRSVP IS REQUESTED FOR EACH PROGRAM. Please call 203-707-0710\n \nThe Southbury Film Commission’s mission is to market the town of Southbury as a filming destination by promoting local professionals and support services. For more information\, please go to: www.southburyfilm.org \n\n\n\nPROGRAM 6\nTHE RUNAWAYS\n\n\n\n\nSWEDEN: Gothenburg\nEating Lunch\n13\nDrama\n\n\nPORTUGAL\nGypsy\n18\nDrama\, Thriller\n\n\nNETHERLANDS: Amsterdam\nSmall\n6\nDrama\n\n\nITALY\nMargerita\n15\nDrama\, Romance\n\n\nSWEDEN: Stockholm\nA Jump\n6\nDrama\n\n\nBELGIUM: Wallonia\nGalia\n15\nDrama\n\n\nITALY: Torino\nChlorine\n12\nDrama\n\n\nGERMANY: Frankfurt\nTransient\n11\nDrama\n\n\n\nAs part of this Short Film Festival\,  other Programs will be shown on October 23 and November 8.\n \nEurochannel (www.eurochannel.com) is the award winning television channel featuring premium European entertainment with the biggest stars. Eurochannel presents only top-of-the-line European programming from recent blockbusters to critically acclaimed TV series. Experience Europe on Eurochannel through cinematic adventure\, humor\, history and entertainment. Eurochannel is available on Sling International. To stay up to date on our latest programming\, like us on Facebook (www.facebook.com/Eurochannel) and like us on Twitter (www.twitter.com/Eurochannel).
URL:https://afnwct.org/event/runaways-short-films-festival-program/
CATEGORIES:Ciné-Club
ATTACH;FMTTYPE=image/jpeg:https://afnwct.org/wp-content/uploads/2015/08/Galia_1.jpg
END:VEVENT
BEGIN:VEVENT
DTSTART;TZID=America/New_York:20150917T183000
DTEND;TZID=America/New_York:20150917T210000
DTSTAMP:20260423T213801
CREATED:20150807T151148Z
LAST-MODIFIED:20150909T200443Z
UID:37315-1442514600-1442523600@afnwct.org
SUMMARY:"Young at Heart " Short Films Festival Program
DESCRIPTION:In collaboration with the Southbury Film Commission\, the Alliance Francaise of NW CT continues its Short Film Festival with Program 4 of Eurochannel’s 6th Short Film Tour at the Southbury Public Library on September 17 starting at 6:30 pm. All short films\, ranging from 5 to 30 minutes\, have the theme of “Youth in Europe” and are shown in their original version with English subtitles. \nFree and open to the public\, Program 4: “Young at Heart” – will feature two films from France plus films from Austria\, UK: Wales\, Spain: Andalusia\, Slovenia and Greece (see details below.) \nAll Programs are free.  Gather your friends and family and come discover Europe\, visit its countries and listen to all its languages… \nRSVP IS REQUESTED FOR EACH PROGRAM. Please call 203-707-0710\n \nThe Southbury Film Commission’s mission is to market the town of Southbury as a filming destination by promoting local professionals and support services. For more information\, please go to: www.southburyfilm.org \n\n\n\nPROGRAM 4\nYOUNG AT HEART\n\n\n\n\nAUSTRIA\nAlbatrosses\n13\nDrama\n\n\nUK: Wales\nWelcome Home Emma-Rose\n16\nDrama\n\n\nSPAIN: Andalusia\nCaipirinhas in Ipanema\n7\nComedy\, Romance\n\n\nFRANCE: Jura\nThe Last Trip of Emile\n30\nComedy\n\n\nSLOVENIA\nMorning\n13\nDrama\n\n\nGREECE\nJesus Stopped at Gyzi\n11\nDrama\n\n\nFRANCE: Franche Comté\nThe Anvil\n16\nComedy\n\n\n\n*Eurochannel (www.eurochannel.com) is the award winning television channel featuring premium European entertainment with the biggest stars. Eurochannel presents only top-of-the-line European programming from recent blockbusters to critically acclaimed TV series. Experience Europe on Eurochannel through cinematic adventure\, humor\, history and entertainment. Eurochannel is available on Sling International. To stay up to date on our latest programming\, like us on Facebook (www.facebook.com/Eurochannel) and like us on Twitter (www.twitter.com/Eurochannel). \n\n\nAs part of this Short Film Festival\,  other Programs will be shown on September 25\, October 23 and November 8.
URL:https://afnwct.org/event/young-at-heart-short-films-festival-program-630-pm/
LOCATION:Southbury Public Library\, 100 Poverty Rd.\, Southbury\, CT\, 06488\, United States
CATEGORIES:aaHomePage,Ciné-Club
ATTACH;FMTTYPE=image/jpeg:https://afnwct.org/wp-content/uploads/2015/08/Anvil_1.jpg
END:VEVENT
BEGIN:VEVENT
DTSTART;TZID=America/New_York:20150916T120000
DTEND;TZID=America/New_York:20150916T133000
DTSTAMP:20260423T213801
CREATED:20150823T204308Z
LAST-MODIFIED:20150902T210429Z
UID:37350-1442404800-1442410200@afnwct.org
SUMMARY:Ciné-Club des Jeunes - Wednesday 12-1:30pm
DESCRIPTION:Bring your lunch and come watch this 50 min. televised version of the famous Belgian comic strip series “Les Aventures de Tin-Tin” from 12:00 – 1:30 pm. We’ll introduce you to the characters\, and go over some vocabulary before watching the movie since the movie is in French and there are no subtitles. \nKnown to fans of Tin-tin by his pen-name of Hergé\,  Belgian author Georges Prosper Remi’s comic strip artwork and style is said to have developed from his love of the films of Charlie Chaplin and Buster Keaton and such stories as Huckleberry Finn\, Treasure Island\, Robinson Crusoe as well as the novels of Frenchman Alexandre Dumas (The Three Musketeers). \nIn this episode\, titled “Le Temple du Soleil”\, Tintin\, a Belgian boy reporter\, and his white fox terrier\, named Milou\, travel to Peru to help rescue a missing professor of archaeology. \nRSVP is kindly requested by calling (203) 707-0710.
URL:https://afnwct.org/event/drop-in-activity-program-wednesdays-12-130pm-3/
CATEGORIES:Ciné-Club
END:VEVENT
BEGIN:VEVENT
DTSTART;TZID=America/New_York:20150828T143000
DTEND;TZID=America/New_York:20150828T163000
DTSTAMP:20260423T213801
CREATED:20150714T221223Z
LAST-MODIFIED:20150807T153206Z
UID:37251-1440772200-1440779400@afnwct.org
SUMMARY:Eurochannel's Short Films - "Outsiders" Program 2
DESCRIPTION:In collaboration with the Southbury Film Commission\, the Alliance Francaise of NW CT is proud to present the 2nd Program of Eurochannel’s 6th Short Film Tour at our AF Center in Southbury on Friday\, August 28 at 2:30 pm. All short films\, ranging from 5 to 30 minutes\, have the theme of “Youth in Europe” and are shown in their original version with English subtitles. \nFree and open to the public\, Program 2: “Outsiders” – will feature films from France\, Belgium\, Romania\, Switzerland and Spain (see details below.) \nAll Programs are free\, so gather your friends and family and come discover Europe\, visit its countries and listen to all its languages… \nRSVP IS REQUESTED FOR EACH PROGRAM. Please call 203-707-0710 \nWe will also be showing other Programs from this series on September 17 and 25\, October 9 and 23 and November 8.\n \nThe Southbury Film Commission’s mission is to market the town of Southbury as a filming destination by promoting local professionals and support services. For more information\, please go to: www.southburyfilm.org \n\n\n\nPROGRAM 2\nOUTSIDERS\n\n\n\n\nBELGIUM: Wallonia\nZinneke\n20\nAdventure\n\n\nSWITZERLAND: Geneva\nProra\n23\nRomance\n\n\nROMANIA\nWonderland\n22\nDrama\n\n\nFRANCE: Langue d’Oc-Roussillon\nGabin the Mime Artist\n20\nThriller\n\n\nSPAIN: Almeria\nJacobo\n14\nWar\n\n\nFRANCE: West Indies\nLive\n12\nDrama\n\n\n\n  \nEurochannel\, available on Sling in the US\, is the award-winning television channel featuring premium European entertainment.
URL:https://afnwct.org/event/eurochannels-short-films-program-2-outsiders-230-pm/
CATEGORIES:aaHomePage,Ciné-Club
ATTACH;FMTTYPE=image/png:https://afnwct.org/wp-content/uploads/2015/07/6Eurochannel_Tour_poster_Connecticut_0415-e1436909030754.png
END:VEVENT
BEGIN:VEVENT
DTSTART;TZID=America/New_York:20150818T190000
DTEND;TZID=America/New_York:20150818T210000
DTSTAMP:20260423T213801
CREATED:20150720T231331Z
LAST-MODIFIED:20150804T141024Z
UID:37277-1439924400-1439931600@afnwct.org
SUMMARY:"Dreamers" - Eurochannel's 6th Short Films Tour 7pm
DESCRIPTION:[vc_row][vc_column][vc_column_text]The AFNWCT\, in collaboration with the Southbury Film Commission\, is pleased to present a Short Film Festival from August 18 through November 8. \nMore than 35 short films will be shown from Eurochannel’s 6th Annual Short Films Tour “Youth in Europe” showcasing European culture and cinematographic heritage\, the art of short films\, with a rich programming of productions. Some are as short as 5 minutes and as long as 30 minutes. \nThe kickoff program\, called “DREAMERS\,” will be held at the Southbury Public Library\, on Tuesday August 18 at 7pm.\nIn addition to an 11-minute comedy from France (Indian Ocean) titled “Speed Dating\,” movies from Denmark\, Spain\, Italy\, Sweden and Turkey will be shown. \n\n\n\nPROGRAM 1\nDREAMERS\nMin.\nType\n\n\nDENMARK\nQueen for a Day\n13\nComedy\n\n\nSPAIN: Madrid\nEphermereal\n18\nAdventure\n\n\nITALY: Bologna\nMathilde\n9\nComedy\n\n\nSWEDEN\nAbrupt\n8\nDrama\n\n\nFRANCE: Indian Ocean\nSpeed Dating\n11\nComedy\n\n\nTURKEY\nBlue Uniform\n12\nDrama\n\n\nHUNGARY\nCoda\n13\nDrama\n\n\n\nEach film is shown in its original language with English subtitiles. \nALL PROGRAMS ARE OPEN TO THE PUBLIC WITH FREE ADMISSION. We kindly request you RSVP by calling 203-707-0710 with your name and the number of people attending. \n                  \n[/vc_column_text][/vc_column][/vc_row][vc_row margin_top=”0″ margin_bottom=”0″ full_width=”” padding_left=”0″ padding_right=”0″ animation=”” type=”” bg_color=”” bg_position=”top” bg_repeat=”no-repeat” bg_cover=”false” bg_attachment=”false” padding_top=”0″ padding_bottom=”0″ enable_parallax=”” parallax_speed=”0.1″ bg_video_src_mp4=”” bg_video_src_ogv=”” bg_video_src_webm=”” bg_type=”” parallax_style=”” bg_image_new=”” layer_image=”” bg_image_repeat=”” bg_image_size=”” bg_cstm_size=”” bg_img_attach=”” parallax_sense=”” bg_image_posiiton=”” animation_direction=”” animation_repeat=”” video_url=”” video_url_2=”” u_video_url=”” video_opts=”” video_poster=”” u_start_time=”” u_stop_time=”” viewport_vdo=”” enable_controls=”” bg_override=”” disable_on_mobile_img_parallax=”” parallax_content=”” parallax_content_sense=”” fadeout_row=”” fadeout_start_effect=”” enable_overlay=”” overlay_color=”” overlay_pattern=”” overlay_pattern_opacity=”” overlay_pattern_size=”” overlay_pattern_attachment=”” multi_color_overlay=”” multi_color_overlay_opacity=”” seperator_enable=”” seperator_type=”” seperator_position=”” seperator_shape_size=”” seperator_svg_height=”” seperator_shape_background=”” seperator_shape_border=”” seperator_shape_border_color=”” seperator_shape_border_width=”” icon_type=”” icon=”” icon_size=”” icon_color=”” icon_style=”” icon_color_bg=”” icon_border_style=”” icon_color_border=”” icon_border_size=”” icon_border_radius=”” icon_border_spacing=”” icon_img=”” img_width=”” ult_hide_row=”” ult_hide_row_large_screen=”” ult_hide_row_desktop=”” ult_hide_row_tablet=”” ult_hide_row_tablet_small=”” ult_hide_row_mobile=”” ult_hide_row_mobile_large=””][vc_column width=”1/1″ animation=””][vc_column_text]All the Europe you love is on Eurochannel! Eurochannel is the award winning television channel featuring premium European entertainment with the biggest stars in cinema\, TV and music. Eurochannel is available on Sling in the US. Visit Eurochannel on www.eurochannel.com\, become a fan on Facebook on www.facebook.com/eurochannel and follow them on Twitter on www.twitter.com/eurochannel. \n\n[/vc_column_text][/vc_column][/vc_row]
URL:https://afnwct.org/event/dreamers-eurochannels-6th-short-films-tour-7pm/
LOCATION:Southbury Public Library\, 100 Poverty Rd.\, Southbury\, CT\, 06488\, United States
CATEGORIES:aaHomePage,Ciné-Club,Special
ATTACH;FMTTYPE=image/jpeg:https://afnwct.org/wp-content/uploads/2015/07/6Eurochannel_Tour_poster_Connecticut_0415.jpg
END:VEVENT
BEGIN:VEVENT
DTSTART;TZID=America/New_York:20150626T190000
DTEND;TZID=America/New_York:20150626T203000
DTSTAMP:20260423T213801
CREATED:20150517T211913Z
LAST-MODIFIED:20150601T180652Z
UID:36982-1435345200-1435350600@afnwct.org
SUMMARY:Ciné-Club 7pm
DESCRIPTION:AFTERNOON CINE-CLUB CHANGED TO 7PM!! \nDVD “La Mise a Flot de la Coque”: le 6 juillet 2012\, la reproduction de la frégate Hermione a touché l’eau encore et il y avait une grande fête pour célébrer cet évènement avec des personnages en costume d’époque\, des danseuses\, de la musique ont rythmé le spectacle mis en scène à bord et autour de la frégate pour la parade sur la Charente. Ce DVD intègre 1h30 de direct de la Mise à Flot de L’Hermione et 30 minutes de reportage sur les coulisses de l’évènement.
URL:https://afnwct.org/event/cine-club-tbd-200pm/
CATEGORIES:Ciné-Club
ATTACH;FMTTYPE=image/jpeg:https://afnwct.org/wp-content/uploads/2015/05/Hermione.jpg
END:VEVENT
BEGIN:VEVENT
DTSTART;TZID=America/New_York:20150522T143000
DTEND;TZID=America/New_York:20150522T160000
DTSTAMP:20260423T213801
CREATED:20150131T012255Z
LAST-MODIFIED:20150517T220858Z
UID:36134-1432305000-1432310400@afnwct.org
SUMMARY:Ciné-Club 2:30 pm
DESCRIPTION:Mia (Erica Kathleen Linz) is a young woman seeking escape. She enters a circus tent and falls instantly in love with an aerialist (Igor Zaripov) that she sees performing. But when their eyes meet\, he slips and falls\, dragging Mia with him into another world. Mia and the aerialist become separated and travel in a place that exists between life and death to find each other again. \nThis movie is not in French but visionary filmmaker James Cameron and director Andrew Adamson (Shrek\, Narnia) invite you on an all new adventure of astonishing acrobatic performances.
URL:https://afnwct.org/event/cine-club-tbd-230pm/
CATEGORIES:Ciné-Club
END:VEVENT
BEGIN:VEVENT
DTSTART;TZID=America/New_York:20150510T140000
DTEND;TZID=America/New_York:20150510T160000
DTSTAMP:20260423T213801
CREATED:20150130T233105Z
LAST-MODIFIED:20150218T204136Z
UID:36115-1431266400-1431273600@afnwct.org
SUMMARY:Ciné-Club "TBD" 2:00pm
DESCRIPTION:MOVIE TO BE DETERMINED
URL:https://afnwct.org/event/cine-club-tbd-2pm-2/
CATEGORIES:Ciné-Club
END:VEVENT
BEGIN:VEVENT
DTSTART;TZID=America/New_York:20150424T143000
DTEND;TZID=America/New_York:20150424T160000
DTSTAMP:20260423T213801
CREATED:20150131T023050Z
LAST-MODIFIED:20150218T204136Z
UID:36135-1429885800-1429891200@afnwct.org
SUMMARY:Ciné-Club "Planet Ocean" 2:30pm
DESCRIPTION:In alignment with Earth Day\, dive into our planet’s greatest mysteries with a team of international underwater cinematographers as they explore the breathtaking bond between humanity and the ocean. A discussion regarding the environment and what we need to do to sustain it will follow. \nAFNWCT Members attend for free; A suggested donation of $5 for others.
URL:https://afnwct.org/event/cine-club-planet-ocean-230pm/
CATEGORIES:Ciné-Club
END:VEVENT
BEGIN:VEVENT
DTSTART;TZID=America/New_York:20150412T140000
DTEND;TZID=America/New_York:20150412T160000
DTSTAMP:20260423T213801
CREATED:20150130T232938Z
LAST-MODIFIED:20150410T171320Z
UID:36114-1428847200-1428854400@afnwct.org
SUMMARY:Ciné-Club - Les Petits Mouchoirs  2:00pm
DESCRIPTION:Les Petits Mouchoirs “Little White Lies” starring Marion Cotillard. After a traumatic event\, friends go on a beach vacation where their relationships are sorely tested as they are forced to admit the little lies they have been telling one another. \nAFNWCT Members attend for free; A suggested donation of $5 for others.
URL:https://afnwct.org/event/cine-club-tbd-2pm/
CATEGORIES:Ciné-Club
END:VEVENT
BEGIN:VEVENT
DTSTART;TZID=America/New_York:20150327T140000
DTEND;TZID=America/New_York:20150327T160000
DTSTAMP:20260423T213801
CREATED:20150131T023651Z
LAST-MODIFIED:20150218T204755Z
UID:36138-1427464800-1427472000@afnwct.org
SUMMARY:Ciné-Club "Les Petits Mouchoirs" 2:00pm
DESCRIPTION:Les Petits Mouchoirs “Little White Lies” starring Marion Cotillard. After a traumatic event\, friends go on a beach vacation where their relationships are sorely tested as they are forced to admit the little lies they have been telling one another. \nAFNWCT Members attend for free; A suggested donation of $5 for others.
URL:https://afnwct.org/event/cine-club-les-petits-mouchoirs-230pm/
CATEGORIES:Ciné-Club
END:VEVENT
BEGIN:VEVENT
DTSTART;TZID=America/New_York:20150308T140000
DTEND;TZID=America/New_York:20150308T160000
DTSTAMP:20260423T213801
CREATED:20150102T011643Z
LAST-MODIFIED:20150218T210324Z
UID:35557-1425823200-1425830400@afnwct.org
SUMMARY:Ciné-Club "Monsieur Lazhar" 2:00pm
DESCRIPTION:Showing “Monsieur Lahzar\,” The story of an Algerian emigrant who takes over a Canadian 4th grade classroom after the teacher’s tragic death. \nAFNWCT Members attend for free; A suggested donation of $5 for others.
URL:https://afnwct.org/event/cine-club-monsieur-lazhar/
CATEGORIES:Ciné-Club
END:VEVENT
BEGIN:VEVENT
DTSTART;TZID=America/New_York:20150227T143000
DTEND;TZID=America/New_York:20150227T160000
DTSTAMP:20260423T213801
CREATED:20150131T001952Z
LAST-MODIFIED:20150218T210324Z
UID:36127-1425047400-1425052800@afnwct.org
SUMMARY:Ciné-Club "Monsieur Lazhar" 2:30pm
DESCRIPTION:Showing “Monsieur Lahzar\,” The story of an Algerian emigrant who takes over a Canadian 4th grade classroom after the teacher’s tragic death. \nAFNWCT Members attend for free; A suggested donation of $5 for others.
URL:https://afnwct.org/event/cine-club-monsieur-lazhar-230pm/
CATEGORIES:Ciné-Club
END:VEVENT
BEGIN:VEVENT
DTSTART;TZID=America/New_York:20150208T140000
DTEND;TZID=America/New_York:20150208T160000
DTSTAMP:20260423T213801
CREATED:20150130T231715Z
LAST-MODIFIED:20150202T151104Z
UID:36109-1423404000-1423411200@afnwct.org
SUMMARY:Ciné-Club “Vatel” 2:00pm
DESCRIPTION:Member and film expert Carol Donahue will introduce this movie directed by Roland Joffé. Based on the life of 17th-century French chef François Vatel who\, in spite of being of low birth\, is the challenge of designing the magnificent period costumes! \nAFNWCT Members attend for free; A suggested donation of $5 for others.
URL:https://afnwct.org/event/cine-club-vatel-2pm/
CATEGORIES:Ciné-Club
END:VEVENT
END:VCALENDAR