BEGIN:VCALENDAR
VERSION:2.0
PRODID:-//Alliance Francaise of NW CT - ECPv6.15.11//NONSGML v1.0//EN
CALSCALE:GREGORIAN
METHOD:PUBLISH
X-ORIGINAL-URL:https://afnwct.org
X-WR-CALDESC:Events for Alliance Francaise of NW CT
REFRESH-INTERVAL;VALUE=DURATION:PT1H
X-Robots-Tag:noindex
X-PUBLISHED-TTL:PT1H
BEGIN:VTIMEZONE
TZID:America/New_York
BEGIN:DAYLIGHT
TZOFFSETFROM:-0500
TZOFFSETTO:-0400
TZNAME:EDT
DTSTART:20180311T070000
END:DAYLIGHT
BEGIN:STANDARD
TZOFFSETFROM:-0400
TZOFFSETTO:-0500
TZNAME:EST
DTSTART:20181104T060000
END:STANDARD
BEGIN:DAYLIGHT
TZOFFSETFROM:-0500
TZOFFSETTO:-0400
TZNAME:EDT
DTSTART:20190310T070000
END:DAYLIGHT
BEGIN:STANDARD
TZOFFSETFROM:-0400
TZOFFSETTO:-0500
TZNAME:EST
DTSTART:20191103T060000
END:STANDARD
BEGIN:DAYLIGHT
TZOFFSETFROM:-0500
TZOFFSETTO:-0400
TZNAME:EDT
DTSTART:20200308T070000
END:DAYLIGHT
BEGIN:STANDARD
TZOFFSETFROM:-0400
TZOFFSETTO:-0500
TZNAME:EST
DTSTART:20201101T060000
END:STANDARD
BEGIN:DAYLIGHT
TZOFFSETFROM:-0500
TZOFFSETTO:-0400
TZNAME:EDT
DTSTART:20210314T070000
END:DAYLIGHT
BEGIN:STANDARD
TZOFFSETFROM:-0400
TZOFFSETTO:-0500
TZNAME:EST
DTSTART:20211107T060000
END:STANDARD
BEGIN:DAYLIGHT
TZOFFSETFROM:-0500
TZOFFSETTO:-0400
TZNAME:EDT
DTSTART:20220313T070000
END:DAYLIGHT
BEGIN:STANDARD
TZOFFSETFROM:-0400
TZOFFSETTO:-0500
TZNAME:EST
DTSTART:20221106T060000
END:STANDARD
END:VTIMEZONE
BEGIN:VEVENT
DTSTART;TZID=America/New_York:20211016T190000
DTEND;TZID=America/New_York:20211016T210000
DTSTAMP:20260423T182849
CREATED:20210822T195932Z
LAST-MODIFIED:20210822T195932Z
UID:41782-1634410800-1634418000@afnwct.org
SUMMARY:Appreciation de La Chanson Francaise et Quebecoise
DESCRIPTION:Appreciation de la Chanson Francaise et Quebecoise will be Saturday\, October 16th at 7pm at the AF Center.\nJoin Anne Quinson and Gilles Rousseau with singing familiar tunes from France and Quebec. \nDonations are encouraged for refreshments. \nRSVP by October 13th at 203-707-0710.
URL:https://afnwct.org/event/appreciation-de-la-chanson-francaise-et-quebecoise/
LOCATION:AF Center\, One Pomperaug Office Park\, Suite 301\, Southbury\, CT\, 06488\, United States
CATEGORIES:aaHomePage,Concert
ATTACH;FMTTYPE=image/jpeg:https://afnwct.org/wp-content/uploads/2019/04/Quebecois-flag.jpg
END:VEVENT
BEGIN:VEVENT
DTSTART;TZID=America/New_York:20200411T140000
DTEND;TZID=America/New_York:20200411T170000
DTSTAMP:20260423T182849
CREATED:20200225T203928Z
LAST-MODIFIED:20200225T203928Z
UID:41520-1586613600-1586624400@afnwct.org
SUMMARY:An American in Paris
DESCRIPTION:We will be attending a limited run of this recent stage musical adaptation of the film “An American in Paris“. \nJoin us for a wonderful afternoon at the Palace Theater in Waterbury. \nAn American in Paris at The Palace Theater\, April 10-11\, 2020
URL:https://afnwct.org/event/an-american-in-paris/
LOCATION:The Palace Theater\, 100 East Main Street\, Waterbury\, CT\, 06702\, United States
CATEGORIES:aaHomePage,Concert,Special
ATTACH;FMTTYPE=image/jpeg:https://afnwct.org/wp-content/uploads/2020/02/An-American-in-Paris_Musical_credit_OnStage-Blog.jpg
END:VEVENT
BEGIN:VEVENT
DTSTART;TZID=America/New_York:20191103T150000
DTEND;TZID=America/New_York:20191103T170000
DTSTAMP:20260423T182849
CREATED:20191019T201058Z
LAST-MODIFIED:20191019T202116Z
UID:41291-1572793200-1572800400@afnwct.org
SUMMARY:Musique Francaise at Leroy Anderson House in Woodbury
DESCRIPTION:“Musique Française\,” a program of French concert music and chansons\, will be presented at the Leroy Anderson House in Woodbury\, on Sunday\, November 3rd at 3 p.m. Performers include Rebecca N esmith\, soprano; Jennifer Anthony-Bogue\, flutist; Joseph Darcourt\, cellist and Susan Anthony-Klein\, pianist. They will perform works by Hector Berlioz\, Charles Gounod and Jules Massenet. \nThe concert is free\, seating is limited and reservations are required.  Please call the Alliance to make your reservations at 203-707-0710 by October 20th or email.  The Leroy Anderson House is located at 33 Grassy Hill Road\, Woodbury. \nRebecca Nesmith\, soprano\, studied and performed at the Metropolitan Opera and has performed worldwide in major operatic roles.  She has also performed locally with the CT Choral Society\, Litchfield Hills Opera Ensemble and the Heritage Singers. \nJennifer Anthony-Bogue\, flutist\, has performed with the Naugatuck Community Choir\, Newtown Choir and Salem Covenant Church in Washington. \nJoseph Darcourt is a pre-college student of cello at the Juilliard School in New York City.  He had his debut at Carnegie Hall in 2019. He took first place in the American Protégé competition in NYC in May 2019. \nSusan Anthony-Klein was the music director at Salem Covenant Church in Washington for 28 years.  She is the accompanist for the Naugatuck Community Choir\, the Newtown Choral Society and the Ridgefield Chorale.  Earlier in her career\, Susan was the accompanist for the St. Cecilia Chorus in New York City under the direction of David Randolph.  She performed with that group a total of seven times at Carnegie Hall including major choral works of Bach\, Haydn and Orff.  Susan toured throughout the United States with the Norman Luboff Choir and the Robert deCormier Singers. \nThe Leroy Anderson House is the former home of composer Leroy Anderson and his wife Eleanor Anderson.  On the National Register of Historic Places\, this historic house museum and surrounding land are owned by the Leroy Anderson Foundation.
URL:https://afnwct.org/event/musique-francaise-at-leroy-anderson-house-in-woodbury/
LOCATION:The Leroy Anderson House\, 33 Grassy Hill Rd.\, Woodbury\, CT\, 06798\, United States
CATEGORIES:aaHomePage,Concert,Special
ATTACH;FMTTYPE=image/jpeg:https://afnwct.org/wp-content/uploads/2019/10/Chamber-Music_City-of-Prescott-AZ.jpg
END:VEVENT
BEGIN:VEVENT
DTSTART;TZID=America/New_York:20190908T140000
DTEND;TZID=America/New_York:20190908T160000
DTSTAMP:20260423T182849
CREATED:20190906T215013Z
LAST-MODIFIED:20190906T215013Z
UID:41249-1567951200-1567958400@afnwct.org
SUMMARY:Concert by Josee Vachon
DESCRIPTION:Continue the celebration by joining us at St. Anne Shrine Hall in Waterbury by attending the concert by Josée Vachon. She will entertain us with traditional songs inspired by her Québécois roots. \nA donation of $20 will benefit the church in its restoration campaign.
URL:https://afnwct.org/event/concert-by-josee-vachon/
LOCATION:St. Anne’s Shrine\, Waterbury\, 515 South Main St.\, Waterbury\, CT\, 06706
CATEGORIES:aaHomePage,Concert
ATTACH;FMTTYPE=image/jpeg:https://afnwct.org/wp-content/uploads/2018/07/St.-Annes-Cathedral_Waterbury.jpg
END:VEVENT
END:VCALENDAR