BEGIN:VCALENDAR
VERSION:2.0
PRODID:-//Alliance Francaise of NW CT - ECPv6.15.11//NONSGML v1.0//EN
CALSCALE:GREGORIAN
METHOD:PUBLISH
X-ORIGINAL-URL:https://afnwct.org
X-WR-CALDESC:Events for Alliance Francaise of NW CT
REFRESH-INTERVAL;VALUE=DURATION:PT1H
X-Robots-Tag:noindex
X-PUBLISHED-TTL:PT1H
BEGIN:VTIMEZONE
TZID:America/New_York
BEGIN:DAYLIGHT
TZOFFSETFROM:-0500
TZOFFSETTO:-0400
TZNAME:EDT
DTSTART:20220313T070000
END:DAYLIGHT
BEGIN:STANDARD
TZOFFSETFROM:-0400
TZOFFSETTO:-0500
TZNAME:EST
DTSTART:20221106T060000
END:STANDARD
BEGIN:DAYLIGHT
TZOFFSETFROM:-0500
TZOFFSETTO:-0400
TZNAME:EDT
DTSTART:20230312T070000
END:DAYLIGHT
BEGIN:STANDARD
TZOFFSETFROM:-0400
TZOFFSETTO:-0500
TZNAME:EST
DTSTART:20231105T060000
END:STANDARD
BEGIN:DAYLIGHT
TZOFFSETFROM:-0500
TZOFFSETTO:-0400
TZNAME:EDT
DTSTART:20240310T070000
END:DAYLIGHT
BEGIN:STANDARD
TZOFFSETFROM:-0400
TZOFFSETTO:-0500
TZNAME:EST
DTSTART:20241103T060000
END:STANDARD
END:VTIMEZONE
BEGIN:VEVENT
DTSTART;TZID=America/New_York:20231217T123000
DTEND;TZID=America/New_York:20231217T143000
DTSTAMP:20260425T225409
CREATED:20230823T140326Z
LAST-MODIFIED:20230823T144759Z
UID:43325-1702816200-1702823400@afnwct.org
SUMMARY:La fête de Noël
DESCRIPTION:Festive all-inclusive holiday luncheon at the beautiful home of member couple in Southbury. \nOnce you register and pay\, we will send you the address of the host.\nPlease register no later than December 10\, 2023. \nPay by Check\n$40 individuals\n$75 per couple \nMake checks payable to AFNWCT and indicate event name.\nSend checks to AFNWCT: One Pomperaug Office Park\, Suite 301 • Southbury\, CT 06488 \nPay by PayPal\n \n\n  \n   \n\n\n\n        \n        La fête de Noël\n      \n\n\n\n        \n            Single $45.00 USD\n          \n            Couple $80.00 USD\n          \n      \n\n\n\n        \n        Attendee's Name/s\n      \n\n\n\n        \n      \n\n\n\n        \n        Email
URL:https://afnwct.org/event/la-fete-de-noel/
LOCATION:Southbury Residence\, CT\, United States
CATEGORIES:Fete de Noel
END:VEVENT
END:VCALENDAR