BEGIN:VCALENDAR
VERSION:2.0
PRODID:-//Alliance Francaise of NW CT - ECPv6.15.11//NONSGML v1.0//EN
CALSCALE:GREGORIAN
METHOD:PUBLISH
X-WR-CALNAME:Alliance Francaise of NW CT
X-ORIGINAL-URL:https://afnwct.org
X-WR-CALDESC:Events for Alliance Francaise of NW CT
REFRESH-INTERVAL;VALUE=DURATION:PT1H
X-Robots-Tag:noindex
X-PUBLISHED-TTL:PT1H
BEGIN:VTIMEZONE
TZID:America/New_York
BEGIN:DAYLIGHT
TZOFFSETFROM:-0500
TZOFFSETTO:-0400
TZNAME:EDT
DTSTART:20230312T070000
END:DAYLIGHT
BEGIN:STANDARD
TZOFFSETFROM:-0400
TZOFFSETTO:-0500
TZNAME:EST
DTSTART:20231105T060000
END:STANDARD
BEGIN:DAYLIGHT
TZOFFSETFROM:-0500
TZOFFSETTO:-0400
TZNAME:EDT
DTSTART:20240310T070000
END:DAYLIGHT
BEGIN:STANDARD
TZOFFSETFROM:-0400
TZOFFSETTO:-0500
TZNAME:EST
DTSTART:20241103T060000
END:STANDARD
BEGIN:DAYLIGHT
TZOFFSETFROM:-0500
TZOFFSETTO:-0400
TZNAME:EDT
DTSTART:20250309T070000
END:DAYLIGHT
BEGIN:STANDARD
TZOFFSETFROM:-0400
TZOFFSETTO:-0500
TZNAME:EST
DTSTART:20251102T060000
END:STANDARD
END:VTIMEZONE
BEGIN:VEVENT
DTSTART;TZID=America/New_York:20240310T140000
DTEND;TZID=America/New_York:20240310T170000
DTSTAMP:20260425T150745
CREATED:20231229T214228Z
LAST-MODIFIED:20231229T214319Z
UID:43593-1710079200-1710090000@afnwct.org
SUMMARY:Barn Dance with Live French Music
DESCRIPTION:Live music! Get ready to dance or just tap your feet. Accordion and violin will play French favorites and French folk dance music by the Rachel Bell Music group. BYOB and snacks.   \nRSVP & pay by March 4. \nPay by Check\n$25 individual \nMake checks payable to AFNWCT and indicate event name.\nSend checks to AFNWCT: One Pomperaug Office Park\, Suite 301 • Southbury\, CT 06488 \nPay by PayPal \n \n\n  \n   \n\n\n\n        \n        Barn Dance with Live French Music\n      \n\n\n\n        \n            Single $25.00 USD\n          \n      \n\n\n\n        \n        Name\n      \n\n\n\n        \n      \n\n\n\n        \n        Email
URL:https://afnwct.org/event/la-fete-de-noel-2-2-2/
CATEGORIES:Fete de Noel
END:VEVENT
END:VCALENDAR