BEGIN:VCALENDAR
VERSION:2.0
PRODID:-//Alliance Francaise of NW CT - ECPv6.15.11//NONSGML v1.0//EN
CALSCALE:GREGORIAN
METHOD:PUBLISH
X-WR-CALNAME:Alliance Francaise of NW CT
X-ORIGINAL-URL:https://afnwct.org
X-WR-CALDESC:Events for Alliance Francaise of NW CT
REFRESH-INTERVAL;VALUE=DURATION:PT1H
X-Robots-Tag:noindex
X-PUBLISHED-TTL:PT1H
BEGIN:VTIMEZONE
TZID:America/New_York
BEGIN:DAYLIGHT
TZOFFSETFROM:-0500
TZOFFSETTO:-0400
TZNAME:EDT
DTSTART:20140309T070000
END:DAYLIGHT
BEGIN:STANDARD
TZOFFSETFROM:-0400
TZOFFSETTO:-0500
TZNAME:EST
DTSTART:20141102T060000
END:STANDARD
BEGIN:DAYLIGHT
TZOFFSETFROM:-0500
TZOFFSETTO:-0400
TZNAME:EDT
DTSTART:20150308T070000
END:DAYLIGHT
BEGIN:STANDARD
TZOFFSETFROM:-0400
TZOFFSETTO:-0500
TZNAME:EST
DTSTART:20151101T060000
END:STANDARD
BEGIN:DAYLIGHT
TZOFFSETFROM:-0500
TZOFFSETTO:-0400
TZNAME:EDT
DTSTART:20160313T070000
END:DAYLIGHT
BEGIN:STANDARD
TZOFFSETFROM:-0400
TZOFFSETTO:-0500
TZNAME:EST
DTSTART:20161106T060000
END:STANDARD
BEGIN:DAYLIGHT
TZOFFSETFROM:-0500
TZOFFSETTO:-0400
TZNAME:EDT
DTSTART:20170312T070000
END:DAYLIGHT
BEGIN:STANDARD
TZOFFSETFROM:-0400
TZOFFSETTO:-0500
TZNAME:EST
DTSTART:20171105T060000
END:STANDARD
BEGIN:DAYLIGHT
TZOFFSETFROM:-0500
TZOFFSETTO:-0400
TZNAME:EDT
DTSTART:20180311T070000
END:DAYLIGHT
BEGIN:STANDARD
TZOFFSETFROM:-0400
TZOFFSETTO:-0500
TZNAME:EST
DTSTART:20181104T060000
END:STANDARD
BEGIN:DAYLIGHT
TZOFFSETFROM:-0500
TZOFFSETTO:-0400
TZNAME:EDT
DTSTART:20190310T070000
END:DAYLIGHT
BEGIN:STANDARD
TZOFFSETFROM:-0400
TZOFFSETTO:-0500
TZNAME:EST
DTSTART:20191103T060000
END:STANDARD
END:VTIMEZONE
BEGIN:VEVENT
DTSTART;TZID=America/New_York:20180719T183000
DTEND;TZID=America/New_York:20180719T200000
DTSTAMP:20260423T224539
CREATED:20180521T211549Z
LAST-MODIFIED:20180521T211549Z
UID:40300-1532025000-1532030400@afnwct.org
SUMMARY:Parlons Francais
DESCRIPTION:The Thursday evening Parlons Français Back to Basics meets tonight at the Brookfield Library. \nDesigned for those who have studied French in the past and just want a refresher. \nLed by Colin Harrison\, students use the textbook “Ultimate French – Beginner-Intermediate”. \nWe meet in one of the corners upstairs in the Main Library area. \nPlease register for this event through the Brookfield Library website.
URL:https://afnwct.org/event/parlons-francais-26/
CATEGORIES:aaHomePage,Adults & Teens Class,French Class,Parlons Français
ATTACH;FMTTYPE=image/png:https://afnwct.org/wp-content/uploads/2017/01/france-1177405_1280.png
ORGANIZER;CN="Colin Harrison":MAILTO:cgh260247@aol.com
END:VEVENT
BEGIN:VEVENT
DTSTART;TZID=America/New_York:20180705T183000
DTEND;TZID=America/New_York:20180705T200000
DTSTAMP:20260423T224539
CREATED:20180521T211306Z
LAST-MODIFIED:20180521T211306Z
UID:40298-1530815400-1530820800@afnwct.org
SUMMARY:Parlons Francais
DESCRIPTION:The Thursday evening Parlons Français Back to Basics meets tonight at the Brookfield Library. \nDesigned for those who have studied French in the past and just want a refresher. \nLed by Colin Harrison\, students use the textbook “Ultimate French – Beginner-Intermediate”. \nWe meet in one of the corners upstairs in the Main Library area. \nPlease register for this event through the Brookfield Library website. \n 
URL:https://afnwct.org/event/parlons-francais-25/
CATEGORIES:aaHomePage,Adults & Teens Class,French Class,Parlons Français
ATTACH;FMTTYPE=image/png:https://afnwct.org/wp-content/uploads/2017/01/france-1177405_1280.png
ORGANIZER;CN="Colin Harrison":MAILTO:cgh260247@aol.com
END:VEVENT
BEGIN:VEVENT
DTSTART;TZID=America/New_York:20180217T090000
DTEND;TZID=America/New_York:20180217T103000
DTSTAMP:20260423T224539
CREATED:20180108T194844Z
LAST-MODIFIED:20180108T194844Z
UID:40059-1518858000-1518863400@afnwct.org
SUMMARY:Conversational French for Travelers
DESCRIPTION:
URL:https://afnwct.org/event/conversational-french-for-travelers-16/
CATEGORIES:aaHomePage,Adults & Teens Class,French Class
ATTACH;FMTTYPE=image/jpeg:https://afnwct.org/wp-content/uploads/2016/03/French-SpeakingNations.jpg
END:VEVENT
BEGIN:VEVENT
DTSTART;TZID=America/New_York:20180210T090000
DTEND;TZID=America/New_York:20180210T223000
DTSTAMP:20260423T224539
CREATED:20180108T194427Z
LAST-MODIFIED:20180108T194427Z
UID:40057-1518253200-1518301800@afnwct.org
SUMMARY:Conversational French for Travelers
DESCRIPTION:
URL:https://afnwct.org/event/conversational-french-for-travelers-15/
CATEGORIES:aaHomePage,Adults & Teens Class,French Class,French Discussion Group
ATTACH;FMTTYPE=image/jpeg:https://afnwct.org/wp-content/uploads/2016/03/French-SpeakingNations.jpg
END:VEVENT
BEGIN:VEVENT
DTSTART;TZID=America/New_York:20180203T090000
DTEND;TZID=America/New_York:20180203T103000
DTSTAMP:20260423T224539
CREATED:20180108T191732Z
LAST-MODIFIED:20180108T191732Z
UID:40051-1517648400-1517653800@afnwct.org
SUMMARY:Conversational French for Travelers
DESCRIPTION:
URL:https://afnwct.org/event/conversational-french-for-travelers-14/
CATEGORIES:aaHomePage,Adults & Teens Class,French Class
ATTACH;FMTTYPE=image/jpeg:https://afnwct.org/wp-content/uploads/2016/03/French-SpeakingNations.jpg
END:VEVENT
BEGIN:VEVENT
DTSTART;TZID=America/New_York:20151012T190000
DTEND;TZID=America/New_York:20151012T203000
DTSTAMP:20260423T224539
CREATED:20150914T131923Z
LAST-MODIFIED:20150914T131923Z
UID:37420-1444676400-1444681800@afnwct.org
SUMMARY:French 2
DESCRIPTION:Instructor: Mme Rogers
URL:https://afnwct.org/event/french-2-7/
CATEGORIES:Adults & Teens Class
END:VEVENT
BEGIN:VEVENT
DTSTART;TZID=America/New_York:20151008T173000
DTEND;TZID=America/New_York:20151008T183000
DTSTAMP:20260423T224539
CREATED:20150914T133604Z
LAST-MODIFIED:20150914T133604Z
UID:37431-1444325400-1444329000@afnwct.org
SUMMARY:Fr for Travelers
DESCRIPTION:Instructor: Mme Gutierrez
URL:https://afnwct.org/event/fr-for-travelers-4/
CATEGORIES:Adults & Teens Class
END:VEVENT
BEGIN:VEVENT
DTSTART;TZID=America/New_York:20151005T190000
DTEND;TZID=America/New_York:20151005T203000
DTSTAMP:20260423T224539
CREATED:20150914T131827Z
LAST-MODIFIED:20150914T131827Z
UID:37421-1444071600-1444077000@afnwct.org
SUMMARY:French 2
DESCRIPTION:Instructor: Mme Rogers
URL:https://afnwct.org/event/french-2-6/
CATEGORIES:Adults & Teens Class
END:VEVENT
BEGIN:VEVENT
DTSTART;TZID=America/New_York:20151001T173000
DTEND;TZID=America/New_York:20151001T183000
DTSTAMP:20260423T224539
CREATED:20150914T133022Z
LAST-MODIFIED:20150914T133022Z
UID:37426-1443720600-1443724200@afnwct.org
SUMMARY:Fr for Travelers
DESCRIPTION:Instructor: Mme Gutierrez
URL:https://afnwct.org/event/fr-for-travelers-3/
CATEGORIES:Adults & Teens Class
END:VEVENT
BEGIN:VEVENT
DTSTART;TZID=America/New_York:20150928T190000
DTEND;TZID=America/New_York:20150928T203000
DTSTAMP:20260423T224539
CREATED:20150914T131639Z
LAST-MODIFIED:20150914T131639Z
UID:37419-1443466800-1443472200@afnwct.org
SUMMARY:French 2
DESCRIPTION:Instructor: Mme Rogers
URL:https://afnwct.org/event/french-2-5/
CATEGORIES:Adults & Teens Class
END:VEVENT
BEGIN:VEVENT
DTSTART;TZID=America/New_York:20150924T173000
DTEND;TZID=America/New_York:20150924T183000
DTSTAMP:20260423T224539
CREATED:20150914T132922Z
LAST-MODIFIED:20150914T132922Z
UID:37427-1443115800-1443119400@afnwct.org
SUMMARY:Fr for Travelers
DESCRIPTION:Instructor: Mme Gutierrez
URL:https://afnwct.org/event/fr-for-travelers-2/
CATEGORIES:Adults & Teens Class
END:VEVENT
BEGIN:VEVENT
DTSTART;TZID=America/New_York:20150921T190000
DTEND;TZID=America/New_York:20150921T203000
DTSTAMP:20260423T224539
CREATED:20150914T131527Z
LAST-MODIFIED:20150914T131527Z
UID:37418-1442862000-1442867400@afnwct.org
SUMMARY:French 2
DESCRIPTION:Instructor: Mme Rogers
URL:https://afnwct.org/event/french-2-4/
CATEGORIES:Adults & Teens Class
END:VEVENT
BEGIN:VEVENT
DTSTART;TZID=America/New_York:20150917T173000
DTEND;TZID=America/New_York:20150917T183000
DTSTAMP:20260423T224539
CREATED:20150914T132727Z
LAST-MODIFIED:20150914T132727Z
UID:37425-1442511000-1442514600@afnwct.org
SUMMARY:Fr for Travelers
DESCRIPTION:Instructor: Mme Gutierrez
URL:https://afnwct.org/event/fr-for-travelers/
CATEGORIES:Adults & Teens Class
END:VEVENT
BEGIN:VEVENT
DTSTART;TZID=America/New_York:20150914T190000
DTEND;TZID=America/New_York:20150914T203000
DTSTAMP:20260423T224539
CREATED:20150914T131313Z
LAST-MODIFIED:20150914T131313Z
UID:37417-1442257200-1442262600@afnwct.org
SUMMARY:French 2
DESCRIPTION:Instructor: Mme Rogers
URL:https://afnwct.org/event/french-2-3/
CATEGORIES:Adults & Teens Class
END:VEVENT
END:VCALENDAR