BEGIN:VCALENDAR
VERSION:2.0
PRODID:-//Alliance Francaise of NW CT - ECPv6.15.11//NONSGML v1.0//EN
CALSCALE:GREGORIAN
METHOD:PUBLISH
X-WR-CALNAME:Alliance Francaise of NW CT
X-ORIGINAL-URL:https://afnwct.org
X-WR-CALDESC:Events for Alliance Francaise of NW CT
REFRESH-INTERVAL;VALUE=DURATION:PT1H
X-Robots-Tag:noindex
X-PUBLISHED-TTL:PT1H
BEGIN:VTIMEZONE
TZID:America/New_York
BEGIN:DAYLIGHT
TZOFFSETFROM:-0500
TZOFFSETTO:-0400
TZNAME:EDT
DTSTART:20170312T070000
END:DAYLIGHT
BEGIN:STANDARD
TZOFFSETFROM:-0400
TZOFFSETTO:-0500
TZNAME:EST
DTSTART:20171105T060000
END:STANDARD
BEGIN:DAYLIGHT
TZOFFSETFROM:-0500
TZOFFSETTO:-0400
TZNAME:EDT
DTSTART:20180311T070000
END:DAYLIGHT
BEGIN:STANDARD
TZOFFSETFROM:-0400
TZOFFSETTO:-0500
TZNAME:EST
DTSTART:20181104T060000
END:STANDARD
BEGIN:DAYLIGHT
TZOFFSETFROM:-0500
TZOFFSETTO:-0400
TZNAME:EDT
DTSTART:20190310T070000
END:DAYLIGHT
BEGIN:STANDARD
TZOFFSETFROM:-0400
TZOFFSETTO:-0500
TZNAME:EST
DTSTART:20191103T060000
END:STANDARD
END:VTIMEZONE
BEGIN:VEVENT
DTSTART;TZID=America/New_York:20181018T173500
DTEND;TZID=America/New_York:20181018T183500
DTSTAMP:20260424T012540
CREATED:20181003T221242Z
LAST-MODIFIED:20181003T221242Z
UID:40586-1539884100-1539887700@afnwct.org
SUMMARY:Bonjour\, Madame: Beginners\, Ages 3-7
DESCRIPTION:Instructor: Madame Marie-Odile
URL:https://afnwct.org/event/bonjour-madame-beginners-ages-3-7-3/
LOCATION:AF Center\, One Pomperaug Office Park\, Suite 301\, Southbury\, CT\, 06488\, United States
CATEGORIES:aaHomePage,Children's Class,French Class
END:VEVENT
BEGIN:VEVENT
DTSTART;TZID=America/New_York:20181018T163000
DTEND;TZID=America/New_York:20181018T173000
DTSTAMP:20260424T012540
CREATED:20181003T221057Z
LAST-MODIFIED:20181003T221057Z
UID:40584-1539880200-1539883800@afnwct.org
SUMMARY:Les Achats en Ville: 4A\, Ages 3-7
DESCRIPTION:Instructor: Madame Marie-Odile
URL:https://afnwct.org/event/les-achats-en-ville-4a-ages-3-7-3/
LOCATION:AF Center\, One Pomperaug Office Park\, Suite 301\, Southbury\, CT\, 06488\, United States
CATEGORIES:aaHomePage,Children's Class,French Class
END:VEVENT
BEGIN:VEVENT
DTSTART;TZID=America/New_York:20181017T183000
DTEND;TZID=America/New_York:20181017T200000
DTSTAMP:20260424T012540
CREATED:20181003T215101Z
LAST-MODIFIED:20181003T215101Z
UID:40566-1539801000-1539806400@afnwct.org
SUMMARY:Advanced Beginners\, A2-A\, Adult class
DESCRIPTION:Instructor: Joanne Hutchings
URL:https://afnwct.org/event/advanced-beginners-a2-a-adult-class-3/
LOCATION:AF Center\, One Pomperaug Office Park\, Suite 301\, Southbury\, CT\, 06488\, United States
CATEGORIES:aaHomePage,Adult Class,French Class
END:VEVENT
BEGIN:VEVENT
DTSTART;TZID=America/New_York:20181017T150000
DTEND;TZID=America/New_York:20181017T163000
DTSTAMP:20260424T012540
CREATED:20181003T214933Z
LAST-MODIFIED:20181003T214933Z
UID:40564-1539788400-1539793800@afnwct.org
SUMMARY:Beginners\, A1-B\, Adult class
DESCRIPTION:Instructor: Joanne Hutchings
URL:https://afnwct.org/event/beginners-a1-b-adult-class-3/
LOCATION:AF Center\, One Pomperaug Office Park\, Suite 301\, Southbury\, CT\, 06488\, United States
CATEGORIES:aaHomePage,Adult Class,French Class
END:VEVENT
BEGIN:VEVENT
DTSTART;TZID=America/New_York:20181016T163000
DTEND;TZID=America/New_York:20181016T173000
DTSTAMP:20260424T012540
CREATED:20181003T213410Z
LAST-MODIFIED:20181003T213410Z
UID:40549-1539707400-1539711000@afnwct.org
SUMMARY:Bonjour\, Madame: Beginners 1B\, Ages 8-10
DESCRIPTION:Instructor: Madame Marie-Odile
URL:https://afnwct.org/event/bonjour-madame-beginners-1b-ages-8-10-3/
LOCATION:AF Center\, One Pomperaug Office Park\, Suite 301\, Southbury\, CT\, 06488\, United States
CATEGORIES:aaHomePage,Children's Class,French Class
END:VEVENT
BEGIN:VEVENT
DTSTART;TZID=America/New_York:20181015T180000
DTEND;TZID=America/New_York:20181015T193000
DTSTAMP:20260424T012540
CREATED:20181003T210735Z
LAST-MODIFIED:20181003T210735Z
UID:40538-1539626400-1539631800@afnwct.org
SUMMARY:Beginners A1-A Adult Class
DESCRIPTION:
URL:https://afnwct.org/event/beginners-a1-a-adult-class-3/
LOCATION:AF Center\, One Pomperaug Office Park\, Suite 301\, Southbury\, CT\, 06488\, United States
CATEGORIES:aaHomePage,Adult Class,French Class
END:VEVENT
BEGIN:VEVENT
DTSTART;TZID=America/New_York:20181015T090000
DTEND;TZID=America/New_York:20181015T103000
DTSTAMP:20260424T012540
CREATED:20181003T205843Z
LAST-MODIFIED:20181003T205843Z
UID:40527-1539594000-1539599400@afnwct.org
SUMMARY:Advanced Conversation & Grammar
DESCRIPTION:
URL:https://afnwct.org/event/advanced-conversation-grammar-3/
LOCATION:AF Center\, One Pomperaug Office Park\, Suite 301\, Southbury\, CT\, 06488\, United States
CATEGORIES:aaHomePage,French Class
END:VEVENT
BEGIN:VEVENT
DTSTART;TZID=America/New_York:20181011T183000
DTEND;TZID=America/New_York:20181011T200000
DTSTAMP:20260424T012540
CREATED:20180916T051304Z
LAST-MODIFIED:20180916T051413Z
UID:40483-1539282600-1539288000@afnwct.org
SUMMARY:Parlons Francais
DESCRIPTION:The Thursday evening Parlons Francais Back to Basics meets at the Brookfield Library. \nDesigned for those who have studied French in the past and just want a refresher. \nLed by Colin Harrison\, students use the textbook “Ultimate French: Beginner/Intermediate”. \nWe will meet every week\, instead of every other week.  However\, as before the schedule is liable to change when I need to be away on travel. We will cover one Leçon of the book (Ultimate Beginner French Textbook) each week.  We will use the freed-up time for practicing reading French\, notably beginning with Asterix Le Gaulois\, and probably one current article from the French Press.\n\nWe meet in one of the corners upstairs in the Main Library area. \nPlease register for this event through the Brookfield Library website.
URL:https://afnwct.org/event/parlons-francais-29/
LOCATION:Brookfield Library\, 182 Whisconier Rd.\, Brookfield\, CT\, 06804\, United States
CATEGORIES:aaHomePage,French Class,Parlons Français
ATTACH;FMTTYPE=image/png:https://afnwct.org/wp-content/uploads/2017/01/france-1177405_1280.png
ORGANIZER;CN="Colin Harrison":MAILTO:cgh260247@aol.com
END:VEVENT
BEGIN:VEVENT
DTSTART;TZID=America/New_York:20181011T173500
DTEND;TZID=America/New_York:20181011T183500
DTSTAMP:20260424T012540
CREATED:20181003T220922Z
LAST-MODIFIED:20181003T220922Z
UID:40582-1539279300-1539282900@afnwct.org
SUMMARY:Bonjour\, Madame: Beginners\, Ages 3-7
DESCRIPTION:Instructor: Madame Marie-Odile
URL:https://afnwct.org/event/bonjour-madame-beginners-ages-3-7-2/
LOCATION:AF Center\, One Pomperaug Office Park\, Suite 301\, Southbury\, CT\, 06488\, United States
CATEGORIES:aaHomePage,Children's Class,French Class
END:VEVENT
BEGIN:VEVENT
DTSTART;TZID=America/New_York:20181011T163000
DTEND;TZID=America/New_York:20181011T173000
DTSTAMP:20260424T012540
CREATED:20181003T220659Z
LAST-MODIFIED:20181003T220659Z
UID:40580-1539275400-1539279000@afnwct.org
SUMMARY:Les Achats en Ville: 4A\, Ages 3-7
DESCRIPTION:Instructor: Madame Marie-Odile
URL:https://afnwct.org/event/les-achats-en-ville-4a-ages-3-7-2/
LOCATION:AF Center\, One Pomperaug Office Park\, Suite 301\, Southbury\, CT\, 06488\, United States
CATEGORIES:aaHomePage,Children's Class,French Class
END:VEVENT
BEGIN:VEVENT
DTSTART;TZID=America/New_York:20181010T183000
DTEND;TZID=America/New_York:20181010T200000
DTSTAMP:20260424T012540
CREATED:20181003T214406Z
LAST-MODIFIED:20181003T214406Z
UID:40558-1539196200-1539201600@afnwct.org
SUMMARY:Advanced Beginners\, A2-A\, Adult class
DESCRIPTION:Instructor: Joanne Hutchings
URL:https://afnwct.org/event/advanced-beginners-a2-a-adult-class/
LOCATION:AF Center\, One Pomperaug Office Park\, Suite 301\, Southbury\, CT\, 06488\, United States
CATEGORIES:aaHomePage,Adult Class,French Class
END:VEVENT
BEGIN:VEVENT
DTSTART;TZID=America/New_York:20181010T150000
DTEND;TZID=America/New_York:20181010T163000
DTSTAMP:20260424T012540
CREATED:20181003T214750Z
LAST-MODIFIED:20181003T214750Z
UID:40562-1539183600-1539189000@afnwct.org
SUMMARY:Beginners\, A1-B\, Adult class
DESCRIPTION:Instructor: Joanne Hutchings
URL:https://afnwct.org/event/beginners-a1-b-adult-class-2/
LOCATION:AF Center\, One Pomperaug Office Park\, Suite 301\, Southbury\, CT\, 06488\, United States
CATEGORIES:aaHomePage,Adult Class,French Class
END:VEVENT
BEGIN:VEVENT
DTSTART;TZID=America/New_York:20181009T163000
DTEND;TZID=America/New_York:20181009T173000
DTSTAMP:20260424T012540
CREATED:20181003T213225Z
LAST-MODIFIED:20181003T213225Z
UID:40547-1539102600-1539106200@afnwct.org
SUMMARY:Bonjour Madame: Beginners 1B\, Ages 8-10
DESCRIPTION:Instructor: Madame Marie-Odile
URL:https://afnwct.org/event/bonjour-madame-beginners-1b-ages-8-10-2/
LOCATION:AF Center\, One Pomperaug Office Park\, Suite 301\, Southbury\, CT\, 06488\, United States
CATEGORIES:aaHomePage,Children's Class,French Class
END:VEVENT
BEGIN:VEVENT
DTSTART;TZID=America/New_York:20181008T180000
DTEND;TZID=America/New_York:20181008T193000
DTSTAMP:20260424T012540
CREATED:20181003T210518Z
LAST-MODIFIED:20181003T210518Z
UID:40536-1539021600-1539027000@afnwct.org
SUMMARY:Beginners A1-A Adult Class
DESCRIPTION:
URL:https://afnwct.org/event/beginners-a1-a-adult-class-2/
LOCATION:AF Center\, One Pomperaug Office Park\, Suite 301\, Southbury\, CT\, 06488\, United States
CATEGORIES:aaHomePage,Adult Class,French Class
END:VEVENT
BEGIN:VEVENT
DTSTART;TZID=America/New_York:20181008T090000
DTEND;TZID=America/New_York:20181008T103000
DTSTAMP:20260424T012540
CREATED:20181003T205728Z
LAST-MODIFIED:20181003T205728Z
UID:40525-1538989200-1538994600@afnwct.org
SUMMARY:Advanced Conversation & Grammar
DESCRIPTION:
URL:https://afnwct.org/event/advanced-conversation-grammar-2/
LOCATION:AF Center\, One Pomperaug Office Park\, Suite 301\, Southbury\, CT\, 06488\, United States
CATEGORIES:aaHomePage,French Class
END:VEVENT
BEGIN:VEVENT
DTSTART;TZID=America/New_York:20181004T183000
DTEND;TZID=America/New_York:20181004T200000
DTSTAMP:20260424T012540
CREATED:20180916T050849Z
LAST-MODIFIED:20180916T051026Z
UID:40479-1538677800-1538683200@afnwct.org
SUMMARY:Parlons Francais
DESCRIPTION:The Thursday evening Parlons Francais Back to Basics meets at the Brookfield Library. \nDesigned for those who have studied French in the past and just want a refresher. \nLed by Colin Harrison\, students use the textbook “Ultimate French: Beginner/Intermediate”. \nWe will meet every week\, instead of every other week.  However\, as before the schedule is liable to change when I need to be away on travel. We will cover one Leçon of the book (Ultimate Beginner French Textbook) each week.  We will use the freed-up time for practicing reading French\, notably beginning with Asterix Le Gaulois\, and probably one current article from the French Press.\n\nWe meet in one of the corners upstairs in the Main Library area. \nPlease register for this event through the Brookfield Library website.
URL:https://afnwct.org/event/parlons-francais-28/
LOCATION:Brookfield Library\, 182 Whisconier Rd.\, Brookfield\, CT\, 06804\, United States
CATEGORIES:aaHomePage,French Class,Parlons Français
ATTACH;FMTTYPE=image/png:https://afnwct.org/wp-content/uploads/2017/01/france-1177405_1280.png
ORGANIZER;CN="Colin Harrison":MAILTO:cgh260247@aol.com
END:VEVENT
BEGIN:VEVENT
DTSTART;TZID=America/New_York:20181004T173500
DTEND;TZID=America/New_York:20181004T183500
DTSTAMP:20260424T012540
CREATED:20181003T220518Z
LAST-MODIFIED:20181003T220518Z
UID:40578-1538674500-1538678100@afnwct.org
SUMMARY:Bonjour\, Madame: Beginners\, Ages 3-7
DESCRIPTION:Instructor: Madame Marie-Odile
URL:https://afnwct.org/event/bonjour-madame-beginners-ages-3-7/
LOCATION:AF Center\, One Pomperaug Office Park\, Suite 301\, Southbury\, CT\, 06488\, United States
CATEGORIES:aaHomePage,Children's Class,French Class
END:VEVENT
BEGIN:VEVENT
DTSTART;TZID=America/New_York:20181004T163000
DTEND;TZID=America/New_York:20181004T173000
DTSTAMP:20260424T012540
CREATED:20181003T220234Z
LAST-MODIFIED:20181003T220234Z
UID:40576-1538670600-1538674200@afnwct.org
SUMMARY:Les Achats en Ville: 4A\, Ages 3-7
DESCRIPTION:Instructor: Madame Marie-Odile
URL:https://afnwct.org/event/les-achats-en-ville-4a-ages-3-7/
LOCATION:AF Center\, One Pomperaug Office Park\, Suite 301\, Southbury\, CT\, 06488\, United States
CATEGORIES:aaHomePage,Children's Class,French Class
END:VEVENT
BEGIN:VEVENT
DTSTART;TZID=America/New_York:20181003T183000
DTEND;TZID=America/New_York:20181003T200000
DTSTAMP:20260424T012540
CREATED:20181003T214625Z
LAST-MODIFIED:20181003T214625Z
UID:40560-1538591400-1538596800@afnwct.org
SUMMARY:Advanced Beginners\, A2-A\, Adult class
DESCRIPTION:Instructor: Joanne Hutchings
URL:https://afnwct.org/event/advanced-beginners-a2-a-adult-class-2/
LOCATION:AF Center\, One Pomperaug Office Park\, Suite 301\, Southbury\, CT\, 06488\, United States
CATEGORIES:aaHomePage,Adult Class,French Class
END:VEVENT
BEGIN:VEVENT
DTSTART;TZID=America/New_York:20181003T150000
DTEND;TZID=America/New_York:20181003T163000
DTSTAMP:20260424T012540
CREATED:20181003T214206Z
LAST-MODIFIED:20181003T214206Z
UID:40555-1538578800-1538584200@afnwct.org
SUMMARY:Beginners A1-B\, Adult class
DESCRIPTION:Instructor: Joanne Hutchings
URL:https://afnwct.org/event/beginners-a1-b-adult-class/
LOCATION:AF Center\, One Pomperaug Office Park\, Suite 301\, Southbury\, CT\, 06488\, United States
CATEGORIES:aaHomePage,Adult Class,French Class
END:VEVENT
BEGIN:VEVENT
DTSTART;TZID=America/New_York:20181002T163000
DTEND;TZID=America/New_York:20181002T173000
DTSTAMP:20260424T012540
CREATED:20181003T213001Z
LAST-MODIFIED:20181003T213041Z
UID:40544-1538497800-1538501400@afnwct.org
SUMMARY:Bonjour Madame: Beginners 1B\, Ages 8-10
DESCRIPTION:Instructor: Madame Marie-Odile
URL:https://afnwct.org/event/bonjour-madame-beginners-1b-ages-8-10/
LOCATION:AF Center\, One Pomperaug Office Park\, Suite 301\, Southbury\, CT\, 06488\, United States
CATEGORIES:aaHomePage,Children's Class,French Class
END:VEVENT
BEGIN:VEVENT
DTSTART;TZID=America/New_York:20181001T180000
DTEND;TZID=America/New_York:20181001T193000
DTSTAMP:20260424T012540
CREATED:20181003T210347Z
LAST-MODIFIED:20181003T210347Z
UID:40533-1538416800-1538422200@afnwct.org
SUMMARY:Beginners A1-A Adult Class
DESCRIPTION:
URL:https://afnwct.org/event/beginners-a1-a-adult-class/
LOCATION:AF Center\, One Pomperaug Office Park\, Suite 301\, Southbury\, CT\, 06488\, United States
CATEGORIES:aaHomePage,Adult Class,French Class
END:VEVENT
BEGIN:VEVENT
DTSTART;TZID=America/New_York:20181001T090000
DTEND;TZID=America/New_York:20181001T103000
DTSTAMP:20260424T012540
CREATED:20181003T205516Z
LAST-MODIFIED:20181003T205516Z
UID:40522-1538384400-1538389800@afnwct.org
SUMMARY:Advanced Conversation & Grammar
DESCRIPTION:
URL:https://afnwct.org/event/advanced-conversation-grammar/
LOCATION:AF Center\, One Pomperaug Office Park\, Suite 301\, Southbury\, CT\, 06488\, United States
CATEGORIES:aaHomePage,French Class
END:VEVENT
BEGIN:VEVENT
DTSTART;TZID=America/New_York:20180802T183000
DTEND;TZID=America/New_York:20180802T200000
DTSTAMP:20260424T012540
CREATED:20180702T205505Z
LAST-MODIFIED:20180702T205505Z
UID:40347-1533234600-1533240000@afnwct.org
SUMMARY:Parlons Francais
DESCRIPTION:The Thursday evening Parlons Français Back to Basics meets tonight at the Brookfield Library. \nDesigned for those who have studied French in the past and just want a refresher. \nLed by Colin Harrison\, students use the textbook “Ultimate French – Beginner-Intermediate”. \nWe meet in one of the corners upstairs in the Main Library area. \nPlease register for this event through the Brookfield Library website. \n 
URL:https://afnwct.org/event/parlons-francais-27/
LOCATION:CT
CATEGORIES:aaHomePage,Adult Class,French Class,Parlons Français
ATTACH;FMTTYPE=image/png:https://afnwct.org/wp-content/uploads/2017/01/france-1177405_1280.png
ORGANIZER;CN="Colin Harrison":MAILTO:cgh260247@aol.com
END:VEVENT
BEGIN:VEVENT
DTSTART;TZID=America/New_York:20180719T183000
DTEND;TZID=America/New_York:20180719T200000
DTSTAMP:20260424T012540
CREATED:20180521T211549Z
LAST-MODIFIED:20180521T211549Z
UID:40300-1532025000-1532030400@afnwct.org
SUMMARY:Parlons Francais
DESCRIPTION:The Thursday evening Parlons Français Back to Basics meets tonight at the Brookfield Library. \nDesigned for those who have studied French in the past and just want a refresher. \nLed by Colin Harrison\, students use the textbook “Ultimate French – Beginner-Intermediate”. \nWe meet in one of the corners upstairs in the Main Library area. \nPlease register for this event through the Brookfield Library website.
URL:https://afnwct.org/event/parlons-francais-26/
LOCATION:CT
CATEGORIES:aaHomePage,Adults & Teens Class,French Class,Parlons Français
ATTACH;FMTTYPE=image/png:https://afnwct.org/wp-content/uploads/2017/01/france-1177405_1280.png
ORGANIZER;CN="Colin Harrison":MAILTO:cgh260247@aol.com
END:VEVENT
BEGIN:VEVENT
DTSTART;TZID=America/New_York:20180709T093000
DTEND;TZID=America/New_York:20180709T113000
DTSTAMP:20260424T012540
CREATED:20180615T182549Z
LAST-MODIFIED:20180615T183501Z
UID:40311-1531128600-1531135800@afnwct.org
SUMMARY:Children's French Workshop
DESCRIPTION:The Alliance Française of Northwest Connecticut\, located at will present a one week workshop for children ages 3 – 6\, from July 9 – July 13. Classes will run from 9:30am to 11:30am\, each day. \nThe workshop will include activities and lessons on the French language and culture\, highlighting the celebration of Bastille Day. Mme. Marie-Odille and Mlle. Verte will conduct the workshop. The sessions will include instruction\, music\, crafts\, un goûter and outdoor activities. \n  \nFor more information please call 203 707-0710 or visit www.afnwct.org \nBleu Blanc Rouge_July French Class \n 
URL:https://afnwct.org/event/childrens-french-workshop/
LOCATION:CT
CATEGORIES:aaHomePage,Children's Class,French Class,Special
ATTACH;FMTTYPE=image/jpeg:https://afnwct.org/wp-content/uploads/2018/06/Child_Bastille-Day_Tricouleur.jpeg
END:VEVENT
BEGIN:VEVENT
DTSTART;TZID=America/New_York:20180705T183000
DTEND;TZID=America/New_York:20180705T200000
DTSTAMP:20260424T012540
CREATED:20180521T211306Z
LAST-MODIFIED:20180521T211306Z
UID:40298-1530815400-1530820800@afnwct.org
SUMMARY:Parlons Francais
DESCRIPTION:The Thursday evening Parlons Français Back to Basics meets tonight at the Brookfield Library. \nDesigned for those who have studied French in the past and just want a refresher. \nLed by Colin Harrison\, students use the textbook “Ultimate French – Beginner-Intermediate”. \nWe meet in one of the corners upstairs in the Main Library area. \nPlease register for this event through the Brookfield Library website. \n 
URL:https://afnwct.org/event/parlons-francais-25/
LOCATION:CT
CATEGORIES:aaHomePage,Adults & Teens Class,French Class,Parlons Français
ATTACH;FMTTYPE=image/png:https://afnwct.org/wp-content/uploads/2017/01/france-1177405_1280.png
ORGANIZER;CN="Colin Harrison":MAILTO:cgh260247@aol.com
END:VEVENT
BEGIN:VEVENT
DTSTART;TZID=America/New_York:20180621T183000
DTEND;TZID=America/New_York:20180621T200000
DTSTAMP:20260424T012540
CREATED:20180416T192255Z
LAST-MODIFIED:20180416T192255Z
UID:40266-1529605800-1529611200@afnwct.org
SUMMARY:Parlons Francais
DESCRIPTION:The Thursday evening Parlons Français Back to Basics meets tonight at the Brookfield Library. \nDesigned for those who have studied French in the past and just want a refresher. \nLed by Colin Harrison\, students use the textbook “Ultimate French – Beginner-Intermediate”. \nWe meet in one of the corners upstairs in the Main Library area. \nPlease register for this event through the Brookfield Library website. \n 
URL:https://afnwct.org/event/parlons-francais-24/
LOCATION:CT
CATEGORIES:aaHomePage,Adult Class,French Class,Parlons Français
ATTACH;FMTTYPE=image/png:https://afnwct.org/wp-content/uploads/2017/01/france-1177405_1280.png
ORGANIZER;CN="Colin Harrison":MAILTO:cgh260247@aol.com
END:VEVENT
BEGIN:VEVENT
DTSTART;TZID=America/New_York:20180607T183000
DTEND;TZID=America/New_York:20180607T200000
DTSTAMP:20260424T012540
CREATED:20180416T192016Z
LAST-MODIFIED:20180416T192016Z
UID:40264-1528396200-1528401600@afnwct.org
SUMMARY:Parlons Francais
DESCRIPTION:The Thursday evening Parlons Français Back to Basics meets tonight at the Brookfield Library. \nDesigned for those who have studied French in the past and just want a refresher. \nLed by Colin Harrison\, students use the textbook “Ultimate French – Beginner-Intermediate”. \nWe meet in one of the corners upstairs in the Main Library area. \nPlease register for this event through the Brookfield Library website. \n 
URL:https://afnwct.org/event/parlons-francais-23/
LOCATION:CT
CATEGORIES:aaHomePage,Adult Class,French Class,Parlons Français
ATTACH;FMTTYPE=image/png:https://afnwct.org/wp-content/uploads/2017/01/france-1177405_1280.png
ORGANIZER;CN="Colin Harrison":MAILTO:cgh260247@aol.com
END:VEVENT
BEGIN:VEVENT
DTSTART;TZID=America/New_York:20180524T183000
DTEND;TZID=America/New_York:20180524T200000
DTSTAMP:20260424T012540
CREATED:20180319T043224Z
LAST-MODIFIED:20180319T043224Z
UID:40219-1527186600-1527192000@afnwct.org
SUMMARY:Parlons Francais
DESCRIPTION:The Thursday evening Parlons Français Back to Basics meets tonight at the Brookfield Library. \nDesigned for those who have studied French in the past and just want a refresher. \nLed by Colin Harrison\, students use the textbook “Ultimate French – Beginner-Intermediate”. \nWe meet in one of the corners upstairs in the Main Library area. \nPlease register for this event through the Brookfield Library website.
URL:https://afnwct.org/event/parlons-francais-22/
LOCATION:CT
CATEGORIES:aaHomePage,Adult Class,French Class,Parlons Français
ATTACH;FMTTYPE=image/png:https://afnwct.org/wp-content/uploads/2017/01/france-1177405_1280.png
ORGANIZER;CN="Colin Harrison":MAILTO:cgh260247@aol.com
END:VEVENT
END:VCALENDAR