BEGIN:VCALENDAR
VERSION:2.0
PRODID:-//Alliance Francaise of NW CT - ECPv6.15.11//NONSGML v1.0//EN
CALSCALE:GREGORIAN
METHOD:PUBLISH
X-WR-CALNAME:Alliance Francaise of NW CT
X-ORIGINAL-URL:https://afnwct.org
X-WR-CALDESC:Events for Alliance Francaise of NW CT
REFRESH-INTERVAL;VALUE=DURATION:PT1H
X-Robots-Tag:noindex
X-PUBLISHED-TTL:PT1H
BEGIN:VTIMEZONE
TZID:America/New_York
BEGIN:DAYLIGHT
TZOFFSETFROM:-0500
TZOFFSETTO:-0400
TZNAME:EDT
DTSTART:20220313T070000
END:DAYLIGHT
BEGIN:STANDARD
TZOFFSETFROM:-0400
TZOFFSETTO:-0500
TZNAME:EST
DTSTART:20221106T060000
END:STANDARD
BEGIN:DAYLIGHT
TZOFFSETFROM:-0500
TZOFFSETTO:-0400
TZNAME:EDT
DTSTART:20230312T070000
END:DAYLIGHT
BEGIN:STANDARD
TZOFFSETFROM:-0400
TZOFFSETTO:-0500
TZNAME:EST
DTSTART:20231105T060000
END:STANDARD
BEGIN:DAYLIGHT
TZOFFSETFROM:-0500
TZOFFSETTO:-0400
TZNAME:EDT
DTSTART:20240310T070000
END:DAYLIGHT
BEGIN:STANDARD
TZOFFSETFROM:-0400
TZOFFSETTO:-0500
TZNAME:EST
DTSTART:20241103T060000
END:STANDARD
END:VTIMEZONE
BEGIN:VEVENT
DTSTART;TZID=America/New_York:20230504T163000
DTEND;TZID=America/New_York:20230504T180000
DTSTAMP:20260425T222310
CREATED:20230421T011908Z
LAST-MODIFIED:20230421T011908Z
UID:42351-1683217800-1683223200@afnwct.org
SUMMARY:Groupe de Lecture
DESCRIPTION:First Thursday of the month\, at 4:30pm \n  \nAttendance is limited to 8 people.\nCall 203-482-3633 to reserve a spot. \nLire à haute voix\nÉcouter les autres lire\nComprendre ce que l’on entend\nCommenter les thèmes et techniques littéraires \nPour le groupe de lecture\, le nouveau livre est “Viviane Elisabeth Fauville” de Julia Deck
URL:https://afnwct.org/event/groupe-de-lecture-2022-3-2-2-2-2/
LOCATION:CT
CATEGORIES:aaHomePage,French Discussion Group,Groupe de Lecture
ATTACH;FMTTYPE=image/jpeg:https://afnwct.org/wp-content/uploads/2023/03/R.jpg
END:VEVENT
BEGIN:VEVENT
DTSTART;TZID=America/New_York:20230513T100000
DTEND;TZID=America/New_York:20230513T120000
DTSTAMP:20260425T222310
CREATED:20230421T011506Z
LAST-MODIFIED:20230421T011506Z
UID:42341-1683972000-1683979200@afnwct.org
SUMMARY:Cafe Conversation
DESCRIPTION:10:00am – 12:00pm \nCafe Conversation is a great way to practice\, improve and/or help you feel more comfortable speaking French with friendly francophones and francophiles. \nEnjoy coffee and pastries\, meet and chat with fellow members for the first half hour or so — en francais — and then tackle the subject of the day. \nAn article in French (often with a side-by-side English translation) is read out loud en francais. The article will then be used to spark the conversation. \nAll levels of French are welcome.
URL:https://afnwct.org/event/cafe-conversation-53-2-2-5-2-2-2-2-2-2-3/
LOCATION:CT
CATEGORIES:aaHomePage,Café Conversation,French Discussion Group
ATTACH;FMTTYPE=image/jpeg:https://afnwct.org/wp-content/uploads/2019/10/CAFE-CONVERSATION_French-press_pixabay.jpg
END:VEVENT
BEGIN:VEVENT
DTSTART;TZID=America/New_York:20230518T000000
DTEND;TZID=America/New_York:20230518T000000
DTSTAMP:20260425T222310
CREATED:20230421T012644Z
LAST-MODIFIED:20230421T012644Z
UID:42356-1684368000-1684368000@afnwct.org
SUMMARY:Ciné Club
DESCRIPTION:Ciné Club on the 3rd Thursday of the month \nLes Combattantes \n6:45 pm at the Alliance Center\nApril 20\, May 18\, June 29
URL:https://afnwct.org/event/cineclub-presents-cesar-2-2-5/
LOCATION:CT
CATEGORIES:aaHomePage,Ciné-Club,French Discussion Group
ATTACH;FMTTYPE=image/jpeg:https://afnwct.org/wp-content/uploads/2023/02/cine.jpg
END:VEVENT
BEGIN:VEVENT
DTSTART;TZID=America/New_York:20230527T100000
DTEND;TZID=America/New_York:20230527T120000
DTSTAMP:20260425T222310
CREATED:20230421T011545Z
LAST-MODIFIED:20230521T173238Z
UID:42342-1685181600-1685188800@afnwct.org
SUMMARY:Cafe Conversation
DESCRIPTION:10:00am – 12:00pm \nCafe Conversation is a great way to practice\, improve and/or help you feel more comfortable speaking French with friendly francophones and francophiles. \nEnjoy coffee and pastries\, meet and chat with fellow members for the first half hour or so — en francais — and then tackle the subject of the day. \nAn article in French (often with a side-by-side English translation) is read out loud en francais. The article will then be used to spark the conversation. \nAll levels of French are welcome.
URL:https://afnwct.org/event/cafe-conversation-53-2-2-5-2-2-2-2-2-2-4/
LOCATION:CT
CATEGORIES:aaHomePage,Café Conversation,French Discussion Group
ATTACH;FMTTYPE=image/jpeg:https://afnwct.org/wp-content/uploads/2023/04/CAFE-CONVERSATION_French-press_pixabay-200x200-1.jpg
END:VEVENT
END:VCALENDAR