BEGIN:VCALENDAR
VERSION:2.0
PRODID:-//Alliance Francaise of NW CT - ECPv6.15.11//NONSGML v1.0//EN
CALSCALE:GREGORIAN
METHOD:PUBLISH
X-WR-CALNAME:Alliance Francaise of NW CT
X-ORIGINAL-URL:https://afnwct.org
X-WR-CALDESC:Events for Alliance Francaise of NW CT
REFRESH-INTERVAL;VALUE=DURATION:PT1H
X-Robots-Tag:noindex
X-PUBLISHED-TTL:PT1H
BEGIN:VTIMEZONE
TZID:America/New_York
BEGIN:DAYLIGHT
TZOFFSETFROM:-0500
TZOFFSETTO:-0400
TZNAME:EDT
DTSTART:20140309T070000
END:DAYLIGHT
BEGIN:STANDARD
TZOFFSETFROM:-0400
TZOFFSETTO:-0500
TZNAME:EST
DTSTART:20141102T060000
END:STANDARD
BEGIN:DAYLIGHT
TZOFFSETFROM:-0500
TZOFFSETTO:-0400
TZNAME:EDT
DTSTART:20150308T070000
END:DAYLIGHT
BEGIN:STANDARD
TZOFFSETFROM:-0400
TZOFFSETTO:-0500
TZNAME:EST
DTSTART:20151101T060000
END:STANDARD
BEGIN:DAYLIGHT
TZOFFSETFROM:-0500
TZOFFSETTO:-0400
TZNAME:EDT
DTSTART:20160313T070000
END:DAYLIGHT
BEGIN:STANDARD
TZOFFSETFROM:-0400
TZOFFSETTO:-0500
TZNAME:EST
DTSTART:20161106T060000
END:STANDARD
END:VTIMEZONE
BEGIN:VEVENT
DTSTART;TZID=America/New_York:20150701T120000
DTEND;TZID=America/New_York:20150701T130000
DTSTAMP:20260425T183557
CREATED:20150624T204049Z
LAST-MODIFIED:20150624T204049Z
UID:37204-1435752000-1435755600@afnwct.org
SUMMARY:BYO Lunch En Français 12 noon
DESCRIPTION:Le sujet de conversation (en français) proposé pour ce jour est: \n“Aimez-vous être seule?”  \nCurrent events and/or topics of interest will spark conversational French while eating your lunch (BYO). This is a great way to increase vocabulary and practice speaking French.  All levels welcome. \nAFNWCT Members attend for free; A suggested donation of $5 for others. \nSi vous voulez suggérer ou présenter un sujet\, veuillez contacter Marda: afnwct@afnwct.org
URL:https://afnwct.org/event/byo-lunch-en-francais-12-noon-5/
CATEGORIES:French Discussion Group,Lunch
END:VEVENT
BEGIN:VEVENT
DTSTART;TZID=America/New_York:20150618T180000
DTEND;TZID=America/New_York:20150618T190000
DTSTAMP:20260425T183557
CREATED:20150517T212420Z
LAST-MODIFIED:20150517T212420Z
UID:36984-1434650400-1434654000@afnwct.org
SUMMARY:French Discussion Group 6pm
DESCRIPTION:Led by a French native\, previous discussion subjects covered Les Santons de Provence\, Roquefort cheese\, and Le Beaujolais Nouveau. To receive a copy of the article or handout prior to the meeting\, RSVP to afnwct@afnwct.org. \nAFNWCT Members attend for free; A suggested donation of $5 for others.
URL:https://afnwct.org/event/french-discussion-group-6pm-4/
CATEGORIES:French Discussion Group
END:VEVENT
BEGIN:VEVENT
DTSTART;TZID=America/New_York:20150601T133000
DTEND;TZID=America/New_York:20150601T143000
DTSTAMP:20260425T183557
CREATED:20150517T203424Z
LAST-MODIFIED:20150517T203424Z
UID:36972-1433165400-1433169000@afnwct.org
SUMMARY:Parlons Français! 1:30pm
DESCRIPTION:Discussion Group en Français for all levels of abilities are welcome whether you’ve just started learning or learned +20 years ago. Native speakers are also welcome. Easily understood articles will be read out loud and discussed by participants. \nFree admission to all.
URL:https://afnwct.org/event/parlons-francais-130pm-4/
CATEGORIES:French Discussion Group,Parlons Français
END:VEVENT
BEGIN:VEVENT
DTSTART;TZID=America/New_York:20150526T190000
DTEND;TZID=America/New_York:20150526T200000
DTSTAMP:20260425T183557
CREATED:20150131T001617Z
LAST-MODIFIED:20150218T203947Z
UID:36126-1432666800-1432670400@afnwct.org
SUMMARY:Parlons Français! 7pm
DESCRIPTION:All levels of French speaking abilities\, as well as native speakers are welcome. Designed to help increase vocabulary and improve speaking ability\, topics of interest will be read out loud and discussed by participants. \nFree admission to all.
URL:https://afnwct.org/event/parlons-francais-7pm-4/
CATEGORIES:French Discussion Group,Parlons Français
END:VEVENT
BEGIN:VEVENT
DTSTART;TZID=America/New_York:20150521T180000
DTEND;TZID=America/New_York:20150521T190000
DTSTAMP:20260425T183557
CREATED:20150131T011929Z
LAST-MODIFIED:20150218T204216Z
UID:36133-1432231200-1432234800@afnwct.org
SUMMARY:French Discussion Group 6pm
DESCRIPTION:Led by a French native\, previous discussion subjects covered Les Santons de Provence\, Roquefort cheese\, and Le Beaujolais Nouveau. To receive a copy of the article or handout prior to the meeting\, RSVP to afnwct@afnwct.org. \nAFNWCT Members attend for free; A suggested donation of $5 for others.
URL:https://afnwct.org/event/french-discussion-group-6pm-3/
CATEGORIES:French Discussion Group
END:VEVENT
BEGIN:VEVENT
DTSTART;TZID=America/New_York:20150504T133000
DTEND;TZID=America/New_York:20150504T143000
DTSTAMP:20260425T183557
CREATED:20150130T230356Z
LAST-MODIFIED:20150218T203947Z
UID:36111-1430746200-1430749800@afnwct.org
SUMMARY:Parlons Français! 1:30pm
DESCRIPTION:Discussion Group en Français for all levels of abilities are welcome whether you’ve just started learning or learned +20 years ago. Native speakers are also welcome. Easily understood articles will be read out loud and discussed by participants. \nFree admission to all.
URL:https://afnwct.org/event/parlons-francais-130pm-3/
CATEGORIES:French Discussion Group,Parlons Français
END:VEVENT
BEGIN:VEVENT
DTSTART;TZID=America/New_York:20150423T180000
DTEND;TZID=America/New_York:20150423T190000
DTSTAMP:20260425T183557
CREATED:20150131T011822Z
LAST-MODIFIED:20150210T015727Z
UID:36132-1429812000-1429815600@afnwct.org
SUMMARY:French Discussion Group 6pm
DESCRIPTION:Led by a French native\, previous discussion subjects covered Les Santons de Provence\, Roquefort cheese\, and Le Beaujolais Nouveau. To receive a copy of the article or handout prior to the meeting\, RSVP to afnwct@afnwct.org. \nAFNWCT Members attend for free; A suggested donation of $5 for others.
URL:https://afnwct.org/event/french-discussion-group-6pm-2/
CATEGORIES:French Discussion Group
END:VEVENT
BEGIN:VEVENT
DTSTART;TZID=America/New_York:20150319T180000
DTEND;TZID=America/New_York:20150319T190000
DTSTAMP:20260425T183557
CREATED:20150131T011723Z
LAST-MODIFIED:20150317T174539Z
UID:36131-1426788000-1426791600@afnwct.org
SUMMARY:French Discussion Group 6pm
DESCRIPTION:Tonight’s discussion will revolve around two articles: \n“La Gastronomie française: est-elle périmee?” et/ou un article de Dominique Mataillet: Le français\, tel qu’on le parle – “Tu ne diras plus “HASTAG!” \nTo receive a copy of the articles or handout prior to the meeting\, RSVP to afnwct@afnwct.org. \nLed by a French native\, previous discussion subjects covered Les Santons de Provence\, Roquefort cheese\, and Le Beaujolais Nouveau. AFNWCT Members attend for free; A suggested donation of $5 for others.
URL:https://afnwct.org/event/french-discussion-group-6pm/
CATEGORIES:French Discussion Group
END:VEVENT
BEGIN:VEVENT
DTSTART;TZID=America/New_York:20150302T133000
DTEND;TZID=America/New_York:20150302T143000
DTSTAMP:20260425T183557
CREATED:20150130T230205Z
LAST-MODIFIED:20150218T210701Z
UID:36110-1425303000-1425306600@afnwct.org
SUMMARY:Parlons Français! 1:30pm
DESCRIPTION:Discussion Group en Français for all levels of abilities are welcome whether you’ve just started learning or learned +20 years ago. Native speakers are also welcome. Easily understood articles will be read out loud and discussed by participants. \nFree admission to all.
URL:https://afnwct.org/event/parlons-francais-130pm/
CATEGORIES:French Discussion Group,Parlons Français
END:VEVENT
BEGIN:VEVENT
DTSTART;TZID=America/New_York:20150226T180000
DTEND;TZID=America/New_York:20150226T190000
DTSTAMP:20260425T183557
CREATED:20150131T002826Z
LAST-MODIFIED:20150218T210625Z
UID:36128-1424973600-1424977200@afnwct.org
SUMMARY:French Discussion Group 6pm
DESCRIPTION:Led by a French native\, previous discussion subjects covered Les Santons de Provence\, Roquefort cheese\, and Le Beaujolais Nouveau. To receive a copy of the article or handout prior to the meeting\, RSVP to afnwct@afnwct.org. \nAFNWCT Members attend for free; A suggested donation of $5 for others.
URL:https://afnwct.org/event/french-discussion-group-3/
CATEGORIES:French Discussion Group
END:VEVENT
BEGIN:VEVENT
DTSTART;TZID=America/New_York:20150115T180000
DTEND;TZID=America/New_York:20150115T190000
DTSTAMP:20260425T183557
CREATED:20150101T223431Z
LAST-MODIFIED:20150131T080932Z
UID:35539-1421344800-1421348400@afnwct.org
SUMMARY:French Discussion Group 6pm
DESCRIPTION:Led by a French native\, previous discussion subjects covered Les Santons de Provence\, Roquefort cheese\, Le Beaujolais Nouveau…. To receive a copy of the article or handout prior to the meeting\, RSVP to afnwct@afnwct.org. \nAFNWCT Members attend for free; A suggested donation of $5 for others.
URL:https://afnwct.org/event/french-discussion-group-2/
CATEGORIES:French Discussion Group
END:VEVENT
END:VCALENDAR