BEGIN:VCALENDAR
VERSION:2.0
PRODID:-//Alliance Francaise of NW CT - ECPv6.15.11//NONSGML v1.0//EN
CALSCALE:GREGORIAN
METHOD:PUBLISH
X-WR-CALNAME:Alliance Francaise of NW CT
X-ORIGINAL-URL:https://afnwct.org
X-WR-CALDESC:Events for Alliance Francaise of NW CT
REFRESH-INTERVAL;VALUE=DURATION:PT1H
X-Robots-Tag:noindex
X-PUBLISHED-TTL:PT1H
BEGIN:VTIMEZONE
TZID:America/New_York
BEGIN:DAYLIGHT
TZOFFSETFROM:-0500
TZOFFSETTO:-0400
TZNAME:EDT
DTSTART:20170312T070000
END:DAYLIGHT
BEGIN:STANDARD
TZOFFSETFROM:-0400
TZOFFSETTO:-0500
TZNAME:EST
DTSTART:20171105T060000
END:STANDARD
BEGIN:DAYLIGHT
TZOFFSETFROM:-0500
TZOFFSETTO:-0400
TZNAME:EDT
DTSTART:20180311T070000
END:DAYLIGHT
BEGIN:STANDARD
TZOFFSETFROM:-0400
TZOFFSETTO:-0500
TZNAME:EST
DTSTART:20181104T060000
END:STANDARD
BEGIN:DAYLIGHT
TZOFFSETFROM:-0500
TZOFFSETTO:-0400
TZNAME:EDT
DTSTART:20190310T070000
END:DAYLIGHT
BEGIN:STANDARD
TZOFFSETFROM:-0400
TZOFFSETTO:-0500
TZNAME:EST
DTSTART:20191103T060000
END:STANDARD
END:VTIMEZONE
BEGIN:VEVENT
DTSTART;TZID=America/New_York:20180607T183000
DTEND;TZID=America/New_York:20180607T200000
DTSTAMP:20260425T094853
CREATED:20180416T192016Z
LAST-MODIFIED:20180416T192016Z
UID:40264-1528396200-1528401600@afnwct.org
SUMMARY:Parlons Francais
DESCRIPTION:The Thursday evening Parlons Français Back to Basics meets tonight at the Brookfield Library. \nDesigned for those who have studied French in the past and just want a refresher. \nLed by Colin Harrison\, students use the textbook “Ultimate French – Beginner-Intermediate”. \nWe meet in one of the corners upstairs in the Main Library area. \nPlease register for this event through the Brookfield Library website. \n 
URL:https://afnwct.org/event/parlons-francais-23/
CATEGORIES:aaHomePage,Adult Class,French Class,Parlons Français
ATTACH;FMTTYPE=image/png:https://afnwct.org/wp-content/uploads/2017/01/france-1177405_1280.png
ORGANIZER;CN="Colin Harrison":MAILTO:cgh260247@aol.com
END:VEVENT
BEGIN:VEVENT
DTSTART;TZID=America/New_York:20180606T130000
DTEND;TZID=America/New_York:20180606T143000
DTSTAMP:20260425T094853
CREATED:20180416T184428Z
LAST-MODIFIED:20180416T184428Z
UID:40254-1528290000-1528295400@afnwct.org
SUMMARY:Portes Ouvertes: Scrabble\, anyone?
DESCRIPTION:Evelyne Purdy will hold a games/conversation “en Français” session on the 2nd and 4th Wednesday of the month\, from 1 to 2:30pm at the Alliance Française Center in Southbury. Also take time to browse our extensive library. \nThe Center is located at 1 Pomperaug Office Park\, Suite 301\, Southbury. Call us at 203-707-0710 to let us know if you are joining us. \nHomemade goodies are welcome!
URL:https://afnwct.org/event/portes-ouvertes-scrabble-anyone-9/
CATEGORIES:aaHomePage,French Discussion Group,Game,Portes Ouvertes
ATTACH;FMTTYPE=image/jpeg:https://afnwct.org/wp-content/uploads/2017/12/French-Monopoly.jpg
END:VEVENT
BEGIN:VEVENT
DTSTART;TZID=America/New_York:20180526T103000
DTEND;TZID=America/New_York:20180526T123000
DTSTAMP:20260425T094853
CREATED:20180319T043724Z
LAST-MODIFIED:20180319T043724Z
UID:40223-1527330600-1527337800@afnwct.org
SUMMARY:Cafe Conversations
DESCRIPTION:Café Conversations is a great way to practice\, improve and/or help you feel more comfortable speaking French with friendly francophones and francophiles who enjoy speaking French in an informal setting.  The group meets two Saturdays a month from 10:30 to 12:30 (be sure to check this calendar often). Have a cup of coffee and meet/greet fellow members for the first half hour or so with some small talk – en français (It’s all about practicing!) and then prepare to tackle the subject of the day. \nAn article in French (often with a side-by-side English translation) is read out loud en français by the participants to practice proper pronounciation and to check understanding of the French vocabulary and grammar. The article will then be used to spark the conversation. \nAll levels of French are welcome. AFNWCT members attend free and a $5 suggested donation is kindly requested from all others. \nThose with a question\, or if you wish to propose a certain topic or lead one of the discussions should contact Brigitte: cafe@afnwct.org \nThis group meets at the AF Center located at 1 Pomperaug Office Park\, Suite 301 in Southbury. See map below.
URL:https://afnwct.org/event/cafe-conversations-13/
CATEGORIES:aaHomePage,Café Conversation,French Discussion Group
ORGANIZER;CN="Brigitte Fr%C3%A9gault":MAILTO:cafe@afnwct.org
END:VEVENT
BEGIN:VEVENT
DTSTART;TZID=America/New_York:20180524T183000
DTEND;TZID=America/New_York:20180524T200000
DTSTAMP:20260425T094853
CREATED:20180319T043224Z
LAST-MODIFIED:20180319T043224Z
UID:40219-1527186600-1527192000@afnwct.org
SUMMARY:Parlons Francais
DESCRIPTION:The Thursday evening Parlons Français Back to Basics meets tonight at the Brookfield Library. \nDesigned for those who have studied French in the past and just want a refresher. \nLed by Colin Harrison\, students use the textbook “Ultimate French – Beginner-Intermediate”. \nWe meet in one of the corners upstairs in the Main Library area. \nPlease register for this event through the Brookfield Library website.
URL:https://afnwct.org/event/parlons-francais-22/
CATEGORIES:aaHomePage,Adult Class,French Class,Parlons Français
ATTACH;FMTTYPE=image/png:https://afnwct.org/wp-content/uploads/2017/01/france-1177405_1280.png
ORGANIZER;CN="Colin Harrison":MAILTO:cgh260247@aol.com
END:VEVENT
BEGIN:VEVENT
DTSTART;TZID=America/New_York:20180523T130000
DTEND;TZID=America/New_York:20180523T143000
DTSTAMP:20260425T094853
CREATED:20180319T042823Z
LAST-MODIFIED:20180319T042823Z
UID:40217-1527080400-1527085800@afnwct.org
SUMMARY:PORTES OUVERTES: Scrabble\, anyone?
DESCRIPTION:Evelyne Purdy will hold a games/conversation “en Français” session on the 2nd and 4th Wednesday of the month\, from 1 to 2:30pm at the Alliance Française Center in Southbury. Also take time to browse our extensive library. \nThe Center is located at 1 Pomperaug Office Park\, Suite 301\, Southbury. Call us at 203-707-0710 to let us know if you are joining us. \nHomemade goodies are welcome!
URL:https://afnwct.org/event/portes-ouvertes-scrabble-anyone-8/
CATEGORIES:aaHomePage,French Discussion Group,Game,Portes Ouvertes
ATTACH;FMTTYPE=image/jpeg:https://afnwct.org/wp-content/uploads/2017/12/French-Monopoly.jpg
END:VEVENT
BEGIN:VEVENT
DTSTART;TZID=America/New_York:20180518T183000
DTEND;TZID=America/New_York:20180518T183000
DTSTAMP:20260425T094853
CREATED:20180331T201224Z
LAST-MODIFIED:20180406T174504Z
UID:40226-1526668200-1526668200@afnwct.org
SUMMARY:Cinema Et Conversation
DESCRIPTION:For May\, we plan on showing Day of the Jackal (1973). The film will be in English\, but we will show French subtitles. Although the film is American\, it does a superb job in showing a fictional story based in a tense period in French history when Charles DeGaulle’s life was in real danger from ultranationalist extremists. This is a film version of a breakthrough mystery by Frederic Forsyth where we know the conclusion\, but we don’t know how the plot will take us there. The producers received rare permission to film behind the scenes at a Bastille Day celebration\, and to film inside the Ministry of the Interior for meeting scenes. Strother Purdy will introduce the film in English\, and Anne Quinson-Franklin will introduce the film in French. \nSnacks will be provided\, BYOB.
URL:https://afnwct.org/event/cinema-et-conversation-5/
CATEGORIES:aaHomePage,Ciné-Club,French Discussion Group
ATTACH;FMTTYPE=image/jpeg:https://afnwct.org/wp-content/uploads/2017/12/CINEMA-ET-CONVERSATION.jpg
END:VEVENT
BEGIN:VEVENT
DTSTART;TZID=America/New_York:20180512T103000
DTEND;TZID=America/New_York:20180512T123000
DTSTAMP:20260425T094853
CREATED:20180319T043510Z
LAST-MODIFIED:20180319T043510Z
UID:40221-1526121000-1526128200@afnwct.org
SUMMARY:Cafe Conversations
DESCRIPTION:Café Conversations is a great way to practice\, improve and/or help you feel more comfortable speaking French with friendly francophones and francophiles who enjoy speaking French in an informal setting.  The group meets two Saturdays a month from 10:30 to 12:30 (be sure to check this calendar often). Have a cup of coffee and meet/greet fellow members for the first half hour or so with some small talk – en français (It’s all about practicing!) and then prepare to tackle the subject of the day. \nAn article in French (often with a side-by-side English translation) is read out loud en français by the participants to practice proper pronounciation and to check understanding of the French vocabulary and grammar. The article will then be used to spark the conversation. \nAll levels of French are welcome. AFNWCT members attend free and a $5 suggested donation is kindly requested from all others. \nThose with a question\, or if you wish to propose a certain topic or lead one of the discussions should contact Brigitte: cafe@afnwct.org \nThis group meets at the AF Center located at 1 Pomperaug Office Park\, Suite 301 in Southbury. See map below.
URL:https://afnwct.org/event/cafe-conversations-12/
CATEGORIES:aaHomePage,Café Conversation,French Discussion Group
ORGANIZER;CN="Brigitte Fr%C3%A9gault":MAILTO:cafe@afnwct.org
END:VEVENT
BEGIN:VEVENT
DTSTART;TZID=America/New_York:20180510T183000
DTEND;TZID=America/New_York:20180510T200000
DTSTAMP:20260425T094853
CREATED:20180319T042437Z
LAST-MODIFIED:20180319T042437Z
UID:40215-1525977000-1525982400@afnwct.org
SUMMARY:Parlons Francais
DESCRIPTION:ons \nThe Thursday evening Parlons Français Back to Basics meets tonight at the Brookfield Library. \nDesigned for those who have studied French in the past and just want a refresher. \nLed by Colin Harrison\, students use the textbook “Ultimate French – Beginner-Intermediate”. \nWe meet in one of the corners upstairs in the Main Library area. \nPlease register for this event through the Brookfield Library website. \n 
URL:https://afnwct.org/event/parlons-francais-21/
CATEGORIES:aaHomePage,Adult Class,French Class,Parlons Français
ATTACH;FMTTYPE=image/png:https://afnwct.org/wp-content/uploads/2017/01/france-1177405_1280.png
ORGANIZER;CN="Colin Harrison":MAILTO:cgh260247@aol.com
END:VEVENT
BEGIN:VEVENT
DTSTART;TZID=America/New_York:20180509T130000
DTEND;TZID=America/New_York:20180509T143000
DTSTAMP:20260425T094853
CREATED:20180319T042113Z
LAST-MODIFIED:20180319T042113Z
UID:40213-1525870800-1525876200@afnwct.org
SUMMARY:PORTES OUVERTES: Scrabble\, anyone?
DESCRIPTION:Evelyne Purdy will hold a games/conversation “en Français” session on the 2nd and 4th Wednesday of the month\, from 1 to 2:30pm at the Alliance Française Center in Southbury. Also take time to browse our extensive library. \nThe Center is located at 1 Pomperaug Office Park\, Suite 301\, Southbury. Call us at 203-707-0710 to let us know if you are joining us. \nHomemade goodies are welcome!
URL:https://afnwct.org/event/portes-ouvertes-scrabble-anyone-7/
CATEGORIES:aaHomePage,French Discussion Group,Game,Portes Ouvertes
ATTACH;FMTTYPE=image/jpeg:https://afnwct.org/wp-content/uploads/2017/12/French-Monopoly.jpg
END:VEVENT
BEGIN:VEVENT
DTSTART;TZID=America/New_York:20180503T183000
DTEND;TZID=America/New_York:20180503T203000
DTSTAMP:20260425T094853
CREATED:20180319T041751Z
LAST-MODIFIED:20180426T182236Z
UID:40211-1525372200-1525379400@afnwct.org
SUMMARY:Groupe de Lecture
DESCRIPTION:Meeting on the first Thursday of each month\, from 6:30 to 8:30 pm\, this group has a lot of fun sipping wine\, tasting cheese and crackers and taking turns reading out loud in French. Enjoy hearing and sharing the richness of the French language. \nThe title of the current selection is “Animarex“\, by Jean-Francois Kervean. \nAnimarex brings the reader back in time to the era of Louis XIV\, the Sun King\, recounting the early love story of Louis and Marie Mancini\, the woman for whom he contemplated abdicating his throne. \nIf you have any questions\, please let Amanda know at lecture@afnwct.org.AFNWCT Members attend for free; A suggested donation of $5 is requested from others. \nQuestions or comments? Contact Amanda: lecture@afnwct.org
URL:https://afnwct.org/event/groupe-de-lecture-23/
LOCATION:Burnham Library\, Bridgewater\, 62 Main St S. (Route 133)\, Bridgewater\, CT\, 06752\, United States
CATEGORIES:aaHomePage,Groupe de Lecture
ATTACH;FMTTYPE=image/jpeg:https://afnwct.org/wp-content/uploads/2018/03/Groupe-de-Lecture_Animarex.jpg
END:VEVENT
BEGIN:VEVENT
DTSTART;TZID=America/New_York:20180428T103000
DTEND;TZID=America/New_York:20180428T123000
DTSTAMP:20260425T094853
CREATED:20180216T220915Z
LAST-MODIFIED:20180216T220915Z
UID:40165-1524911400-1524918600@afnwct.org
SUMMARY:Cafe Conversations
DESCRIPTION:Café Conversations is a great way to practice\, improve and/or help you feel more comfortable speaking French with friendly francophones and francophiles who enjoy speaking French in an informal setting.  The group meets two Saturdays a month from 10:30 to 12:30 (be sure to check this calendar often). Have a cup of coffee and meet/greet fellow members for the first half hour or so with some small talk – en français (It’s all about practicing!) and then prepare to tackle the subject of the day. \nAn article in French (often with a side-by-side English translation) is read out loud en français by the participants to practice proper pronounciation and to check understanding of the French vocabulary and grammar. The article will then be used to spark the conversation. \nAll levels of French are welcome. AFNWCT members attend free and a $5 suggested donation is kindly requested from all others. \nThose with a question\, or if you wish to propose a certain topic or lead one of the discussions should contact Brigitte: cafe@afnwct.org \nThis group meets at the AF Center located at 1 Pomperaug Office Park\, Suite 301 in Southbury. See map below.
URL:https://afnwct.org/event/cafe-conversations-11/
CATEGORIES:aaHomePage,Café Conversation,French Discussion Group
ORGANIZER;CN="Brigitte Fr%C3%A9gault":MAILTO:cafe@afnwct.org
END:VEVENT
BEGIN:VEVENT
DTSTART;TZID=America/New_York:20180428T000000
DTEND;TZID=America/New_York:20180428T000000
DTSTAMP:20260425T094853
CREATED:20180310T183241Z
LAST-MODIFIED:20180310T183241Z
UID:40206-1524873600-1524873600@afnwct.org
SUMMARY:Massenet's Cendrillon - Loews Theatre\, Danbury
DESCRIPTION:This is the recorded Metropolitan Opera performance in High Definition\, direct from The Met\, in NYC. Times and admission to follow. \nMetropolitan Opera at Loews theatre
URL:https://afnwct.org/event/massenets-cendrillon-loews-theatre-danbury/
CATEGORIES:aaHomePage,Special
ATTACH;FMTTYPE=image/jpeg:https://afnwct.org/wp-content/uploads/2017/12/CINEMA-ET-CONVERSATION.jpg
END:VEVENT
BEGIN:VEVENT
DTSTART;TZID=America/New_York:20180426T183000
DTEND;TZID=America/New_York:20180426T200000
DTSTAMP:20260425T094853
CREATED:20180216T220304Z
LAST-MODIFIED:20180216T220304Z
UID:40161-1524767400-1524772800@afnwct.org
SUMMARY:Parlons Francais
DESCRIPTION:Parlons Français \nThe Thursday evening Parlons Français Back to Basics meets tonight at the Brookfield Library. \nDesigned for those who have studied French in the past and just want a refresher. \nLed by Colin Harrison\, students use the textbook “Ultimate French – Beginner-Intermediate”. \nWe meet in one of the corners upstairs in the Main Library area. \nPlease register for this event through the Brookfield Library website. \n 
URL:https://afnwct.org/event/parlons-francais-20/
CATEGORIES:aaHomePage,Adult Class,French Class,Parlons Français
ATTACH;FMTTYPE=image/png:https://afnwct.org/wp-content/uploads/2017/01/france-1177405_1280.png
ORGANIZER;CN="Colin Harrison":MAILTO:cgh260247@aol.com
END:VEVENT
BEGIN:VEVENT
DTSTART;TZID=America/New_York:20180425T130000
DTEND;TZID=America/New_York:20180425T143000
DTSTAMP:20260425T094853
CREATED:20180216T222147Z
LAST-MODIFIED:20180216T222147Z
UID:40171-1524661200-1524666600@afnwct.org
SUMMARY:PORTES OUVERTES: Scrabble\, anyone?
DESCRIPTION:Evelyne Purdy will hold a games/conversation “en Français” session on the 2nd and 4th Wednesday of the month\, from 1 to 2:30pm at the Alliance Française Center in Southbury. Also take time to browse our extensive library. \nThe Center is located at 1 Pomperaug Office Park\, Suite 301\, Southbury. Call us at 203-707-0710 to let us know if you are joining us. \nHomemade goodies are welcome!
URL:https://afnwct.org/event/portes-ouvertes-scrabble-anyone-6/
CATEGORIES:aaHomePage,French Discussion Group,Game
ATTACH;FMTTYPE=image/jpeg:https://afnwct.org/wp-content/uploads/2017/12/French-Monopoly.jpg
END:VEVENT
BEGIN:VEVENT
DTSTART;VALUE=DATE:20180424
DTEND;VALUE=DATE:20180426
DTSTAMP:20260425T094853
CREATED:20170916T031046Z
LAST-MODIFIED:20170916T031046Z
UID:39684-1524528000-1524700799@afnwct.org
SUMMARY:2018 Give Local of Greater Waterbury & Litchfield Hills
DESCRIPTION:Details on the 36-hour Fund Raising event will be communicated in the future. \nThis is a great time to donate to your favorite non-profit (AFNWCT) and have your donations matched by the Connecticut Community Foundation and its generous sponsors.
URL:https://afnwct.org/event/2018-give-local-of-greater-waterbury-litchfield-hills/
CATEGORIES:aaHomePage,Special
ATTACH;FMTTYPE=image/png:https://afnwct.org/wp-content/uploads/2016/07/Give-Local.png
END:VEVENT
BEGIN:VEVENT
DTSTART;VALUE=DATE:20180422
DTEND;VALUE=DATE:20180423
DTSTAMP:20260425T094853
CREATED:20180331T212344Z
LAST-MODIFIED:20180416T185404Z
UID:40235-1524355200-1524441599@afnwct.org
SUMMARY:Petanque Gathering: "It is Petanque time!"
DESCRIPTION:A gathering for all members who are interested in playing in the Summer League is planned for April 22nd\, at the residence of Anne & Mark Franklin. It will include a potluck a la Francaise\, orientation\, demonstration and sign up! \nRSVP is required to 203-707-0710\, or AFNWCT@afnwct.org
URL:https://afnwct.org/event/petanque-gathering-it-is-petanque-time/
LOCATION:Franklin Residence\, 212 Amos White Rd.\, Southbury\, CT\, 06488\, United States
CATEGORIES:aaHomePage,Game,Petanque League
ATTACH;FMTTYPE=image/jpeg:https://afnwct.org/wp-content/uploads/2016/07/petanque_cochonnet.jpg
END:VEVENT
BEGIN:VEVENT
DTSTART;TZID=America/New_York:20180420T183000
DTEND;TZID=America/New_York:20180420T183000
DTSTAMP:20260425T094853
CREATED:20180310T182541Z
LAST-MODIFIED:20180406T173420Z
UID:40204-1524249000-1524249000@afnwct.org
SUMMARY:Cinema et Conversation
DESCRIPTION:For April\, we plan on changing the pace and showing something funny\, light and relatively recent. The film is Intouchables (2011). It is a “bromance” comedy involving an unlikely friendship between a quadriplegic billionaire and his irreverent caretaker. It is based on a true friendship. \nPizza will be served\, BYOB. \n 
URL:https://afnwct.org/event/cinema-et-conversation-4/
CATEGORIES:aaHomePage,Ciné-Club
ATTACH;FMTTYPE=image/jpeg:https://afnwct.org/wp-content/uploads/2017/12/CINEMA-ET-CONVERSATION.jpg
END:VEVENT
BEGIN:VEVENT
DTSTART;TZID=America/New_York:20180414T140000
DTEND;TZID=America/New_York:20180414T154500
DTSTAMP:20260425T094853
CREATED:20180216T224753Z
LAST-MODIFIED:20180331T210337Z
UID:40175-1523714400-1523720700@afnwct.org
SUMMARY:"How The French Saved America"
DESCRIPTION:Americans today have a love/hate relationship with France\, but in this illuminating new history\, Tom Shachtman shows that without France\, there might not be a United States of America. How The French Saved America is about French aid to the Americans during the American Revolution. \nThis narrative history vividly captures the individual characters of our European brothers\, their battlefield and diplomatic bonds and clashes with Americans\, and the monumental role they played in America’s fight for independence and democracy. \nFor more information on Tom\, visit http://www.tomshachtman.com \nFree and open to the public. Registration is requested\, please call: 203-707-0710 \n 
URL:https://afnwct.org/event/how-the-french-saved-america/
LOCATION:Southbury Public Library\, 100 Poverty Rd.\, Southbury\, CT\, 06488\, United States
CATEGORIES:aaHomePage,Presentation
ATTACH;FMTTYPE=image/jpeg:https://afnwct.org/wp-content/uploads/2018/02/How-The-French-Saved-America_SBY-Library-Event.jpg
END:VEVENT
BEGIN:VEVENT
DTSTART;TZID=America/New_York:20180414T103000
DTEND;TZID=America/New_York:20180414T123000
DTSTAMP:20260425T094853
CREATED:20180216T220655Z
LAST-MODIFIED:20180216T220655Z
UID:40163-1523701800-1523709000@afnwct.org
SUMMARY:Cafe Conversations
DESCRIPTION:Café Conversations is a great way to practice\, improve and/or help you feel more comfortable speaking French with friendly francophones and francophiles who enjoy speaking French in an informal setting.  The group meets two Saturdays a month from 10:30 to 12:30 (be sure to check this calendar often). Have a cup of coffee and meet/greet fellow members for the first half hour or so with some small talk – en français (It’s all about practicing!) and then prepare to tackle the subject of the day. \nAn article in French (often with a side-by-side English translation) is read out loud en français by the participants to practice proper pronounciation and to check understanding of the French vocabulary and grammar. The article will then be used to spark the conversation. \nAll levels of French are welcome. AFNWCT members attend free and a $5 suggested donation is kindly requested from all others. \nThose with a question\, or if you wish to propose a certain topic or lead one of the discussions should contact Brigitte: cafe@afnwct.org \nThis group meets at the AF Center located at 1 Pomperaug Office Park\, Suite 301 in Southbury. See map below.
URL:https://afnwct.org/event/cafe-conversations-10/
CATEGORIES:aaHomePage,Café Conversation,French Discussion Group
ORGANIZER;CN="Brigitte Fr%C3%A9gault":MAILTO:cafe@afnwct.org
END:VEVENT
BEGIN:VEVENT
DTSTART;TZID=America/New_York:20180412T183000
DTEND;TZID=America/New_York:20180412T200000
DTSTAMP:20260425T094853
CREATED:20180216T220048Z
LAST-MODIFIED:20180216T220048Z
UID:40159-1523557800-1523563200@afnwct.org
SUMMARY:Parlons Francais
DESCRIPTION:Parlons Français \nThe Thursday evening Parlons Français Back to Basics meets tonight at the Brookfield Library. \nDesigned for those who have studied French in the past and just want a refresher. \nLed by Colin Harrison\, students use the textbook “Ultimate French – Beginner-Intermediate”. \nWe meet in one of the corners upstairs in the Main Library area. \nPlease register for this event through the Brookfield Library website. \n 
URL:https://afnwct.org/event/parlons-francais-19/
CATEGORIES:aaHomePage,Adult Class,French Class,Parlons Français
ATTACH;FMTTYPE=image/png:https://afnwct.org/wp-content/uploads/2017/01/france-1177405_1280.png
ORGANIZER;CN="Colin Harrison":MAILTO:cgh260247@aol.com
END:VEVENT
BEGIN:VEVENT
DTSTART;TZID=America/New_York:20180411T130000
DTEND;TZID=America/New_York:20180411T143000
DTSTAMP:20260425T094853
CREATED:20180216T221843Z
LAST-MODIFIED:20180216T221843Z
UID:40169-1523451600-1523457000@afnwct.org
SUMMARY:PORTES OUVERTES: Scrabble\, anyone?
DESCRIPTION:Evelyne Purdy will hold a games/conversation “en Français” session on the 2nd and 4th Wednesday of the month\, from 1 to 2:30pm at the Alliance Française Center in Southbury. Also take time to browse our extensive library. \nThe Center is located at 1 Pomperaug Office Park\, Suite 301\, Southbury. Call us at 203-707-0710 to let us know if you are joining us. \nHomemade goodies are welcome!
URL:https://afnwct.org/event/portes-ouvertes-scrabble-anyone-5/
CATEGORIES:aaHomePage,French Discussion Group,Game,Portes Ouvertes
ATTACH;FMTTYPE=image/jpeg:https://afnwct.org/wp-content/uploads/2017/12/French-Monopoly.jpg
END:VEVENT
BEGIN:VEVENT
DTSTART;TZID=America/New_York:20180407T100000
DTEND;TZID=America/New_York:20180407T100000
DTSTAMP:20260425T094853
CREATED:20180301T210823Z
LAST-MODIFIED:20180301T210823Z
UID:40182-1523095200-1523095200@afnwct.org
SUMMARY:Monthly Board Meeting
DESCRIPTION:
URL:https://afnwct.org/event/monthly-board-meeting-2/
CATEGORIES:aaHomePage,Monthly Board Meeting
END:VEVENT
BEGIN:VEVENT
DTSTART;TZID=America/New_York:20180407T090000
DTEND;TZID=America/New_York:20180407T103000
DTSTAMP:20260425T094853
CREATED:20180305T182907Z
LAST-MODIFIED:20180305T182907Z
UID:40201-1523091600-1523097000@afnwct.org
SUMMARY:French Class: Conversational French for Travelers
DESCRIPTION:
URL:https://afnwct.org/event/french-class-conversational-french-for-travelers/
CATEGORIES:aaHomePage,Adult Class,French Class
END:VEVENT
BEGIN:VEVENT
DTSTART;TZID=America/New_York:20180405T183000
DTEND;TZID=America/New_York:20180405T203000
DTSTAMP:20260425T094853
CREATED:20180216T221249Z
LAST-MODIFIED:20180216T221249Z
UID:40167-1522953000-1522960200@afnwct.org
SUMMARY:Groupe de Lecture
DESCRIPTION:Meeting on the first Thursday of each month\, from 6:30 to 8:30 pm\, this group has a lot of fun sipping wine\, tasting cheese and crackers and taking turns reading out loud in French. Enjoy hearing and sharing the richness of the French language. \nThe title of the current selection is “La Tournée D’Automne”. \nLa Tournée D’Automne is a love story about an older man who runs a bookmobile serving the smaller villages of Quebec in the hauntingly beautiful landscape of the north shore of the St. Lawrence River. One day\, a small group of entertainers from France decide to travel much the same route and the man meets Marie\, a woman who captivates him from the moment he sets eyes on her and who seems equally attracted to him. \n  \nThe tone of the story is quiet and gentle and those new to Poulin are likely to find La Tournée D’Automne a charming and captivating tale. \n  \nIf you have any questions\, please let Amanda know at lecture@afnwct.org. \nAFNWCT Members attend for free; A suggested donation of $5 is requested from others. \nQuestions or comments? Contact Amanda: lecture@afnwct.org
URL:https://afnwct.org/event/groupe-de-lecture-22/
CATEGORIES:aaHomePage,Groupe de Lecture
END:VEVENT
BEGIN:VEVENT
DTSTART;TZID=America/New_York:20180405T173000
DTEND;TZID=America/New_York:20180405T183000
DTSTAMP:20260425T094853
CREATED:20180305T182651Z
LAST-MODIFIED:20180305T182651Z
UID:40199-1522949400-1522953000@afnwct.org
SUMMARY:French Class: "Bonjour\, Madame!"\, with Madame Marie-Odile
DESCRIPTION:
URL:https://afnwct.org/event/french-class-bonjour-madame-with-madame-marie-odile/
CATEGORIES:aaHomePage,Children's Class,French Class
ATTACH;FMTTYPE=image/jpeg:https://afnwct.org/wp-content/uploads/2017/12/FRENCH-CLASS_young-kids.jpg
END:VEVENT
BEGIN:VEVENT
DTSTART;TZID=America/New_York:20180404T183000
DTEND;TZID=America/New_York:20180404T200000
DTSTAMP:20260425T094853
CREATED:20180305T182326Z
LAST-MODIFIED:20180305T182326Z
UID:40196-1522866600-1522872000@afnwct.org
SUMMARY:French Class: Adv. Beg. & Intermediate A1-C
DESCRIPTION:
URL:https://afnwct.org/event/french-class-adv-beg-intermediate-a1-c/
CATEGORIES:aaHomePage,Adult Class,French Class
END:VEVENT
BEGIN:VEVENT
DTSTART;TZID=America/New_York:20180404T163000
DTEND;TZID=America/New_York:20180404T180000
DTSTAMP:20260425T094853
CREATED:20180305T182135Z
LAST-MODIFIED:20180305T182135Z
UID:40194-1522859400-1522864800@afnwct.org
SUMMARY:French Class: Beginners French A1
DESCRIPTION:
URL:https://afnwct.org/event/french-class-beginners-french-a1/
CATEGORIES:aaHomePage,Adult Class,French Class
END:VEVENT
BEGIN:VEVENT
DTSTART;TZID=America/New_York:20180404T143000
DTEND;TZID=America/New_York:20180404T160000
DTSTAMP:20260425T094853
CREATED:20180305T181914Z
LAST-MODIFIED:20180305T181914Z
UID:40192-1522852200-1522857600@afnwct.org
SUMMARY:French Class: Beginners French A1-B
DESCRIPTION:
URL:https://afnwct.org/event/french-class-beginners-french-a1-b/
CATEGORIES:aaHomePage,Adult Class,French Class
END:VEVENT
BEGIN:VEVENT
DTSTART;TZID=America/New_York:20180403T170000
DTEND;TZID=America/New_York:20180403T180000
DTSTAMP:20260425T094853
CREATED:20180305T181504Z
LAST-MODIFIED:20180305T181534Z
UID:40188-1522774800-1522778400@afnwct.org
SUMMARY:French Class: Chez Moi a Paris
DESCRIPTION:
URL:https://afnwct.org/event/french-class-chez-moi-a-paris/
CATEGORIES:aaHomePage,Children's Class,French Class
END:VEVENT
BEGIN:VEVENT
DTSTART;TZID=America/New_York:20180403T160000
DTEND;TZID=America/New_York:20180403T170000
DTSTAMP:20260425T094853
CREATED:20180305T181719Z
LAST-MODIFIED:20180305T181719Z
UID:40190-1522771200-1522774800@afnwct.org
SUMMARY:French Class: French Dialogues
DESCRIPTION:
URL:https://afnwct.org/event/french-class-french-dialogues/
CATEGORIES:aaHomePage,Children's Class,French Class
END:VEVENT
END:VCALENDAR