BEGIN:VCALENDAR
VERSION:2.0
PRODID:-//Alliance Francaise of NW CT - ECPv6.15.11//NONSGML v1.0//EN
CALSCALE:GREGORIAN
METHOD:PUBLISH
X-WR-CALNAME:Alliance Francaise of NW CT
X-ORIGINAL-URL:https://afnwct.org
X-WR-CALDESC:Events for Alliance Francaise of NW CT
REFRESH-INTERVAL;VALUE=DURATION:PT1H
X-Robots-Tag:noindex
X-PUBLISHED-TTL:PT1H
BEGIN:VTIMEZONE
TZID:America/New_York
BEGIN:DAYLIGHT
TZOFFSETFROM:-0500
TZOFFSETTO:-0400
TZNAME:EDT
DTSTART:20170312T070000
END:DAYLIGHT
BEGIN:STANDARD
TZOFFSETFROM:-0400
TZOFFSETTO:-0500
TZNAME:EST
DTSTART:20171105T060000
END:STANDARD
BEGIN:DAYLIGHT
TZOFFSETFROM:-0500
TZOFFSETTO:-0400
TZNAME:EDT
DTSTART:20180311T070000
END:DAYLIGHT
BEGIN:STANDARD
TZOFFSETFROM:-0400
TZOFFSETTO:-0500
TZNAME:EST
DTSTART:20181104T060000
END:STANDARD
BEGIN:DAYLIGHT
TZOFFSETFROM:-0500
TZOFFSETTO:-0400
TZNAME:EDT
DTSTART:20190310T070000
END:DAYLIGHT
BEGIN:STANDARD
TZOFFSETFROM:-0400
TZOFFSETTO:-0500
TZNAME:EST
DTSTART:20191103T060000
END:STANDARD
END:VTIMEZONE
BEGIN:VEVENT
DTSTART;TZID=America/New_York:20180130T170000
DTEND;TZID=America/New_York:20180130T180000
DTSTAMP:20260425T192040
CREATED:20171219T211732Z
LAST-MODIFIED:20171219T211732Z
UID:40020-1517331600-1517335200@afnwct.org
SUMMARY:French Class: Chez Moi a Paris (ages 3-7)
DESCRIPTION:
URL:https://afnwct.org/event/french-class-chez-moi-a-paris-ages-3-7-4/
CATEGORIES:aaHomePage,Children's Class,French Class
END:VEVENT
BEGIN:VEVENT
DTSTART;TZID=America/New_York:20180130T160000
DTEND;TZID=America/New_York:20180130T170000
DTSTAMP:20260425T192040
CREATED:20171219T211524Z
LAST-MODIFIED:20171219T211524Z
UID:40018-1517328000-1517331600@afnwct.org
SUMMARY:French Class: French Dialogues (ages 5-8)
DESCRIPTION:
URL:https://afnwct.org/event/french-class-french-dialogues-ages-5-8-4/
CATEGORIES:aaHomePage,Children's Class,French Class
END:VEVENT
BEGIN:VEVENT
DTSTART;TZID=America/New_York:20180129T160000
DTEND;TZID=America/New_York:20180129T170000
DTSTAMP:20260425T192040
CREATED:20171219T211329Z
LAST-MODIFIED:20171219T211329Z
UID:40016-1517241600-1517245200@afnwct.org
SUMMARY:French Class: French for Teens
DESCRIPTION:
URL:https://afnwct.org/event/french-class-french-for-teens-4/
CATEGORIES:aaHomePage,French Class,Teen Class
END:VEVENT
BEGIN:VEVENT
DTSTART;TZID=America/New_York:20180129T093000
DTEND;TZID=America/New_York:20180129T110000
DTSTAMP:20260425T192040
CREATED:20171219T211155Z
LAST-MODIFIED:20171219T211155Z
UID:40014-1517218200-1517223600@afnwct.org
SUMMARY:French Class: Advanced Conversation & Grammar
DESCRIPTION:
URL:https://afnwct.org/event/french-class-advanced-conversation-grammar-4/
CATEGORIES:aaHomePage,Adult Class,French Class
END:VEVENT
BEGIN:VEVENT
DTSTART;TZID=America/New_York:20180128T140000
DTEND;TZID=America/New_York:20180128T140000
DTSTAMP:20260425T192040
CREATED:20171214T213230Z
LAST-MODIFIED:20180102T215303Z
UID:39958-1517148000-1517148000@afnwct.org
SUMMARY:Cinema Et Conversation
DESCRIPTION:CINÉMA ET CONVERSATION \nModerators Strother Purdy and Mark Franklin will present each month to AF members a wide selection of French films to view and discuss. The viewing will be held at the AF Center 2:00pm\, we will present a comedy\, “La Folie des Grandeurs” (1971). Our moderators Strother Purdy and Mark\nFranklin will lead the discussions. Pizza will be served with BYOB. \nSunday 2:00pm presentations will include snacks and BYOB. \nFriday evening 6:30pm presentations will include pizza and BYOB. \nA $5 donation will be accepted. \nInterested members can receive a listing of the movies by calling 203-707-0710. \nCome\, enjoy\, and educate yourself on French Cinéma! \n 
URL:https://afnwct.org/event/cinema-et-conversation/
CATEGORIES:aaHomePage,Ciné-Club
ATTACH;FMTTYPE=image/jpeg:https://afnwct.org/wp-content/uploads/2017/12/CINEMA-ET-CONVERSATION.jpg
END:VEVENT
BEGIN:VEVENT
DTSTART;TZID=America/New_York:20180127T090000
DTEND;TZID=America/New_York:20180127T103000
DTSTAMP:20260425T192040
CREATED:20171214T213609Z
LAST-MODIFIED:20171214T213609Z
UID:39963-1517043600-1517049000@afnwct.org
SUMMARY:Conversational French for Travelers
DESCRIPTION:
URL:https://afnwct.org/event/conversational-french-for-travelers-13/
CATEGORIES:aaHomePage,French Class
ATTACH;FMTTYPE=image/jpeg:https://afnwct.org/wp-content/uploads/2016/03/French-SpeakingNations.jpg
END:VEVENT
BEGIN:VEVENT
DTSTART;TZID=America/New_York:20180125T160000
DTEND;TZID=America/New_York:20180125T170000
DTSTAMP:20260425T192040
CREATED:20171219T210957Z
LAST-MODIFIED:20171219T210957Z
UID:40012-1516896000-1516899600@afnwct.org
SUMMARY:French Class: Bonjour\, Madame! (ages 3-7)
DESCRIPTION:
URL:https://afnwct.org/event/french-class-bonjour-madame-ages-3-7-3/
CATEGORIES:aaHomePage,Children's Class,French Class
ATTACH;FMTTYPE=image/jpeg:https://afnwct.org/wp-content/uploads/2017/12/FRENCH-CLASS_young-kids.jpg
END:VEVENT
BEGIN:VEVENT
DTSTART;TZID=America/New_York:20180124T183000
DTEND;TZID=America/New_York:20180124T200000
DTSTAMP:20260425T192040
CREATED:20171219T210609Z
LAST-MODIFIED:20171219T210609Z
UID:40008-1516818600-1516824000@afnwct.org
SUMMARY:French Class: Advanced Beginner & Intermediate A1-C
DESCRIPTION:
URL:https://afnwct.org/event/french-class-advanced-beginner-intermediate-a1-c-3/
CATEGORIES:aaHomePage,Adult Class,French Class
END:VEVENT
BEGIN:VEVENT
DTSTART;TZID=America/New_York:20180124T163000
DTEND;TZID=America/New_York:20180124T180000
DTSTAMP:20260425T192040
CREATED:20171219T210755Z
LAST-MODIFIED:20171219T210755Z
UID:40010-1516811400-1516816800@afnwct.org
SUMMARY:French Class: Beginners A1
DESCRIPTION:
URL:https://afnwct.org/event/french-class-beginners-a1-3/
CATEGORIES:aaHomePage,Adult Class,French Class
END:VEVENT
BEGIN:VEVENT
DTSTART;TZID=America/New_York:20180124T143000
DTEND;TZID=America/New_York:20180124T160000
DTSTAMP:20260425T192040
CREATED:20171219T210347Z
LAST-MODIFIED:20171219T210347Z
UID:40006-1516804200-1516809600@afnwct.org
SUMMARY:French Class: Beginners A1-B
DESCRIPTION:
URL:https://afnwct.org/event/french-class-beginners-a1-b-3/
CATEGORIES:aaHomePage,Adult Class,French Class
END:VEVENT
BEGIN:VEVENT
DTSTART;TZID=America/New_York:20180124T130000
DTEND;TZID=America/New_York:20180124T143000
DTSTAMP:20260425T192040
CREATED:20171204T201431Z
LAST-MODIFIED:20171222T163348Z
UID:39914-1516798800-1516804200@afnwct.org
SUMMARY:Portes Ouvertes: Scrabble\, anyone?
DESCRIPTION:Evelyne Purdy will hold a games/conversation “en Français” session on the 2nd and 4th Wednesday of the month\, from 1 to 2:30pm at the Alliance Française Center in Southbury. Also take time to browse our extensive library. \nThe Center is located at 1 Pomperaug Office Park\, Suite 301\, Southbury. Call us at 203-707-0710 to let us know if you are joining us. \nHomemade goodies are welcome!
URL:https://afnwct.org/event/portes-ouvertes-scrabble-anyone-2/
CATEGORIES:aaHomePage,Game
ATTACH;FMTTYPE=image/jpeg:https://afnwct.org/wp-content/uploads/2017/12/French-Monopoly.jpg
END:VEVENT
BEGIN:VEVENT
DTSTART;TZID=America/New_York:20180123T170000
DTEND;TZID=America/New_York:20180123T180000
DTSTAMP:20260425T192040
CREATED:20171219T210155Z
LAST-MODIFIED:20171219T210155Z
UID:40004-1516726800-1516730400@afnwct.org
SUMMARY:French Class: Chez Moi a Paris (ages 3-7)
DESCRIPTION:
URL:https://afnwct.org/event/french-class-chez-moi-a-paris-ages-3-7-3/
CATEGORIES:aaHomePage,Children's Class,French Class
END:VEVENT
BEGIN:VEVENT
DTSTART;TZID=America/New_York:20180123T160000
DTEND;TZID=America/New_York:20180123T170000
DTSTAMP:20260425T192040
CREATED:20171219T205956Z
LAST-MODIFIED:20171219T205956Z
UID:40002-1516723200-1516726800@afnwct.org
SUMMARY:French Class: French Dialogues (ages 5-8)
DESCRIPTION:
URL:https://afnwct.org/event/french-class-french-dialogues-ages-5-8-3/
CATEGORIES:aaHomePage,Children's Class,French Class
END:VEVENT
BEGIN:VEVENT
DTSTART;TZID=America/New_York:20180122T160000
DTEND;TZID=America/New_York:20180122T170000
DTSTAMP:20260425T192040
CREATED:20171219T205804Z
LAST-MODIFIED:20171219T205804Z
UID:40000-1516636800-1516640400@afnwct.org
SUMMARY:French Class: French for Teens
DESCRIPTION:
URL:https://afnwct.org/event/french-class-french-for-teens-3/
CATEGORIES:aaHomePage,French Class,Teen Class
END:VEVENT
BEGIN:VEVENT
DTSTART;TZID=America/New_York:20180122T093000
DTEND;TZID=America/New_York:20180122T110000
DTSTAMP:20260425T192040
CREATED:20171219T205620Z
LAST-MODIFIED:20171219T205620Z
UID:39998-1516613400-1516618800@afnwct.org
SUMMARY:French Class: Advanced Conversation & Grammar
DESCRIPTION:
URL:https://afnwct.org/event/french-class-advanced-conversation-grammar-3/
CATEGORIES:aaHomePage,Adult Class,French Class
END:VEVENT
BEGIN:VEVENT
DTSTART;TZID=America/New_York:20180120T140000
DTEND;TZID=America/New_York:20180120T160000
DTSTAMP:20260425T192040
CREATED:20171214T210217Z
LAST-MODIFIED:20171222T163615Z
UID:39951-1516456800-1516464000@afnwct.org
SUMMARY:Que Seurat\, Seurat...
DESCRIPTION:A Parisian who knew Normandy\, Georges Seurat created unforgettable scenes of everyday French life\, using the latest scientific vision research of his time\, including Pointillism\, a technique of placing daubs of paint close together. “A Sunday on the La Grande Jatte” is the best known example of his work. This presentation is by Michael Norris\, of Armchair Art Tours. \nLight refreshments will be served following the presentation. \nSuggested donation of $5. \nReservations are requested\, as seating is limited. \nCall 203-707-0710 to RSVP. \n*AF Center – 1 Pomperaug Office Park\, Suite 301\, Southbury\, CT 06488
URL:https://afnwct.org/event/que-seurat-seurat/
CATEGORIES:aaHomePage,Presentation
ATTACH;FMTTYPE=image/jpeg:https://afnwct.org/wp-content/uploads/2017/12/SEURAT_Ile-de-La-Grande-Jatte.jpg
END:VEVENT
BEGIN:VEVENT
DTSTART;TZID=America/New_York:20180120T103000
DTEND;TZID=America/New_York:20180120T123000
DTSTAMP:20260425T192040
CREATED:20171214T211111Z
LAST-MODIFIED:20171214T211111Z
UID:39956-1516444200-1516451400@afnwct.org
SUMMARY:Cafe Conversations
DESCRIPTION:Café Conversations is a great way to practice\, improve and/or help you feel more comfortable speaking French with friendly francophones and francophiles who enjoy speaking French in an informal setting.  The group meets two Saturdays a month from 10:30 to 12:30 (be sure to check this calendar often). Have a cup of coffee and meet/greet fellow members for the first half hour or so with some small talk – en français (It’s all about practicing!) and then prepare to tackle the subject of the day. \nAn article in French (often with a side-by-side English translation) is read out loud en français by the participants to practice proper pronounciation and to check understanding of the French vocabulary and grammar. The article will then be used to spark the conversation. \nAll levels of French are welcome. AFNWCT members attend free and a $5 suggested donation is kindly requested from all others. \nThose with a question\, or if you wish to propose a certain topic or lead one of the discussions should contact Brigitte: cafe@afnwct.org \nThis group meets at the AF Center located at 1 Pomperaug Office Park\, Suite 301 in Southbury. See map below.
URL:https://afnwct.org/event/cafe-conversations-4/
CATEGORIES:aaHomePage,Café Conversation
ORGANIZER;CN="Brigitte Fr%C3%A9gault":MAILTO:cafe@afnwct.org
END:VEVENT
BEGIN:VEVENT
DTSTART;TZID=America/New_York:20180120T090000
DTEND;TZID=America/New_York:20180120T103000
DTSTAMP:20260425T192040
CREATED:20171214T210644Z
LAST-MODIFIED:20171214T210644Z
UID:39954-1516438800-1516444200@afnwct.org
SUMMARY:Conversational French for Travelers
DESCRIPTION:
URL:https://afnwct.org/event/conversational-french-for-travelers-12/
CATEGORIES:aaHomePage,French Class
ATTACH;FMTTYPE=image/jpeg:https://afnwct.org/wp-content/uploads/2016/03/French-SpeakingNations.jpg
END:VEVENT
BEGIN:VEVENT
DTSTART;TZID=America/New_York:20180118T160000
DTEND;TZID=America/New_York:20180118T170000
DTSTAMP:20260425T192040
CREATED:20171219T205347Z
LAST-MODIFIED:20171219T205347Z
UID:39996-1516291200-1516294800@afnwct.org
SUMMARY:French Class: Bonjour\, Madame! (ages 3-7)
DESCRIPTION:
URL:https://afnwct.org/event/french-class-bonjour-madame-ages-3-7-2/
CATEGORIES:aaHomePage,Children's Class,French Class
ATTACH;FMTTYPE=image/jpeg:https://afnwct.org/wp-content/uploads/2017/12/FRENCH-CLASS_young-kids.jpg
END:VEVENT
BEGIN:VEVENT
DTSTART;TZID=America/New_York:20180117T183000
DTEND;TZID=America/New_York:20180117T200000
DTSTAMP:20260425T192040
CREATED:20171219T205132Z
LAST-MODIFIED:20171219T205132Z
UID:39994-1516213800-1516219200@afnwct.org
SUMMARY:French Class: Advanced Beginner & Intermediate A1-C
DESCRIPTION:
URL:https://afnwct.org/event/french-class-advanced-beginner-intermediate-a1-c-2/
CATEGORIES:aaHomePage,Adult Class
END:VEVENT
BEGIN:VEVENT
DTSTART;TZID=America/New_York:20180117T163000
DTEND;TZID=America/New_York:20180117T180000
DTSTAMP:20260425T192040
CREATED:20171219T204940Z
LAST-MODIFIED:20171219T204940Z
UID:39992-1516206600-1516212000@afnwct.org
SUMMARY:French Class: Beginners A1
DESCRIPTION:
URL:https://afnwct.org/event/french-class-beginners-a1-2/
CATEGORIES:aaHomePage,Adult Class,French Class
END:VEVENT
BEGIN:VEVENT
DTSTART;TZID=America/New_York:20180117T143000
DTEND;TZID=America/New_York:20180117T160000
DTSTAMP:20260425T192040
CREATED:20171219T204754Z
LAST-MODIFIED:20171219T204754Z
UID:39990-1516199400-1516204800@afnwct.org
SUMMARY:French Class: Beginners A1-B
DESCRIPTION:
URL:https://afnwct.org/event/french-class-beginners-a1-b-2/
CATEGORIES:aaHomePage,Adult Class,French Class
END:VEVENT
BEGIN:VEVENT
DTSTART;TZID=America/New_York:20180116T170000
DTEND;TZID=America/New_York:20180116T180000
DTSTAMP:20260425T192040
CREATED:20171219T204549Z
LAST-MODIFIED:20171219T204549Z
UID:39988-1516122000-1516125600@afnwct.org
SUMMARY:French Class: Chez Moi a Paris (ages 3-7)
DESCRIPTION:
URL:https://afnwct.org/event/french-class-chez-moi-a-paris-ages-3-7-2/
CATEGORIES:aaHomePage,Children's Class,French Class
END:VEVENT
BEGIN:VEVENT
DTSTART;TZID=America/New_York:20180116T160000
DTEND;TZID=America/New_York:20180116T170000
DTSTAMP:20260425T192040
CREATED:20171219T204404Z
LAST-MODIFIED:20171219T204404Z
UID:39986-1516118400-1516122000@afnwct.org
SUMMARY:French Class: French Dialogues (ages 5-8)
DESCRIPTION:
URL:https://afnwct.org/event/french-class-french-dialogues-ages-5-8-2/
CATEGORIES:aaHomePage,Children's Class,French Class
END:VEVENT
BEGIN:VEVENT
DTSTART;TZID=America/New_York:20180115T160000
DTEND;TZID=America/New_York:20180115T170000
DTSTAMP:20260425T192040
CREATED:20171219T204142Z
LAST-MODIFIED:20171219T204142Z
UID:39984-1516032000-1516035600@afnwct.org
SUMMARY:French Class: French for Teens
DESCRIPTION:
URL:https://afnwct.org/event/french-class-french-for-teens-2/
CATEGORIES:aaHomePage,Teen Class
END:VEVENT
BEGIN:VEVENT
DTSTART;TZID=America/New_York:20180115T093000
DTEND;TZID=America/New_York:20180115T110000
DTSTAMP:20260425T192040
CREATED:20171219T203946Z
LAST-MODIFIED:20171219T203946Z
UID:39982-1516008600-1516014000@afnwct.org
SUMMARY:French Class: Advanced Conversation & Grammar
DESCRIPTION:
URL:https://afnwct.org/event/french-class-advanced-conversation-grammar-2/
CATEGORIES:aaHomePage,Adult Class,French Class
END:VEVENT
BEGIN:VEVENT
DTSTART;TZID=America/New_York:20180113T110000
DTEND;TZID=America/New_York:20180113T110000
DTSTAMP:20260425T192040
CREATED:20171213T215138Z
LAST-MODIFIED:20171213T215138Z
UID:39948-1515841200-1515841200@afnwct.org
SUMMARY:Monthly Board Meeting
DESCRIPTION:
URL:https://afnwct.org/event/monthly-board-meeting/
CATEGORIES:aaHomePage,Monthly Board Meeting
END:VEVENT
BEGIN:VEVENT
DTSTART;TZID=America/New_York:20180113T090000
DTEND;TZID=America/New_York:20180113T103000
DTSTAMP:20260425T192040
CREATED:20171213T214202Z
LAST-MODIFIED:20171213T214202Z
UID:39946-1515834000-1515839400@afnwct.org
SUMMARY:Conversational French for Travelers
DESCRIPTION:
URL:https://afnwct.org/event/conversational-french-for-travelers-11/
CATEGORIES:aaHomePage,Adult Class,French Class
END:VEVENT
BEGIN:VEVENT
DTSTART;TZID=America/New_York:20180111T183000
DTEND;TZID=America/New_York:20180111T200000
DTSTAMP:20260425T192040
CREATED:20171108T200821Z
LAST-MODIFIED:20171219T213247Z
UID:39893-1515695400-1515700800@afnwct.org
SUMMARY:Parlons Français
DESCRIPTION:The Thursday evening Parlons Français Back to Basics meets tonight at the Brookfield Library. \nDesigned for those who have studied French in the past and just want a refresher. \nLed by Colin Harrison\, students use the textbook “Ultimate French – Beginner-Intermediate”. \nWe meet in one of the corners upstairs in the Main Library area. \nPlease register for this event through the Brookfield Library website. \n 
URL:https://afnwct.org/event/parlons-francais-10/
CATEGORIES:aaHomePage,French Class,Parlons Français
ATTACH;FMTTYPE=image/png:https://afnwct.org/wp-content/uploads/2017/01/france-1177405_1280.png
ORGANIZER;CN="Colin Harrison":MAILTO:cgh260247@aol.com
END:VEVENT
BEGIN:VEVENT
DTSTART;TZID=America/New_York:20180111T160000
DTEND;TZID=America/New_York:20180111T170000
DTSTAMP:20260425T192040
CREATED:20171219T203106Z
LAST-MODIFIED:20171219T203329Z
UID:39980-1515686400-1515690000@afnwct.org
SUMMARY:French Class: Bonjour\, Madame! (ages 3-7)
DESCRIPTION:
URL:https://afnwct.org/event/french-class-bonjour-madame-ages-3-7/
CATEGORIES:aaHomePage,Children's Class,French Class
ATTACH;FMTTYPE=image/jpeg:https://afnwct.org/wp-content/uploads/2017/12/FRENCH-CLASS_young-kids.jpg
END:VEVENT
END:VCALENDAR