BEGIN:VCALENDAR
VERSION:2.0
PRODID:-//Alliance Francaise of NW CT - ECPv6.15.11//NONSGML v1.0//EN
CALSCALE:GREGORIAN
METHOD:PUBLISH
X-WR-CALNAME:Alliance Francaise of NW CT
X-ORIGINAL-URL:https://afnwct.org
X-WR-CALDESC:Events for Alliance Francaise of NW CT
REFRESH-INTERVAL;VALUE=DURATION:PT1H
X-Robots-Tag:noindex
X-PUBLISHED-TTL:PT1H
BEGIN:VTIMEZONE
TZID:America/New_York
BEGIN:DAYLIGHT
TZOFFSETFROM:-0500
TZOFFSETTO:-0400
TZNAME:EDT
DTSTART:20140309T070000
END:DAYLIGHT
BEGIN:STANDARD
TZOFFSETFROM:-0400
TZOFFSETTO:-0500
TZNAME:EST
DTSTART:20141102T060000
END:STANDARD
BEGIN:DAYLIGHT
TZOFFSETFROM:-0500
TZOFFSETTO:-0400
TZNAME:EDT
DTSTART:20150308T070000
END:DAYLIGHT
BEGIN:STANDARD
TZOFFSETFROM:-0400
TZOFFSETTO:-0500
TZNAME:EST
DTSTART:20151101T060000
END:STANDARD
BEGIN:DAYLIGHT
TZOFFSETFROM:-0500
TZOFFSETTO:-0400
TZNAME:EDT
DTSTART:20160313T070000
END:DAYLIGHT
BEGIN:STANDARD
TZOFFSETFROM:-0400
TZOFFSETTO:-0500
TZNAME:EST
DTSTART:20161106T060000
END:STANDARD
END:VTIMEZONE
BEGIN:VEVENT
DTSTART;TZID=America/New_York:20150808T100000
DTEND;TZID=America/New_York:20150808T120000
DTSTAMP:20260423T215330
CREATED:20150506T140829Z
LAST-MODIFIED:20150515T193809Z
UID:36945-1439028000-1439035200@afnwct.org
SUMMARY:Matinée Littéraire - 10 am
DESCRIPTION:  \n\n\n\n\n \n\n\n\n\nTogether\, reading aloud and discussing the text\, this group meets twice a month on Saturdays (replacing Cafe Conversation). This summer’s novel will be Le Testament francais by Adrei Makine. \nThe group meets in the Red Barn located at the Audubon Center Bent of the River\, 185 East Flat Hill Road\, Southbury\, CT 06488.  (See Google map.) \nWhat a beautiful setting for reading French literature!  There is a parking lot near the Center’s entrance.  One can park there and follow a short path to the Red Barn.  Those who find walking difficult  will be transported to the site by car. \nPlease send an email to Kathryn at matinee@afnwct.org to be added to the participation list and/or to order a copy of the book. \nFYI: Amazon also sells a Bilingual (Francais/Anglais) Kindle version for $.99 which is downloaded wirelessly to your Kindle\, iPad or iPhone.\n \n  \n 
URL:https://afnwct.org/event/matinee-litteraire-10-am-3/
LOCATION:Audubon Center – Bent of the River\, 185 E Flat Hill Rd\, Southbury\, CT\, 06488\, United States
CATEGORIES:Matinee Litteraire
END:VEVENT
BEGIN:VEVENT
DTSTART;TZID=America/New_York:20150725T100000
DTEND;TZID=America/New_York:20150725T120000
DTSTAMP:20260423T215330
CREATED:20150313T003538Z
LAST-MODIFIED:20150317T170519Z
UID:36856-1437818400-1437825600@afnwct.org
SUMMARY:Matinée Littéraire - 10 am
DESCRIPTION:  \nThe group’s meeting location is in the Red Barn located at the Audubon Center Bent of the River\,\, Southbury\, CT 06488 Audubon tel: 203-264-5098.  (See Google map.)  Dates: June 6 & 20\, July 11 & 25\, and August 11 & 25.  \nWhat a beautiful setting for reading French literature!  There is a parking lot near the Center’s entrance.  One can park there and follow a short path to the Red Barn.  Those who find walking difficult  will be transported to the site by car.   \nTogether\, reading aloud and discussing the text\, this group meets twice a month on Saturdays (replacing Cafe Conversation). This summer’s novel will be Le Testament francais by Adrei Makine. \nChairperson\, Kathryn MacCullough\, will be ordering from Cecile Cohen of Yale Book Store the French version for ~$13.95 or those who also want the English version\, it will be ~$14.95. The exact amount will be available soon.  Please send an email to Kathryn at matinee@afnwct.org to be added to the participation list and/or to order a copy of the book. Checks made payable to AFNWCT may be mailed to our Southbury AF Center: 1 Pomperaug Office Park\, Suite 301\, Southbury\, CT 06488 by May 7. \n FYI: Amazon also sells a Bilingual (Francais/Anglais) Kindle version for $.99 which is downloaded wirelessly to your Kindle\, iPad or iPhone.  \nQuestions can be directed to Kathryn at matinee@afnwct.org \n 
URL:https://afnwct.org/event/matinee-litteraire-10-am-2/
LOCATION:Audubon Center\,  185 East Flat Hill Road\, Southbury\, CT\, 06488\, United States
CATEGORIES:Matinee Litteraire
END:VEVENT
BEGIN:VEVENT
DTSTART;TZID=America/New_York:20150711T100000
DTEND;TZID=America/New_York:20150711T120000
DTSTAMP:20260423T215330
CREATED:20150312T182238Z
LAST-MODIFIED:20150313T001740Z
UID:36848-1436608800-1436616000@afnwct.org
SUMMARY:Matinée Littéraire - 10 am
DESCRIPTION:  \n\n\n\n\n \n\n\n\n\n  The group’s meeting location is in the Red Barn located at the Audubon Center Bent of the River\, 185 East Flat Hill Road\, Southbury\, CT 06488 Audubon tel: 203-264-5098.  (See Google map.)   \nDates: June 6 & 20\, July 11 & 25\, and August 11 & 25.  \nWhat a beautiful setting for reading French literature!  There is a parking lot near the Center’s entrance.  One can park there and follow a short path to the Red Barn.  Those who find walking difficult  will be transported to the site by car.   \nTogether\, reading aloud and discussing the text\, this group meets twice a month on Saturdays (replacing Cafe Conversation). This summer’s novel will be Le Testament francais by Adrei Makine. \nChairperson\, Kathryn MacCullough\, will be ordering from Cecile Cohen of Yale Book Store the French version for ~$13.95 or those who also want the English version\, it will be ~$14.95. The exact amount will be available soon.  Please send an email to Kathryn at matinee@afnwct.org to be added to the participation list and/or to order a copy of the book. Checks made payable to AFNWCT may be mailed to our Southbury AF Center: 1 Pomperaug Office Park\, Suite 301\, Southbury\, CT 06488 by May 7.   \nFYI: Amazon also sells a Bilingual (Francais/Anglais) Kindle version for $.99 which is downloaded wirelessly to your Kindle\, iPad or iPhone.  \nQuestions can be directed to Kathryn at matinee@afnwct.org . \n  \n 
URL:https://afnwct.org/event/matinee-litteraire-10-am/
LOCATION:Audubon Center – Bent of the River\, 185 E Flat Hill Rd\, Southbury\, CT\, 06488\, United States
CATEGORIES:Matinee Litteraire
END:VEVENT
BEGIN:VEVENT
DTSTART;TZID=America/New_York:20150620T100000
DTEND;TZID=America/New_York:20150620T120000
DTSTAMP:20260423T215330
CREATED:20150310T181424Z
LAST-MODIFIED:20150312T180414Z
UID:36720-1434794400-1434801600@afnwct.org
SUMMARY:Matinée Littéraire - 10 am
DESCRIPTION: \n\n\n\n  \nThe group’s meeting location is in the Red Barn located at the Audubon Center Bent of the River\, 185 East Flat Hill Road\, Southbury\, CT 06488 Audubon tel: 203-264-5098.  (See Google map.)  Dates: June 6 & 20\, July 11 & 25\, August 11 & 25.  \nWhat a beautiful setting for reading French literature!  There is a parking lot near the Center’s entrance.  One can park there and follow a short path to the Red Barn.  Those who find walking difficult  will be transported to the site by car.   \nTogether\, reading aloud and discussing the text\, this group meets twice a month on Saturdays (replacing Cafe Conversation). This summer’s novel will be Le Testament francais by Adrei Makine. \nChairperson\, Kathryn MacCullough\, will be ordering from Cecile Cohen of Yale Book Store the French version for ~$13.95 or those who also want the English version\, it will be ~$14.95. The exact amount will be available soon.  Please send an email to Kathryn at matinee@afnwct.org to be added to the participation list and/or to order a copy of the book. Checks made payable to AFNWCT may be mailed to our Southbury AF Center: 1 Pomperaug Office Park\, Suite 301\, Southbury\, CT 06488 by May 7. \n FYI: Amazon also sells a Bilingual (Francais/Anglais) Kindle version for $.99 which is downloaded wirelessly to your Kindle\, iPad or iPhone.  \nQuestions can be directed to Kathryn at matinee@afnwct.org
URL:https://afnwct.org/event/ete-litteraire-10-am/
LOCATION:Audubon Center – Bent of the River\, 185 E Flat Hill Rd\, Southbury\, CT\, 06488\, United States
CATEGORIES:Matinee Litteraire
END:VEVENT
BEGIN:VEVENT
DTSTART;TZID=America/New_York:20150606T100000
DTEND;TZID=America/New_York:20150606T120000
DTSTAMP:20260423T215330
CREATED:20150310T175223Z
LAST-MODIFIED:20150312T180119Z
UID:36657-1433584800-1433592000@afnwct.org
SUMMARY:Matinée Littéraire - 10 am
DESCRIPTION:  \nThe group’s meeting location is in the Red Barn located at the Audubon Center Bent of the River\, 185 East Flat Hill Road\, Southbury\, CT 06488 Audubon tel: 203-264-5098.  (See Google map.)  Dates: June 6 & 20\, July 11 & 25\, August 11 & 25.  \nWhat a beautiful setting for reading French literature!  There is a parking lot near the Center’s entrance.  One can park there and follow a short path to the Red Barn.  Those who find walking difficult  will be transported to the site by car.   \nTogether\, reading aloud and discussing the text\, this group meets twice a month on Saturdays (replacing Cafe Conversation). This summer’s novel will be Le Testament francais by Adrei Makine. \nChairperson\, Kathryn MacCullough\, will be ordering from Cecile Cohen of Yale Book Store the French version for ~$13.95 or those who also want the English version\, it will be ~$14.95. The exact amount will be available soon.  Please send an email to Kathryn at matinee@afnwct.org to be added to the participation list and/or to order a copy of the book. Checks made payable to AFNWCT may be mailed to our Southbury AF Center: 1 Pomperaug Office Park\, Suite 301\, Southbury\, CT 06488 by May 7. \n FYI: Amazon also sells a Bilingual (Francais/Anglais) Kindle version for $.99 which is downloaded wirelessly to your Kindle\, iPad or iPhone.  \nQuestions can be directed to Kathryn at matinee@afnwct.org
URL:https://afnwct.org/event/matinees-litteraires-en-plein-air-10-am/
LOCATION:Audubon Center – Bent of the River\, 185 E Flat Hill Rd\, Southbury\, CT\, 06488\, United States
CATEGORIES:Matinee Litteraire
END:VEVENT
END:VCALENDAR