BEGIN:VCALENDAR
VERSION:2.0
PRODID:-//Alliance Francaise of NW CT - ECPv6.15.11//NONSGML v1.0//EN
CALSCALE:GREGORIAN
METHOD:PUBLISH
X-WR-CALNAME:Alliance Francaise of NW CT
X-ORIGINAL-URL:https://afnwct.org
X-WR-CALDESC:Events for Alliance Francaise of NW CT
REFRESH-INTERVAL;VALUE=DURATION:PT1H
X-Robots-Tag:noindex
X-PUBLISHED-TTL:PT1H
BEGIN:VTIMEZONE
TZID:America/New_York
BEGIN:DAYLIGHT
TZOFFSETFROM:-0500
TZOFFSETTO:-0400
TZNAME:EDT
DTSTART:20140309T070000
END:DAYLIGHT
BEGIN:STANDARD
TZOFFSETFROM:-0400
TZOFFSETTO:-0500
TZNAME:EST
DTSTART:20141102T060000
END:STANDARD
BEGIN:DAYLIGHT
TZOFFSETFROM:-0500
TZOFFSETTO:-0400
TZNAME:EDT
DTSTART:20150308T070000
END:DAYLIGHT
BEGIN:STANDARD
TZOFFSETFROM:-0400
TZOFFSETTO:-0500
TZNAME:EST
DTSTART:20151101T060000
END:STANDARD
BEGIN:DAYLIGHT
TZOFFSETFROM:-0500
TZOFFSETTO:-0400
TZNAME:EDT
DTSTART:20160313T070000
END:DAYLIGHT
BEGIN:STANDARD
TZOFFSETFROM:-0400
TZOFFSETTO:-0500
TZNAME:EST
DTSTART:20161106T060000
END:STANDARD
BEGIN:DAYLIGHT
TZOFFSETFROM:-0500
TZOFFSETTO:-0400
TZNAME:EDT
DTSTART:20170312T070000
END:DAYLIGHT
BEGIN:STANDARD
TZOFFSETFROM:-0400
TZOFFSETTO:-0500
TZNAME:EST
DTSTART:20171105T060000
END:STANDARD
BEGIN:DAYLIGHT
TZOFFSETFROM:-0500
TZOFFSETTO:-0400
TZNAME:EDT
DTSTART:20180311T070000
END:DAYLIGHT
BEGIN:STANDARD
TZOFFSETFROM:-0400
TZOFFSETTO:-0500
TZNAME:EST
DTSTART:20181104T060000
END:STANDARD
BEGIN:DAYLIGHT
TZOFFSETFROM:-0500
TZOFFSETTO:-0400
TZNAME:EDT
DTSTART:20190310T070000
END:DAYLIGHT
BEGIN:STANDARD
TZOFFSETFROM:-0400
TZOFFSETTO:-0500
TZNAME:EST
DTSTART:20191103T060000
END:STANDARD
END:VTIMEZONE
BEGIN:VEVENT
DTSTART;TZID=America/New_York:20180426T183000
DTEND;TZID=America/New_York:20180426T200000
DTSTAMP:20260424T051148
CREATED:20180216T220304Z
LAST-MODIFIED:20180216T220304Z
UID:40161-1524767400-1524772800@afnwct.org
SUMMARY:Parlons Francais
DESCRIPTION:Parlons Français \nThe Thursday evening Parlons Français Back to Basics meets tonight at the Brookfield Library. \nDesigned for those who have studied French in the past and just want a refresher. \nLed by Colin Harrison\, students use the textbook “Ultimate French – Beginner-Intermediate”. \nWe meet in one of the corners upstairs in the Main Library area. \nPlease register for this event through the Brookfield Library website. \n 
URL:https://afnwct.org/event/parlons-francais-20/
CATEGORIES:aaHomePage,Adult Class,French Class,Parlons Français
ATTACH;FMTTYPE=image/png:https://afnwct.org/wp-content/uploads/2017/01/france-1177405_1280.png
ORGANIZER;CN="Colin Harrison":MAILTO:cgh260247@aol.com
END:VEVENT
BEGIN:VEVENT
DTSTART;TZID=America/New_York:20180412T183000
DTEND;TZID=America/New_York:20180412T200000
DTSTAMP:20260424T051148
CREATED:20180216T220048Z
LAST-MODIFIED:20180216T220048Z
UID:40159-1523557800-1523563200@afnwct.org
SUMMARY:Parlons Francais
DESCRIPTION:Parlons Français \nThe Thursday evening Parlons Français Back to Basics meets tonight at the Brookfield Library. \nDesigned for those who have studied French in the past and just want a refresher. \nLed by Colin Harrison\, students use the textbook “Ultimate French – Beginner-Intermediate”. \nWe meet in one of the corners upstairs in the Main Library area. \nPlease register for this event through the Brookfield Library website. \n 
URL:https://afnwct.org/event/parlons-francais-19/
CATEGORIES:aaHomePage,Adult Class,French Class,Parlons Français
ATTACH;FMTTYPE=image/png:https://afnwct.org/wp-content/uploads/2017/01/france-1177405_1280.png
ORGANIZER;CN="Colin Harrison":MAILTO:cgh260247@aol.com
END:VEVENT
BEGIN:VEVENT
DTSTART;TZID=America/New_York:20180329T183000
DTEND;TZID=America/New_York:20180329T200000
DTSTAMP:20260424T051148
CREATED:20180124T195234Z
LAST-MODIFIED:20180124T195234Z
UID:40106-1522348200-1522353600@afnwct.org
SUMMARY:Parlons Francais
DESCRIPTION:The Thursday evening Parlons Français Back to Basics meets tonight at the Brookfield Library. \nDesigned for those who have studied French in the past and just want a refresher. \nLed by Colin Harrison\, students use the textbook “Ultimate French – Beginner-Intermediate”. \nWe meet in one of the corners upstairs in the Main Library area. \nPlease register for this event through the Brookfield Library website. \n 
URL:https://afnwct.org/event/parlons-francais-18/
CATEGORIES:aaHomePage,French Class,Parlons Français
ATTACH;FMTTYPE=image/png:https://afnwct.org/wp-content/uploads/2017/01/france-1177405_1280.png
ORGANIZER;CN="Colin Harrison":MAILTO:cgh260247@aol.com
END:VEVENT
BEGIN:VEVENT
DTSTART;TZID=America/New_York:20180315T183000
DTEND;TZID=America/New_York:20180315T200000
DTSTAMP:20260424T051148
CREATED:20180124T191439Z
LAST-MODIFIED:20180124T201330Z
UID:40094-1521138600-1521144000@afnwct.org
SUMMARY:Parlons Francais
DESCRIPTION:  \nThe Thursday evening Parlons Français Back to Basics meets tonight at the Brookfield Library. \nDesigned for those who have studied French in the past and just want a refresher. \nLed by Colin Harrison\, students use the textbook “Ultimate French – Beginner-Intermediate”. \nWe meet in one of the corners upstairs in the Main Library area. \nPlease register for this event through the Brookfield Library website. \n 
URL:https://afnwct.org/event/parlons-francais-15/
CATEGORIES:aaHomePage,French Class,Parlons Français
ATTACH;FMTTYPE=image/png:https://afnwct.org/wp-content/uploads/2017/01/france-1177405_1280.png
ORGANIZER;CN="Colin Harrison":MAILTO:cgh260247@aol.com
END:VEVENT
BEGIN:VEVENT
DTSTART;TZID=America/New_York:20180301T183000
DTEND;TZID=America/New_York:20180301T200000
DTSTAMP:20260424T051148
CREATED:20180124T185750Z
LAST-MODIFIED:20180124T201439Z
UID:40088-1519929000-1519934400@afnwct.org
SUMMARY:Parlons Francais
DESCRIPTION:The Thursday evening Parlons Français Back to Basics meets tonight at the Brookfield Library. \nDesigned for those who have studied French in the past and just want a refresher. \nLed by Colin Harrison\, students use the textbook “Ultimate French – Beginner-Intermediate”. \nWe meet in one of the corners upstairs in the Main Library area. \nPlease register for this event through the Brookfield Library website. \n 
URL:https://afnwct.org/event/parlons-francais-13/
CATEGORIES:aaHomePage,French Class,Parlons Français
ATTACH;FMTTYPE=image/png:https://afnwct.org/wp-content/uploads/2017/01/france-1177405_1280.png
ORGANIZER;CN="Colin Harrison":MAILTO:cgh260247@aol.com
END:VEVENT
BEGIN:VEVENT
DTSTART;TZID=America/New_York:20180215T183000
DTEND;TZID=America/New_York:20180215T200000
DTSTAMP:20260424T051148
CREATED:20171108T201633Z
LAST-MODIFIED:20171108T201633Z
UID:39897-1518719400-1518724800@afnwct.org
SUMMARY:Parlons Français
DESCRIPTION:The Thursday evening Parlons Français Back to Basics meets tonight at the Brookfield Library. \nDesigned for those who have studied French in the past and just want a refresher. \nLed by Colin Harrison\, students use the textbook “Ultimate French – Beginner-Intermediate”. \nWe meet in one of the corners upstairs in the Main Library area. \nPlease register for this event through the Brookfield Library website.
URL:https://afnwct.org/event/parlons-francais-17/
CATEGORIES:aaHomePage,French Class,Parlons Français
ATTACH;FMTTYPE=image/png:https://afnwct.org/wp-content/uploads/2017/01/france-1177405_1280.png
ORGANIZER;CN="Colin Harrison":MAILTO:cgh260247@aol.com
END:VEVENT
BEGIN:VEVENT
DTSTART;TZID=America/New_York:20180111T183000
DTEND;TZID=America/New_York:20180111T200000
DTSTAMP:20260424T051148
CREATED:20171108T200821Z
LAST-MODIFIED:20171219T213247Z
UID:39893-1515695400-1515700800@afnwct.org
SUMMARY:Parlons Français
DESCRIPTION:The Thursday evening Parlons Français Back to Basics meets tonight at the Brookfield Library. \nDesigned for those who have studied French in the past and just want a refresher. \nLed by Colin Harrison\, students use the textbook “Ultimate French – Beginner-Intermediate”. \nWe meet in one of the corners upstairs in the Main Library area. \nPlease register for this event through the Brookfield Library website. \n 
URL:https://afnwct.org/event/parlons-francais-10/
CATEGORIES:aaHomePage,French Class,Parlons Français
ATTACH;FMTTYPE=image/png:https://afnwct.org/wp-content/uploads/2017/01/france-1177405_1280.png
ORGANIZER;CN="Colin Harrison":MAILTO:cgh260247@aol.com
END:VEVENT
BEGIN:VEVENT
DTSTART;TZID=America/New_York:20171207T183000
DTEND;TZID=America/New_York:20171207T203000
DTSTAMP:20260424T051148
CREATED:20171013T182552Z
LAST-MODIFIED:20171016T175824Z
UID:39851-1512671400-1512678600@afnwct.org
SUMMARY:Parlons Français
DESCRIPTION:The Thursday evening Parlons Français Back to Basics meets tonight at the Brookfield Library. \nDesigned for those who have studied French in the past and just want a refresher. \nLed by Colin Harrison\, students use the textbook “Ultimate French – Beginner-Intermediate”. \nWe meet in one of the corners upstairs in the Main Library area. \nPlease register for this event through the Brookfield Library website. \n 
URL:https://afnwct.org/event/parlons-francais-14/
CATEGORIES:aaHomePage,Parlons Français
ATTACH;FMTTYPE=image/png:https://afnwct.org/wp-content/uploads/2017/01/france-1177405_1280.png
ORGANIZER;CN="Colin Harrison":MAILTO:cgh260247@aol.com
END:VEVENT
BEGIN:VEVENT
DTSTART;TZID=America/New_York:20171129T140000
DTEND;TZID=America/New_York:20171129T153000
DTSTAMP:20260424T051148
CREATED:20171013T172131Z
LAST-MODIFIED:20171016T165432Z
UID:39843-1511964000-1511969400@afnwct.org
SUMMARY:Parlons Français
DESCRIPTION:Parlons Français This daytime series hosted by the Brookfield Library is designed for those who have studied French in the past\, and just want a refresher. \nLed by Colin Harrison\, students have been going ‘back to basics’ with the textbook “Ultimate French – Beginner-Intermediate”. We meet downstairs in the Community Room. \nPlease register for this event through the Brookfield Library website. \n  \n 
URL:https://afnwct.org/event/parlons-francais-12/
CATEGORIES:aaHomePage,French Class,Parlons Français
ATTACH;FMTTYPE=image/png:https://afnwct.org/wp-content/uploads/2017/01/france-1177405_1280.png
ORGANIZER;CN="Colin Harrison":MAILTO:cgh260247@aol.com
END:VEVENT
BEGIN:VEVENT
DTSTART;TZID=America/New_York:20171121T183000
DTEND;TZID=America/New_York:20171121T200000
DTSTAMP:20260424T051148
CREATED:20171016T164946Z
LAST-MODIFIED:20171016T164946Z
UID:39860-1511289000-1511294400@afnwct.org
SUMMARY:Parlons Français
DESCRIPTION:The Thursday evening Parlons Français Back to Basics meets tonight at the Brookfield Library. \nDesigned for those who have studied French in the past and just want a refresher. \nLed by Colin Harrison\, students use the textbook “Ultimate French – Beginner-Intermediate”. \nWe meet in one of the corners upstairs in the Main Library area. \nPlease register for this event through the Brookfield Library website. \n*NOTE: Due to Thanksgiving\, this week’s Thursday class has been re-scheduled.*
URL:https://afnwct.org/event/parlons-francais-16/
CATEGORIES:aaHomePage,French Class,Parlons Français
ATTACH;FMTTYPE=image/png:https://afnwct.org/wp-content/uploads/2017/01/france-1177405_1280.png
ORGANIZER;CN="Colin Harrison":MAILTO:cgh260247@aol.com
END:VEVENT
BEGIN:VEVENT
DTSTART;TZID=America/New_York:20171109T183000
DTEND;TZID=America/New_York:20171109T203000
DTSTAMP:20260424T051148
CREATED:20171012T211230Z
LAST-MODIFIED:20171012T211230Z
UID:39840-1510252200-1510259400@afnwct.org
SUMMARY:Parlons Français
DESCRIPTION:The Thursday evening Parlons Français Back to Basics meets tonight at the Brookfield Library. \nDesigned for those who have studied French in the past and just want a refresher. \nLed by Colin Harrison\, students use the textbook “Ultimate French – Beginner-Intermediate”. \nWe meet in one of the corners upstairs in the Main Library area. \nPlease register for this event through the Brookfield Library website.
URL:https://afnwct.org/event/parlons-francais-11/
CATEGORIES:aaHomePage,French Class,Parlons Français
ATTACH;FMTTYPE=image/png:https://afnwct.org/wp-content/uploads/2017/01/france-1177405_1280.png
ORGANIZER;CN="Colin Harrison":MAILTO:cgh260247@aol.com
END:VEVENT
BEGIN:VEVENT
DTSTART;TZID=America/New_York:20171101T140000
DTEND;TZID=America/New_York:20171101T153000
DTSTAMP:20260424T051148
CREATED:20171012T201653Z
LAST-MODIFIED:20171012T201653Z
UID:39832-1509544800-1509550200@afnwct.org
SUMMARY:Parlons Français
DESCRIPTION:Parlons Français This daytime series hosted by the Brookfield Library is designed for those who have studied French in the past\, and just want a refresher. \nLed by Colin Harrison\, students have been going ‘back to basics’ with the textbook “Ultimate French – Beginner-Intermediate”. We meet downstairs in the Community Room. \nPlease register for this event through the Brookfield Library website.
URL:https://afnwct.org/event/parlons-francais-9/
CATEGORIES:aaHomePage,French Class,Parlons Français
ATTACH;FMTTYPE=image/png:https://afnwct.org/wp-content/uploads/2017/01/france-1177405_1280.png
ORGANIZER;CN="Colin Harrison":MAILTO:cgh260247@aol.com
END:VEVENT
BEGIN:VEVENT
DTSTART;TZID=America/New_York:20171026T183000
DTEND;TZID=America/New_York:20171026T203000
DTSTAMP:20260424T051148
CREATED:20170909T191135Z
LAST-MODIFIED:20170909T202058Z
UID:39656-1509042600-1509049800@afnwct.org
SUMMARY:Parlons Français
DESCRIPTION:The Thursday evening Parlons Français Back to Basics meets tonight at the Brookfield Library. \nDesigned for those who have studied French in the past and just want a refresher. \nLed by Colin Harrison\, students use the textbook “Ultimate French – Beginner-Intermediate”. \nWe meet in one of the corners upstairs in the Main Library area. \nPlease register for this event through the Brookfield Library website.
URL:https://afnwct.org/event/parlons-francais-8/
CATEGORIES:aaHomePage,Parlons Français
ATTACH;FMTTYPE=image/png:https://afnwct.org/wp-content/uploads/2017/01/france-1177405_1280.png
ORGANIZER;CN="Colin Harrison":MAILTO:cgh260247@aol.com
END:VEVENT
BEGIN:VEVENT
DTSTART;TZID=America/New_York:20171018T140000
DTEND;TZID=America/New_York:20171018T153000
DTSTAMP:20260424T051148
CREATED:20170909T190749Z
LAST-MODIFIED:20170909T201439Z
UID:39654-1508335200-1508340600@afnwct.org
SUMMARY:Parlons Français
DESCRIPTION:Parlons Français This daytime series hosted by the Brookfield Library is designed for those who have studied French in the past\, and just want a refresher. \nLed by Colin Harrison\, students have been going ‘back to basics’ with the textbook “Ultimate French – Beginner-Intermediate”. We meet downstairs in the Community Room. \nPlease register for this event through the Brookfield Library website. \n 
URL:https://afnwct.org/event/parlons-francais-7/
CATEGORIES:aaHomePage,Parlons Français
ATTACH;FMTTYPE=image/png:https://afnwct.org/wp-content/uploads/2017/01/france-1177405_1280.png
ORGANIZER;CN="Colin Harrison":MAILTO:cgh260247@aol.com
END:VEVENT
BEGIN:VEVENT
DTSTART;TZID=America/New_York:20171012T183000
DTEND;TZID=America/New_York:20171012T203000
DTSTAMP:20260424T051148
CREATED:20170909T190408Z
LAST-MODIFIED:20170909T201153Z
UID:39652-1507833000-1507840200@afnwct.org
SUMMARY:Parlons Français
DESCRIPTION:The Thursday evening Parlons Français Back to Basics meets tonight at the Brookfield Library. \nDesigned for those who have studied French in the past and just want a refresher. \nLed by Colin Harrison\, students use the textbook “Ultimate French – Beginner-Intermediate”. \nWe meet in one of the corners upstairs in the Main Library area. \nPlease register for this event through the Brookfield Library website.
URL:https://afnwct.org/event/parlons-francais-6/
CATEGORIES:aaHomePage,Parlons Français
ATTACH;FMTTYPE=image/png:https://afnwct.org/wp-content/uploads/2017/01/france-1177405_1280.png
ORGANIZER;CN="Colin Harrison":MAILTO:cgh260247@aol.com
END:VEVENT
BEGIN:VEVENT
DTSTART;TZID=America/New_York:20171004T140000
DTEND;TZID=America/New_York:20171004T153000
DTSTAMP:20260424T051148
CREATED:20170909T185705Z
LAST-MODIFIED:20170909T201002Z
UID:39648-1507125600-1507131000@afnwct.org
SUMMARY:Parlons Français
DESCRIPTION:Parlons Français This daytime series hosted by the Brookfield Library is designed for those who have studied French in the past\, and just want a refresher. \nLed by Colin Harrison\, students have been going ‘back to basics’ with the textbook “Ultimate French – Beginner-Intermediate”. We meet downstairs in the Community Room. \nPlease register for this event through the Brookfield Library website. \n 
URL:https://afnwct.org/event/parlons-francais-3/
CATEGORIES:aaHomePage,Parlons Français
ATTACH;FMTTYPE=image/png:https://afnwct.org/wp-content/uploads/2017/01/france-1177405_1280.png
ORGANIZER;CN="Colin Harrison":MAILTO:cgh260247@aol.com
END:VEVENT
BEGIN:VEVENT
DTSTART;TZID=America/New_York:20170928T183000
DTEND;TZID=America/New_York:20170928T203000
DTSTAMP:20260424T051148
CREATED:20170909T184326Z
LAST-MODIFIED:20170909T200745Z
UID:39646-1506623400-1506630600@afnwct.org
SUMMARY:Parlons Français
DESCRIPTION:The Thursday evening Parlons Français Back to Basics meets tonight at the Brookfield Library. \nDesigned for those who have studied French in the past and just want a refresher. \nLed by Colin Harrison\, students use the textbook “Ultimate French – Beginner-Intermediate”. \nWe meet in one of the corners upstairs in the Main Library area. \nPlease register for this event through the Brookfield Library website.
URL:https://afnwct.org/event/parlons-francais-2/
CATEGORIES:aaHomePage,Parlons Français
ATTACH;FMTTYPE=image/png:https://afnwct.org/wp-content/uploads/2017/01/france-1177405_1280.png
ORGANIZER;CN="Colin Harrison":MAILTO:cgh260247@aol.com
END:VEVENT
BEGIN:VEVENT
DTSTART;TZID=America/New_York:20170920T140000
DTEND;TZID=America/New_York:20170920T153000
DTSTAMP:20260424T051148
CREATED:20170805T214426Z
LAST-MODIFIED:20170829T140007Z
UID:39488-1505916000-1505921400@afnwct.org
SUMMARY:Parlons Français
DESCRIPTION:Parlons Français
URL:https://afnwct.org/event/39488/
CATEGORIES:Parlons Français
ORGANIZER;CN="Colin Harrison":MAILTO:cgh260247@aol.com
END:VEVENT
BEGIN:VEVENT
DTSTART;TZID=America/New_York:20170914T183000
DTEND;TZID=America/New_York:20170914T200000
DTSTAMP:20260424T051148
CREATED:20170805T214211Z
LAST-MODIFIED:20170829T135900Z
UID:39485-1505413800-1505419200@afnwct.org
SUMMARY:Parlons Français
DESCRIPTION:Parlons Français
URL:https://afnwct.org/event/39485/
CATEGORIES:Parlons Français
ORGANIZER;CN="Colin Harrison":MAILTO:cgh260247@aol.com
END:VEVENT
BEGIN:VEVENT
DTSTART;TZID=America/New_York:20170909T183000
DTEND;TZID=America/New_York:20170909T203000
DTSTAMP:20260424T051148
CREATED:20170909T185932Z
LAST-MODIFIED:20170909T190047Z
UID:39650-1504981800-1504989000@afnwct.org
SUMMARY:Parlons Français
DESCRIPTION:
URL:https://afnwct.org/event/parlons-francais-4/
CATEGORIES:aaHomePage,Parlons Français
ATTACH;FMTTYPE=image/png:https://afnwct.org/wp-content/uploads/2017/01/france-1177405_1280.png
ORGANIZER;CN="Colin Harrison":MAILTO:cgh260247@aol.com
END:VEVENT
BEGIN:VEVENT
DTSTART;TZID=America/New_York:20170906T140000
DTEND;TZID=America/New_York:20170906T153000
DTSTAMP:20260424T051148
CREATED:20170805T213815Z
LAST-MODIFIED:20170829T135455Z
UID:39483-1504706400-1504711800@afnwct.org
SUMMARY:Parlons Français
DESCRIPTION:Parlons Français
URL:https://afnwct.org/event/39483/
CATEGORIES:Parlons Français
ORGANIZER;CN="Colin Harrison":MAILTO:cgh260247@aol.com
END:VEVENT
BEGIN:VEVENT
DTSTART;TZID=America/New_York:20170831T183000
DTEND;TZID=America/New_York:20170831T200000
DTSTAMP:20260424T051148
CREATED:20170805T213421Z
LAST-MODIFIED:20170829T142920Z
UID:39481-1504204200-1504209600@afnwct.org
SUMMARY:Parlons Français - Back to Basics
DESCRIPTION:The Thursday evening Parlons Français Back to Basics meets tonight at the Brookfield Library. \nDesigned for those who have studied French in the past and just want a refresher. \nLed by Colin Harrison\, students use the textbook “Ultimate French – Beginner-Intermediate”. \nWe meet in one of the corners upstairs in the Main Library area. \nPlease register for this event through the Brookfield Library website.
URL:https://afnwct.org/event/39481/
CATEGORIES:aaHomePage,Parlons Français
ATTACH;FMTTYPE=image/png:https://afnwct.org/wp-content/uploads/2017/01/france-1177405_1280.png
ORGANIZER;CN="Colin Harrison":MAILTO:cgh260247@aol.com
END:VEVENT
BEGIN:VEVENT
DTSTART;TZID=America/New_York:20170823T140000
DTEND;TZID=America/New_York:20170823T153000
DTSTAMP:20260424T051148
CREATED:20170805T213143Z
LAST-MODIFIED:20170829T142227Z
UID:39479-1503496800-1503502200@afnwct.org
SUMMARY:Parlons Français
DESCRIPTION:
URL:https://afnwct.org/event/39479/
CATEGORIES:aaHomePage,Parlons Français
ATTACH;FMTTYPE=image/png:https://afnwct.org/wp-content/uploads/2017/01/france-1177405_1280.png
ORGANIZER;CN="Colin Harrison":MAILTO:cgh260247@aol.com
END:VEVENT
BEGIN:VEVENT
DTSTART;TZID=America/New_York:20170817T183000
DTEND;TZID=America/New_York:20170817T200000
DTSTAMP:20260424T051148
CREATED:20170805T210034Z
LAST-MODIFIED:20170808T173023Z
UID:39477-1502994600-1503000000@afnwct.org
SUMMARY:Parlons Français - Back to Basics
DESCRIPTION:The Thursday evening Parlons Français Back to Basics meets tonight at the Brookfield Library. \nDesigned for those who have studied French in the past and just want a refresher. \nLed by Colin Harrison\, students use the textbook “Ultimate French – Beginner-Intermediate”. \nWe meet in one of the corners upstairs in the Main Library area. \nPlease register for this event through the Brookfield Library website.
URL:https://afnwct.org/event/39477/
CATEGORIES:aaHomePage,Parlons Français
ATTACH;FMTTYPE=image/png:https://afnwct.org/wp-content/uploads/2017/01/france-1177405_1280.png
ORGANIZER;CN="Colin Harrison":MAILTO:cgh260247@aol.com
END:VEVENT
BEGIN:VEVENT
DTSTART;TZID=America/New_York:20170809T130000
DTEND;TZID=America/New_York:20170809T143000
DTSTAMP:20260424T051148
CREATED:20170805T205715Z
LAST-MODIFIED:20170808T172311Z
UID:39474-1502283600-1502289000@afnwct.org
SUMMARY:Parlons Français
DESCRIPTION:This daytime series Parlons Francais hosted by the Brookfield Library is designed for those who have studied French in the past\, and just want a refresher. \nLed by Colin Harrison\, students have been going ‘back to basics’ with the textbook “Ultimate French – Beginner-Intermediate”. We meet downstairs in the Community Room. \nPlease register for this event through the Brookfield Library website.
URL:https://afnwct.org/event/39474/
CATEGORIES:aaHomePage,Parlons Français
ORGANIZER;CN="Colin Harrison":MAILTO:cgh260247@aol.com
END:VEVENT
BEGIN:VEVENT
DTSTART;TZID=America/New_York:20150601T133000
DTEND;TZID=America/New_York:20150601T143000
DTSTAMP:20260424T051148
CREATED:20150517T203424Z
LAST-MODIFIED:20150517T203424Z
UID:36972-1433165400-1433169000@afnwct.org
SUMMARY:Parlons Français! 1:30pm
DESCRIPTION:Discussion Group en Français for all levels of abilities are welcome whether you’ve just started learning or learned +20 years ago. Native speakers are also welcome. Easily understood articles will be read out loud and discussed by participants. \nFree admission to all.
URL:https://afnwct.org/event/parlons-francais-130pm-4/
CATEGORIES:French Discussion Group,Parlons Français
END:VEVENT
BEGIN:VEVENT
DTSTART;TZID=America/New_York:20150526T190000
DTEND;TZID=America/New_York:20150526T200000
DTSTAMP:20260424T051148
CREATED:20150131T001617Z
LAST-MODIFIED:20150218T203947Z
UID:36126-1432666800-1432670400@afnwct.org
SUMMARY:Parlons Français! 7pm
DESCRIPTION:All levels of French speaking abilities\, as well as native speakers are welcome. Designed to help increase vocabulary and improve speaking ability\, topics of interest will be read out loud and discussed by participants. \nFree admission to all.
URL:https://afnwct.org/event/parlons-francais-7pm-4/
CATEGORIES:French Discussion Group,Parlons Français
END:VEVENT
BEGIN:VEVENT
DTSTART;TZID=America/New_York:20150504T133000
DTEND;TZID=America/New_York:20150504T143000
DTSTAMP:20260424T051148
CREATED:20150130T230356Z
LAST-MODIFIED:20150218T203947Z
UID:36111-1430746200-1430749800@afnwct.org
SUMMARY:Parlons Français! 1:30pm
DESCRIPTION:Discussion Group en Français for all levels of abilities are welcome whether you’ve just started learning or learned +20 years ago. Native speakers are also welcome. Easily understood articles will be read out loud and discussed by participants. \nFree admission to all.
URL:https://afnwct.org/event/parlons-francais-130pm-3/
CATEGORIES:French Discussion Group,Parlons Français
END:VEVENT
BEGIN:VEVENT
DTSTART;TZID=America/New_York:20150428T190000
DTEND;TZID=America/New_York:20150428T200000
DTSTAMP:20260424T051148
CREATED:20150131T001451Z
LAST-MODIFIED:20150210T015451Z
UID:36125-1430247600-1430251200@afnwct.org
SUMMARY:Parlons Français! 7pm
DESCRIPTION:All levels of French speaking abilities\, as well as native speakers are welcome. Designed to help increase vocabulary and improve speaking ability\, topics of interest will be read out loud and discussed by participants. \nFree admission to all.
URL:https://afnwct.org/event/parlons-francais-7pm-3/
CATEGORIES:Parlons Français
END:VEVENT
BEGIN:VEVENT
DTSTART;TZID=America/New_York:20150406T133000
DTEND;TZID=America/New_York:20150406T143000
DTSTAMP:20260424T051148
CREATED:20150130T230243Z
LAST-MODIFIED:20150210T020023Z
UID:36112-1428327000-1428330600@afnwct.org
SUMMARY:Parlons Français! 1:30pm
DESCRIPTION:Discussion Group en Français for all levels of abilities are welcome whether you’ve just started learning or learned +20 years ago. Native speakers are also welcome. Easily understood articles will be read out loud and discussed by participants. \nFree admission to all.
URL:https://afnwct.org/event/parlons-francais-130pm-2/
CATEGORIES:Parlons Français
END:VEVENT
END:VCALENDAR