BEGIN:VCALENDAR
VERSION:2.0
PRODID:-//Alliance Francaise of NW CT - ECPv6.15.11//NONSGML v1.0//EN
CALSCALE:GREGORIAN
METHOD:PUBLISH
X-WR-CALNAME:Alliance Francaise of NW CT
X-ORIGINAL-URL:https://afnwct.org
X-WR-CALDESC:Events for Alliance Francaise of NW CT
REFRESH-INTERVAL;VALUE=DURATION:PT1H
X-Robots-Tag:noindex
X-PUBLISHED-TTL:PT1H
BEGIN:VTIMEZONE
TZID:America/New_York
BEGIN:DAYLIGHT
TZOFFSETFROM:-0500
TZOFFSETTO:-0400
TZNAME:EDT
DTSTART:20140309T070000
END:DAYLIGHT
BEGIN:STANDARD
TZOFFSETFROM:-0400
TZOFFSETTO:-0500
TZNAME:EST
DTSTART:20141102T060000
END:STANDARD
BEGIN:DAYLIGHT
TZOFFSETFROM:-0500
TZOFFSETTO:-0400
TZNAME:EDT
DTSTART:20150308T070000
END:DAYLIGHT
BEGIN:STANDARD
TZOFFSETFROM:-0400
TZOFFSETTO:-0500
TZNAME:EST
DTSTART:20151101T060000
END:STANDARD
BEGIN:DAYLIGHT
TZOFFSETFROM:-0500
TZOFFSETTO:-0400
TZNAME:EDT
DTSTART:20160313T070000
END:DAYLIGHT
BEGIN:STANDARD
TZOFFSETFROM:-0400
TZOFFSETTO:-0500
TZNAME:EST
DTSTART:20161106T060000
END:STANDARD
END:VTIMEZONE
BEGIN:VEVENT
DTSTART;TZID=America/New_York:20150619T190000
DTEND;TZID=America/New_York:20150619T210000
DTSTAMP:20260423T211845
CREATED:20150517T202252Z
LAST-MODIFIED:20150517T202252Z
UID:36969-1434740400-1434747600@afnwct.org
SUMMARY:Tale of 2 Cities - 7pm
DESCRIPTION:Associate Professor of History\, Judith Meyer will present “Voices from the Past: A Tale of Two French Communities” at 7pm on Friday\, June 19 at the AF Center in Southbury. This presentation (in English) will take a close look at how and why the French city of La Rochelle became a bastion of French Protestantism in the 16th century\, in order to shed light on the extraordinary appeal of the Reformation. Then a close look at the small town of Courthézon in the south of France in the early 17th century will offer insights into how the Protestant minority in the town managed to coexist with the majority Catholic populace and still uphold the integrity of their own faith. \nLight refreshments will be served following the presentation. Admission is $10 (Free for AFNWCT Members). Reservations are kindly requested prior to June 18 by calling (203) 707-0710 or by sending checks to AFNWCT\, 1 Pomperaug Office Park\, Suite 301\, Southbury\, CT 06488 or paying by credit card on-line
URL:https://afnwct.org/event/tale-of-2-cities-7pm/
CATEGORIES:Presentation
END:VEVENT
BEGIN:VEVENT
DTSTART;TZID=America/New_York:20150410T190000
DTEND;TZID=America/New_York:20150410T190000
DTSTAMP:20260423T211845
CREATED:20150131T024913Z
LAST-MODIFIED:20150407T120713Z
UID:36140-1428692400-1428692400@afnwct.org
SUMMARY:La Poésie: la Langue de l’Amour\, 7pm
DESCRIPTION:Celebrate national poetry month with original poetry written by Brian Denyer. From humorous to inspirational poetry\, this program begins with Brian’s verse response to the French classic poets (e.g. du Bellay\, La Fontaine\, Moliere) and will include his commentary on the poetic attitudes of the time period. Moving forward onto the more modern forms\, Brian’s poetry will imitate the styles of Baudelaire and Paul Valery.  To conclude\, participants will create an original group poem\, in French. Hand-outs of the selected poetry using a parallel text translation will be available. This event is open to the public. Wine and a light dessert will be served. \nRSVP extended – pay online here or by check at door: All Students and Teachers – only $5.  $15 for non-members; $10 for AFNWCT Members\n \n\n \n\n\n\nMembership Status\n\n\nAll Students & Teachers $5.00 USDAFNWCT Member rate $10.00 USDNon-Member rate $15.00 USD\n\n\nAttendee’s Name
URL:https://afnwct.org/event/la-poesie-la-langue-de-lamour-7pm/
CATEGORIES:Presentation
END:VEVENT
BEGIN:VEVENT
DTSTART;TZID=America/New_York:20150315T140000
DTEND;TZID=America/New_York:20150315T140000
DTSTAMP:20260423T211845
CREATED:20150202T195659Z
LAST-MODIFIED:20150313T170421Z
UID:36281-1426428000-1426428000@afnwct.org
SUMMARY:La Musique Actuelle et ses Artistes Francophones at 2pm
DESCRIPTION:DEADLINE EXTENDED – RSVP BY SATURDAY\, MARCH 14. \nprésenté en français par Patrice Tassy\, DJ’\, musicien\, photographe. \nCette présentation musicale a pour objet de nous faire voyager a travers la musique de maintenant. un regard sur nos artistes francophones préférés\, de Yannick Noah a Amadou et Mariam en passant par Stromae pour n’en citer que quelques uns\, musiques d’inspirations électro\, folk\, hip hop\, jazz ou world\, ces artistes qui nous montrent que la musique dépasse largement toutes les frontières. This event is open to the public. Wine and a light dessert will be served. \nReservations must be made (by March 12 – extended)by Saturday\, March 13.\n \nSend checks $10 for members and $15 for all others to 1 Pomperaug Office Park\, Suite 301\, Southbury\, CT 06488 — or pay with credit card below. \n\n \n\n\n\nMembership Status\n\n\nMember rate $10.00 USDNon-Member rate $15.00 USD\n\n\nAttendee’s Name
URL:https://afnwct.org/event/la-musique-contemporaine-march-15-at-2pm/
CATEGORIES:Presentation
END:VEVENT
END:VCALENDAR