BEGIN:VCALENDAR
VERSION:2.0
PRODID:-//Alliance Francaise of NW CT - ECPv6.15.11//NONSGML v1.0//EN
CALSCALE:GREGORIAN
METHOD:PUBLISH
X-ORIGINAL-URL:https://afnwct.org
X-WR-CALDESC:Events for Alliance Francaise of NW CT
REFRESH-INTERVAL;VALUE=DURATION:PT1H
X-Robots-Tag:noindex
X-PUBLISHED-TTL:PT1H
BEGIN:VTIMEZONE
TZID:America/New_York
BEGIN:DAYLIGHT
TZOFFSETFROM:-0500
TZOFFSETTO:-0400
TZNAME:EDT
DTSTART:20140309T070000
END:DAYLIGHT
BEGIN:STANDARD
TZOFFSETFROM:-0400
TZOFFSETTO:-0500
TZNAME:EST
DTSTART:20141102T060000
END:STANDARD
BEGIN:DAYLIGHT
TZOFFSETFROM:-0500
TZOFFSETTO:-0400
TZNAME:EDT
DTSTART:20150308T070000
END:DAYLIGHT
BEGIN:STANDARD
TZOFFSETFROM:-0400
TZOFFSETTO:-0500
TZNAME:EST
DTSTART:20151101T060000
END:STANDARD
BEGIN:DAYLIGHT
TZOFFSETFROM:-0500
TZOFFSETTO:-0400
TZNAME:EDT
DTSTART:20160313T070000
END:DAYLIGHT
BEGIN:STANDARD
TZOFFSETFROM:-0400
TZOFFSETTO:-0500
TZNAME:EST
DTSTART:20161106T060000
END:STANDARD
BEGIN:DAYLIGHT
TZOFFSETFROM:-0500
TZOFFSETTO:-0400
TZNAME:EDT
DTSTART:20170312T070000
END:DAYLIGHT
BEGIN:STANDARD
TZOFFSETFROM:-0400
TZOFFSETTO:-0500
TZNAME:EST
DTSTART:20171105T060000
END:STANDARD
BEGIN:DAYLIGHT
TZOFFSETFROM:-0500
TZOFFSETTO:-0400
TZNAME:EDT
DTSTART:20180311T070000
END:DAYLIGHT
BEGIN:STANDARD
TZOFFSETFROM:-0400
TZOFFSETTO:-0500
TZNAME:EST
DTSTART:20181104T060000
END:STANDARD
END:VTIMEZONE
BEGIN:VEVENT
DTSTART;TZID=America/New_York:20170218T090000
DTEND;TZID=America/New_York:20170218T103000
DTSTAMP:20260423T211940
CREATED:20170207T121954Z
LAST-MODIFIED:20170207T121954Z
UID:39235-1487408400-1487413800@afnwct.org
SUMMARY:AFNWCT Board Meeting - 9am
DESCRIPTION:La réunion de notre Conseil aura lieu à 9h samedi le 18 février. \nSi vous êtes membre et voudriez y assister\, veuillez téléphoner à 203-707-0710 pour recevoir l’Ordre du Jour. \n 
URL:https://afnwct.org/event/afnwct-board-meeting-9am/
CATEGORIES:aaHomePage,Reunion du Conseil
ATTACH;FMTTYPE=image/jpeg:https://afnwct.org/wp-content/uploads/2015/03/gavel-568417__180.jpg
END:VEVENT
BEGIN:VEVENT
DTSTART;TZID=America/New_York:20160821T180000
DTEND;TZID=America/New_York:20160821T200000
DTSTAMP:20260423T211940
CREATED:20160729T144313Z
LAST-MODIFIED:20160806T202001Z
UID:38285-1471802400-1471809600@afnwct.org
SUMMARY:AFNWCT Board Meeting @ 6:00 pm
DESCRIPTION:La Réunion du Conseil aura lieu dimanche 21 août à 18h au centre AF. \nNous allons distribuer les projections pour l’année fiscale 2015-2016 (septembre – août) et discuterons des programmes prévus pour 2016-2017. \nSi vous êtes membre AFNWCT\, et voudriez y assister\, vous êtes les bienvenus.
URL:https://afnwct.org/event/afnwct-board-meeting-630-pm/
CATEGORIES:aaHomePage,Reunion du Conseil
ATTACH;FMTTYPE=image/jpeg:https://afnwct.org/wp-content/uploads/2015/03/gavel-568417__180.jpg
END:VEVENT
BEGIN:VEVENT
DTSTART;TZID=America/New_York:20160130T103000
DTEND;TZID=America/New_York:20160130T120000
DTSTAMP:20260423T211940
CREATED:20160108T141431Z
LAST-MODIFIED:20160123T173008Z
UID:37751-1454149800-1454155200@afnwct.org
SUMMARY:AFNWCT Board Meeting - 10:30 am
DESCRIPTION:La Réunion du Conseil aura lieu samedi 30 janvier à 10h30 du matin au centre AF. \nNous allons faire le bilan des premiers mois de l’année fiscal 2015-2016 (septembre – aout) surtout en ce qui concerne notre École de Langue et discuterons des programmes prévus pour 2016. \nSi vous êtes membre AFNWCT\, et voudriez y assister\, vous êtes les bienvenus.
URL:https://afnwct.org/event/afnwct-board-meeting-1030-am/
CATEGORIES:aaHomePage,Reunion du Conseil
ATTACH;FMTTYPE=image/jpeg:https://afnwct.org/wp-content/uploads/2015/03/gavel-568417__180.jpg
END:VEVENT
BEGIN:VEVENT
DTSTART;TZID=America/New_York:20151017T103000
DTEND;TZID=America/New_York:20151017T120000
DTSTAMP:20260423T211940
CREATED:20150823T212548Z
LAST-MODIFIED:20150927T155523Z
UID:37371-1445077800-1445083200@afnwct.org
SUMMARY:AFNWCT Annual Meeting - October 17 10:30 am
DESCRIPTION:The Alliance Française of Northwestern CT will hold its Annual General Meeting:\nDate:         Saturday\, October 17 \nTime:        10:30 a.m. \nLocation:  AF Center\, 1 Pomperaug Office Park\, Suite 301\, Southbury\, CT 06488 \nA pre-meeting reception and breakfast (croissants\, fresh fruit and hot beverages) will be served from 9:30 – 10:30am. Join us and meet your fellow members prior to our official meeting. Please RSVP by October 15 for the breakfast by sending an email to afnwct@afnwct.org or calling (203) 707-0710. \nAnnual Meeting Agenda: \n\n2014-2015 Financial Report\nLanguage School Report\nMembership Report\nActivities & Committee Reports\nOverview of Culturethèque\nPresentation of 2015-2016 Budget\n2015-2016 Programs\n\nThis meeting is your opportunity to better understand your organization. Learn about last year’s accomplishments and suggest ideas to move us forward to sustain and grow our organization… \nThere will be a special presentation regarding our newest membership benefit – Culturethèque.
URL:https://afnwct.org/event/afnwct-annual-meeting-october-17-1000-am/
CATEGORIES:aaHomePage,Reunion du Conseil
ATTACH;FMTTYPE=image/jpeg:https://afnwct.org/wp-content/uploads/2015/03/gavel-568417__180.jpg
END:VEVENT
BEGIN:VEVENT
DTSTART;TZID=America/New_York:20150605T190000
DTEND;TZID=America/New_York:20150605T210000
DTSTAMP:20260423T211940
CREATED:20150517T203044Z
LAST-MODIFIED:20150517T203044Z
UID:36970-1433530800-1433538000@afnwct.org
SUMMARY:AFNWCT Board Mtg - 7pm
DESCRIPTION:Post-event Discussion on “La Vie Parisienne” will begin at 6:30 pm\nBoard meeting to start at 7pm.\nAll members are welcome to attend. If you would like to attend\, please RSVP by calling 203-707-0710
URL:https://afnwct.org/event/afnwct-board-mtg-7pm/
CATEGORIES:Reunion du Conseil
ATTACH;FMTTYPE=image/jpeg:https://afnwct.org/wp-content/uploads/2015/03/gavel-568417__180.jpg
END:VEVENT
BEGIN:VEVENT
DTSTART;TZID=America/New_York:20150327T190000
DTEND;TZID=America/New_York:20150327T210000
DTSTAMP:20260423T211940
CREATED:20150317T173322Z
LAST-MODIFIED:20150317T173908Z
UID:36877-1427482800-1427490000@afnwct.org
SUMMARY:Réunion du Conseil - 7pm
DESCRIPTION:Si parmi nos membres quelqu’un voudrait proposer un évènement ou programme\, ou autre chose\, veuillez contacter un des membres du Conseil. Voici la liste et leur adresse Internet pour les contacter. \nLa réunion du Conseil commencera à 19h mais il y aura du pizza et de la salade à partir de 18h30. \n 
URL:https://afnwct.org/event/reunion-du-conseil-7pm/
CATEGORIES:Reunion du Conseil
ATTACH;FMTTYPE=image/jpeg:https://afnwct.org/wp-content/uploads/2015/03/gavel-568417__180.jpg
END:VEVENT
END:VCALENDAR