BEGIN:VCALENDAR
VERSION:2.0
PRODID:-//Alliance Francaise of NW CT - ECPv6.15.11//NONSGML v1.0//EN
CALSCALE:GREGORIAN
METHOD:PUBLISH
X-WR-CALNAME:Alliance Francaise of NW CT
X-ORIGINAL-URL:https://afnwct.org
X-WR-CALDESC:Events for Alliance Francaise of NW CT
REFRESH-INTERVAL;VALUE=DURATION:PT1H
X-Robots-Tag:noindex
X-PUBLISHED-TTL:PT1H
BEGIN:VTIMEZONE
TZID:America/New_York
BEGIN:DAYLIGHT
TZOFFSETFROM:-0500
TZOFFSETTO:-0400
TZNAME:EDT
DTSTART:20140309T070000
END:DAYLIGHT
BEGIN:STANDARD
TZOFFSETFROM:-0400
TZOFFSETTO:-0500
TZNAME:EST
DTSTART:20141102T060000
END:STANDARD
BEGIN:DAYLIGHT
TZOFFSETFROM:-0500
TZOFFSETTO:-0400
TZNAME:EDT
DTSTART:20150308T070000
END:DAYLIGHT
BEGIN:STANDARD
TZOFFSETFROM:-0400
TZOFFSETTO:-0500
TZNAME:EST
DTSTART:20151101T060000
END:STANDARD
BEGIN:DAYLIGHT
TZOFFSETFROM:-0500
TZOFFSETTO:-0400
TZNAME:EDT
DTSTART:20160313T070000
END:DAYLIGHT
BEGIN:STANDARD
TZOFFSETFROM:-0400
TZOFFSETTO:-0500
TZNAME:EST
DTSTART:20161106T060000
END:STANDARD
BEGIN:DAYLIGHT
TZOFFSETFROM:-0500
TZOFFSETTO:-0400
TZNAME:EDT
DTSTART:20170312T070000
END:DAYLIGHT
BEGIN:STANDARD
TZOFFSETFROM:-0400
TZOFFSETTO:-0500
TZNAME:EST
DTSTART:20171105T060000
END:STANDARD
BEGIN:DAYLIGHT
TZOFFSETFROM:-0500
TZOFFSETTO:-0400
TZNAME:EDT
DTSTART:20180311T070000
END:DAYLIGHT
BEGIN:STANDARD
TZOFFSETFROM:-0400
TZOFFSETTO:-0500
TZNAME:EST
DTSTART:20181104T060000
END:STANDARD
BEGIN:DAYLIGHT
TZOFFSETFROM:-0500
TZOFFSETTO:-0400
TZNAME:EDT
DTSTART:20190310T070000
END:DAYLIGHT
BEGIN:STANDARD
TZOFFSETFROM:-0400
TZOFFSETTO:-0500
TZNAME:EST
DTSTART:20191103T060000
END:STANDARD
BEGIN:DAYLIGHT
TZOFFSETFROM:-0500
TZOFFSETTO:-0400
TZNAME:EDT
DTSTART:20200308T070000
END:DAYLIGHT
BEGIN:STANDARD
TZOFFSETFROM:-0400
TZOFFSETTO:-0500
TZNAME:EST
DTSTART:20201101T060000
END:STANDARD
END:VTIMEZONE
BEGIN:VEVENT
DTSTART;TZID=America/New_York:20191005T120000
DTEND;TZID=America/New_York:20191005T170000
DTSTAMP:20260423T200449
CREATED:20190906T220620Z
LAST-MODIFIED:20190906T220620Z
UID:41254-1570276800-1570294800@afnwct.org
SUMMARY:Rodin Exhibit at Fairfield University
DESCRIPTION:We’ll join a 12:00 tour of the exhibition and having lunch together afterwards. \nEntrance to the museum and tour are free.
URL:https://afnwct.org/event/rodin-exhibit-at-fairfield-university/
LOCATION:Fairfield University\, 1073 N. Benson Rd.\, Fairfield\, CT\, 06824
CATEGORIES:aaHomePage,museum,Tour
ATTACH;FMTTYPE=image/jpeg:https://afnwct.org/wp-content/uploads/2017/12/Rodin_bust_female-head-e1512415497896.jpg
END:VEVENT
BEGIN:VEVENT
DTSTART;TZID=America/New_York:20181202T110000
DTEND;TZID=America/New_York:20181202T110000
DTSTAMP:20260423T200449
CREATED:20181103T205921Z
LAST-MODIFIED:20181107T223755Z
UID:40657-1543748400-1543748400@afnwct.org
SUMMARY:Visit to Holiday Creche in Bethlehem
DESCRIPTION:Join us in visiting the Crèche at the Abbey of Regina Laudis\, in Bethlehem at 11am. It is a lavish display of a traditional Nativity scene. \n 
URL:https://afnwct.org/event/visit-to-holiday-creche-abbey-of-regina-laudis-bethlehem/
LOCATION:Abbey of Regina Laudis\, 249 Flanders Rd.\, Bethlehem\, CT\, 06751\, United States
CATEGORIES:aaHomePage,Special,Tour
ATTACH;FMTTYPE=image/jpeg:https://afnwct.org/wp-content/uploads/2018/11/Abbey-of-Regina-Laudis.jpg
END:VEVENT
BEGIN:VEVENT
DTSTART;TZID=America/New_York:20171025T090000
DTEND;TZID=America/New_York:20171025T090000
DTSTAMP:20260423T200449
CREATED:20171011T204849Z
LAST-MODIFIED:20171013T171105Z
UID:39820-1508922000-1508922000@afnwct.org
SUMMARY:Tour of Lautrec Exhibit at Bruce Museum
DESCRIPTION:The Alliance Française invites you on October 25th to join them on their \nFall museum tour. We are traveling to the Bruce Museum \nin Greenwich to see the “In the Limelight” exhibit of the works of artist \nHenri de Toulouse-Lautrec and view a film featuring the works of Post \nImpressionist Paul Cezanne. \nOur guided tour will showcase Toulouse-Lautrec’s portraits of the \ndancers\, singers and other performers who became the icons of the \nParisian nightlife in the late 19th century. The exhibit explores the \nrelationship between portraiture\, caricature\, and rise of the cult of \ncelebrity in Belle Epoque Paris. \nThe film will view from 10:30am until 11:30am. The guided tour begins at \n12:30PM. Admission for the guided tour exhibit of Toulouse-Lautrec and the film \non Paul Cezanne will be $12.00\, payable at the door. \nPlease reserve a space by emailing afnwct@afnwct.org or calling AFNWCT \nby phone (203-707-0710) by Monday\, October 23rd. \nThe group will carpool from the AFNWCT Center\, at 1 Pomperaug Office Park\, \nleaving at 9AM. In your email or phone call\, please include your name\, email address\, \nphone number\, and whether you can offer transportation or will need transportation. \nThe tour is limited to 25 visitors\, so reserve now! \nThe Bruce Museum is located at One Museum Drive\, Greenwich\, CT. \nTo reach the museum\, call 203-869-0376. More information on the exhibit can be obtained on the website: \nhttps://brucemuseum.org/
URL:https://afnwct.org/event/tour-of-lautrec-exhibit-at-bruce-museum/
LOCATION:CT
CATEGORIES:aaHomePage,Special,Tour
ATTACH;FMTTYPE=image/jpeg:https://afnwct.org/wp-content/uploads/2017/10/Toulouse-Lautrec_Moulin-Rouge-poster.jpg
END:VEVENT
BEGIN:VEVENT
DTSTART;VALUE=DATE:20150702
DTEND;VALUE=DATE:20150704
DTSTAMP:20260423T200449
CREATED:20150601T191105Z
LAST-MODIFIED:20150601T191105Z
UID:37167-1435795200-1435967999@afnwct.org
SUMMARY:Hermione - New York
DESCRIPTION:9:00am – 4:00 pm: Public Tours of the Fregate Hermione. First come\, first served. No reservations required. Priority access given to school groups during the first hour. \n9:00am – 7:00 pm: Public Visits of the Traveling Exhibit and the Heritage Village \nTraveling Exhibit: A photographic panel display of Lafayette’s role in the American Revolution and the Hermione’s reconstruction. \nHeritage Village: Revolutionary era re-enactors with historic shipbuilding crafts demonstrations\, interactive conversations with the sailors\, and a lineup of cultural activities including costumed performances by re-enactors\, concerts of period and contemporary music and craft exhibitions. Includes: \nRégion Poitou-Charentes\, France \n\nExhibit will have information and tourism display about the region in France where the Hermione was constructed and visitors will be able to see and sample products from the region.\nMoët Hennessy: Experience Hennessy’s 250th Anniversary
URL:https://afnwct.org/event/hermione-new-york/
LOCATION:South Street Seaport\, South Street Seaport\, Pier 15\, New York\, NY\, 10038\, United States
CATEGORIES:Tour
ATTACH;FMTTYPE=image/jpeg:https://afnwct.org/wp-content/uploads/2015/05/Hermione.jpg
END:VEVENT
END:VCALENDAR