BEGIN:VCALENDAR
VERSION:2.0
PRODID:-//Alliance Francaise of NW CT - ECPv6.15.11//NONSGML v1.0//EN
CALSCALE:GREGORIAN
METHOD:PUBLISH
X-WR-CALNAME:Alliance Francaise of NW CT
X-ORIGINAL-URL:https://afnwct.org
X-WR-CALDESC:Events for Alliance Francaise of NW CT
REFRESH-INTERVAL;VALUE=DURATION:PT1H
X-Robots-Tag:noindex
X-PUBLISHED-TTL:PT1H
BEGIN:VTIMEZONE
TZID:America/New_York
BEGIN:DAYLIGHT
TZOFFSETFROM:-0500
TZOFFSETTO:-0400
TZNAME:EDT
DTSTART:20240310T070000
END:DAYLIGHT
BEGIN:STANDARD
TZOFFSETFROM:-0400
TZOFFSETTO:-0500
TZNAME:EST
DTSTART:20241103T060000
END:STANDARD
BEGIN:DAYLIGHT
TZOFFSETFROM:-0500
TZOFFSETTO:-0400
TZNAME:EDT
DTSTART:20250309T070000
END:DAYLIGHT
BEGIN:STANDARD
TZOFFSETFROM:-0400
TZOFFSETTO:-0500
TZNAME:EST
DTSTART:20251102T060000
END:STANDARD
BEGIN:DAYLIGHT
TZOFFSETFROM:-0500
TZOFFSETTO:-0400
TZNAME:EDT
DTSTART:20260308T070000
END:DAYLIGHT
BEGIN:STANDARD
TZOFFSETFROM:-0400
TZOFFSETTO:-0500
TZNAME:EST
DTSTART:20261101T060000
END:STANDARD
BEGIN:DAYLIGHT
TZOFFSETFROM:-0500
TZOFFSETTO:-0400
TZNAME:EDT
DTSTART:20270314T070000
END:DAYLIGHT
BEGIN:STANDARD
TZOFFSETFROM:-0400
TZOFFSETTO:-0500
TZNAME:EST
DTSTART:20271107T060000
END:STANDARD
END:VTIMEZONE
BEGIN:VEVENT
DTSTART;TZID=America/New_York:20260117T100000
DTEND;TZID=America/New_York:20260117T120000
DTSTAMP:20260423T134325
CREATED:20251211T210907Z
LAST-MODIFIED:20251211T214229Z
UID:44986-1768644000-1768651200@afnwct.org
SUMMARY:Café Conversation
DESCRIPTION:Every other Saturday morning at the Alliance Center or at a private home.  \n10:00–12:00  \nCafé Conversation is a great way to practice and improve your French. L’ambiance conviviale will help you feel more comfortable learning and speaking French with other francophones and francophiles.  \nEnjoy coffee and pastries\, meet other members\, chat and discuss en français.  \nAs the venue changes from time to time\, we recommend that you send your email address to cafe@afnwct.org to keep informed. 
URL:https://afnwct.org/event/cafe-conversation-56-2-2-4-2-2-2-10-2-3-8-8-3-9-2-8-3/
LOCATION:AF Center\, One Pomperaug Office Park\, Suite 301\, Southbury\, CT\, 06488\, United States
ATTACH;FMTTYPE=image/jpeg:https://afnwct.org/wp-content/uploads/2023/08/Cafe-Conversation-16-9-1.jpg
END:VEVENT
BEGIN:VEVENT
DTSTART;TZID=America/New_York:20260116T100000
DTEND;TZID=America/New_York:20260116T113000
DTSTAMP:20260423T134325
CREATED:20251211T230157Z
LAST-MODIFIED:20251211T230430Z
UID:45062-1768557600-1768563000@afnwct.org
SUMMARY:Livres d’Histoire
DESCRIPTION:Every Friday morning at the Alliance Center beginning January 2nd. \n10:00 – 11:30 \nThis winter’s selection is the magisterial Napoléon III – La modernité inachevée by Thierry Lentz.\nCall John Lamb at 203-788-4698 for more information.
URL:https://afnwct.org/event/livres-dhistoire-17-2-17-2-8-2-2-3/
LOCATION:AF Center\, One Pomperaug Office Park\, Suite 301\, Southbury\, CT\, 06488\, United States
ATTACH;FMTTYPE=image/jpeg:https://afnwct.org/wp-content/uploads/2024/08/Livres-dHistoire-icon.jpg
END:VEVENT
BEGIN:VEVENT
DTSTART;TZID=America/New_York:20260109T100000
DTEND;TZID=America/New_York:20260109T113000
DTSTAMP:20260423T134325
CREATED:20251211T230123Z
LAST-MODIFIED:20251211T230123Z
UID:45061-1767952800-1767958200@afnwct.org
SUMMARY:Livres d’Histoire
DESCRIPTION:Every Friday morning at the Alliance Center beginning January 2nd. \n10:00 – 11:30 \nThis winter’s selection is the magisterial Napoléon III – La modernité inachevée by Thierry Lentz.\nCall John Lamb at 203-788-4698 for more information.
URL:https://afnwct.org/event/livres-dhistoire-17-2-17-2-8-2-2-2/
LOCATION:AF Center\, One Pomperaug Office Park\, Suite 301\, Southbury\, CT\, 06488\, United States
ATTACH;FMTTYPE=image/jpeg:https://afnwct.org/wp-content/uploads/2024/08/Livres-dHistoire-icon.jpg
END:VEVENT
BEGIN:VEVENT
DTSTART;TZID=America/New_York:20260103T100000
DTEND;TZID=America/New_York:20260103T120000
DTSTAMP:20260423T134325
CREATED:20251211T210816Z
LAST-MODIFIED:20251211T210816Z
UID:44985-1767434400-1767441600@afnwct.org
SUMMARY:Café Conversation
DESCRIPTION:Every other Saturday morning at the Alliance Center or at a private home.  \n10:00–12:00  \nCafé Conversation is a great way to practice and improve your French. L’ambiance conviviale will help you feel more comfortable learning and speaking French with other francophones and francophiles.  \nEnjoy coffee and pastries\, meet other members\, chat and discuss en français.  \nAs the venue changes from time to time\, we recommend that you send your email address to cafe@afnwct.org to keep informed. 
URL:https://afnwct.org/event/cafe-conversation-56-2-2-4-2-2-2-10-2-3-8-8-3-9-2-8-2/
LOCATION:AF Center\, One Pomperaug Office Park\, Suite 301\, Southbury\, CT\, 06488\, United States
ATTACH;FMTTYPE=image/jpeg:https://afnwct.org/wp-content/uploads/2023/08/Cafe-Conversation-16-9-1.jpg
END:VEVENT
BEGIN:VEVENT
DTSTART;TZID=America/New_York:20260102T100000
DTEND;TZID=America/New_York:20260102T113000
DTSTAMP:20260423T134325
CREATED:20251211T220408Z
LAST-MODIFIED:20251211T220422Z
UID:45056-1767348000-1767353400@afnwct.org
SUMMARY:Livres d’Histoire
DESCRIPTION:Every Friday morning at the Alliance Center beginning January 2nd. \n10:00 – 11:30 \nThis winter’s selection is the magisterial Napoléon III – La modernité inachevée by Thierry Lentz.\nCall John Lamb at 203-788-4698 for more information.
URL:https://afnwct.org/event/livres-dhistoire-17-2-17-2-8-2-2/
LOCATION:AF Center\, One Pomperaug Office Park\, Suite 301\, Southbury\, CT\, 06488\, United States
ATTACH;FMTTYPE=image/jpeg:https://afnwct.org/wp-content/uploads/2024/08/Livres-dHistoire-icon.jpg
END:VEVENT
BEGIN:VEVENT
DTSTART;TZID=America/New_York:20251220T100000
DTEND;TZID=America/New_York:20251220T120000
DTSTAMP:20260423T134325
CREATED:20250823T214047Z
LAST-MODIFIED:20250823T214047Z
UID:44752-1766224800-1766232000@afnwct.org
SUMMARY:Café Conversation
DESCRIPTION:Every other Saturday morning at the Alliance Center or at a private home.  \n10:00–12:00  \nCafé Conversation is a great way to practice and improve your French. L’ambiance conviviale will help you feel more comfortable learning and speaking French with other francophones and francophiles.  \nEnjoy coffee and pastries\, meet other members\, chat and discuss en français.  \nAs the venue changes from time to time\, we recommend that you send your email address to cafe@afnwct.org to keep informed. 
URL:https://afnwct.org/event/cafe-conversation-56-2-2-4-2-2-2-10-2-3-8-8-3-9-2-8/
LOCATION:AF Center\, One Pomperaug Office Park\, Suite 301\, Southbury\, CT\, 06488\, United States
ATTACH;FMTTYPE=image/jpeg:https://afnwct.org/wp-content/uploads/2023/08/Cafe-Conversation-16-9-1.jpg
END:VEVENT
BEGIN:VEVENT
DTSTART;TZID=America/New_York:20251219T100000
DTEND;TZID=America/New_York:20251219T113000
DTSTAMP:20260423T134325
CREATED:20250823T220630Z
LAST-MODIFIED:20250824T153700Z
UID:44811-1766138400-1766143800@afnwct.org
SUMMARY:Livres d’Histoire
DESCRIPTION:Every Friday morning at the Alliance Center beginning September 5th. \n10:00 – 11:30 \nThis fall’s selection is the magisterial Napoléon III – La modernité inachevée by Thierry Lentz.\nCall John Lamb at 203-788-4698 for more information.
URL:https://afnwct.org/event/livres-dhistoire-17-2-17-2-8-4/
LOCATION:AF Center\, One Pomperaug Office Park\, Suite 301\, Southbury\, CT\, 06488\, United States
ATTACH;FMTTYPE=image/jpeg:https://afnwct.org/wp-content/uploads/2024/08/Livres-dHistoire-icon.jpg
END:VEVENT
BEGIN:VEVENT
DTSTART;TZID=America/New_York:20251218T190000
DTEND;TZID=America/New_York:20251218T190000
DTSTAMP:20260423T134325
CREATED:20250824T144108Z
LAST-MODIFIED:20250824T144108Z
UID:44840-1766084400-1766084400@afnwct.org
SUMMARY:Ciné Club
DESCRIPTION:Showings of classic French movies \nEvery first and third Thursday evening of each month at the Alliance Center \n7:00 pm at the Alliance Center \nPopcorn provided\, BYOB
URL:https://afnwct.org/event/cineclub-presents-cesar-2-2-4-2-2-2-2-2-2-2-2-2-2-8-10-2-8/
LOCATION:AF Center\, One Pomperaug Office Park\, Suite 301\, Southbury\, CT\, 06488\, United States
ATTACH;FMTTYPE=image/jpeg:https://afnwct.org/wp-content/uploads/2024/03/Le-Cinema-Series-16-9.jpg
END:VEVENT
BEGIN:VEVENT
DTSTART;TZID=America/New_York:20251214T130000
DTEND;TZID=America/New_York:20251214T160000
DTSTAMP:20260423T134325
CREATED:20250823T150956Z
LAST-MODIFIED:20250823T160312Z
UID:44699-1765717200-1765728000@afnwct.org
SUMMARY:Fête de Noël\, a Festive Luncheon
DESCRIPTION:Chez Laurent et Grace Vernillet\nDecember 14th\nSunday\n1:00–4:00\n$40 per person\nReserve quickly\, there is a max of 32 people\nEnjoy a delicious and festive luncheon \nPlease reserve and pre-pay a week in advance.\n1. Reserve: Email at events@afnwct.org\nOr call Evelyne at 203-512-6532.\n2. Pay: Paypal Below ($5 surcharge) $45 total\nOr mail check to: AFNWCT\, One Pomperaug Office Park\nSuite 301\, Southbury\, CT 06488 \n\n  \n   \n\n\n\n        \n        La fête de Noël 2024\n      \n\n\n\n        \n            1 Attendee $45.00 USD\n          \n            2 Attendees $85.00 USD\n          \n      \n\n\n\n        \n        Attendee's Name/s\n      \n\n\n\n        \n      \n\n\n\n        \n        Email
URL:https://afnwct.org/event/bastille-day-a-manhattan-2-2-2/
LOCATION:CT
ATTACH;FMTTYPE=image/jpeg:https://afnwct.org/wp-content/uploads/2024/08/Social-Events-16-9.jpg
END:VEVENT
BEGIN:VEVENT
DTSTART;TZID=America/New_York:20251212T100000
DTEND;TZID=America/New_York:20251212T113000
DTSTAMP:20260423T134325
CREATED:20250823T220517Z
LAST-MODIFIED:20250824T153646Z
UID:44810-1765533600-1765539000@afnwct.org
SUMMARY:Livres d’Histoire
DESCRIPTION:Every Friday morning at the Alliance Center beginning September 5th. \n10:00 – 11:30 \nThis fall’s selection is the magisterial Napoléon III – La modernité inachevée by Thierry Lentz.\nCall John Lamb at 203-788-4698 for more information.
URL:https://afnwct.org/event/livres-dhistoire-17-2-17-2-8-3/
LOCATION:AF Center\, One Pomperaug Office Park\, Suite 301\, Southbury\, CT\, 06488\, United States
ATTACH;FMTTYPE=image/jpeg:https://afnwct.org/wp-content/uploads/2024/08/Livres-dHistoire-icon.jpg
END:VEVENT
BEGIN:VEVENT
DTSTART;TZID=America/New_York:20251206T100000
DTEND;TZID=America/New_York:20251206T120000
DTSTAMP:20260423T134325
CREATED:20250823T214007Z
LAST-MODIFIED:20250823T214007Z
UID:44751-1765015200-1765022400@afnwct.org
SUMMARY:Café Conversation
DESCRIPTION:Every other Saturday morning at the Alliance Center or at a private home.  \n10:00–12:00  \nCafé Conversation is a great way to practice and improve your French. L’ambiance conviviale will help you feel more comfortable learning and speaking French with other francophones and francophiles.  \nEnjoy coffee and pastries\, meet other members\, chat and discuss en français.  \nAs the venue changes from time to time\, we recommend that you send your email address to cafe@afnwct.org to keep informed. 
URL:https://afnwct.org/event/cafe-conversation-56-2-2-4-2-2-2-10-2-3-8-8-3-9-2-7/
LOCATION:AF Center\, One Pomperaug Office Park\, Suite 301\, Southbury\, CT\, 06488\, United States
ATTACH;FMTTYPE=image/jpeg:https://afnwct.org/wp-content/uploads/2023/08/Cafe-Conversation-16-9-1.jpg
END:VEVENT
BEGIN:VEVENT
DTSTART;TZID=America/New_York:20251205T100000
DTEND;TZID=America/New_York:20251205T113000
DTSTAMP:20260423T134325
CREATED:20250823T220437Z
LAST-MODIFIED:20250824T153630Z
UID:44809-1764928800-1764934200@afnwct.org
SUMMARY:Livres d’Histoire
DESCRIPTION:Every Friday morning at the Alliance Center beginning September 5th. \n10:00 – 11:30 \nThis fall’s selection is the magisterial Napoléon III – La modernité inachevée by Thierry Lentz.\nCall John Lamb at 203-788-4698 for more information.
URL:https://afnwct.org/event/livres-dhistoire-17-2-17-2-8-2/
LOCATION:AF Center\, One Pomperaug Office Park\, Suite 301\, Southbury\, CT\, 06488\, United States
ATTACH;FMTTYPE=image/jpeg:https://afnwct.org/wp-content/uploads/2024/08/Livres-dHistoire-icon.jpg
END:VEVENT
BEGIN:VEVENT
DTSTART;TZID=America/New_York:20251204T190000
DTEND;TZID=America/New_York:20251204T190000
DTSTAMP:20260423T134325
CREATED:20250824T144023Z
LAST-MODIFIED:20250824T144023Z
UID:44839-1764874800-1764874800@afnwct.org
SUMMARY:Ciné Club
DESCRIPTION:Showings of classic French movies \nEvery first and third Thursday evening of each month at the Alliance Center \n7:00 pm at the Alliance Center \nPopcorn provided\, BYOB
URL:https://afnwct.org/event/cineclub-presents-cesar-2-2-4-2-2-2-2-2-2-2-2-2-2-8-10-2-7/
LOCATION:AF Center\, One Pomperaug Office Park\, Suite 301\, Southbury\, CT\, 06488\, United States
ATTACH;FMTTYPE=image/jpeg:https://afnwct.org/wp-content/uploads/2024/03/Le-Cinema-Series-16-9.jpg
END:VEVENT
BEGIN:VEVENT
DTSTART;TZID=America/New_York:20251204T160000
DTEND;TZID=America/New_York:20251204T180000
DTSTAMP:20260423T134325
CREATED:20250823T223554Z
LAST-MODIFIED:20250824T154456Z
UID:44823-1764864000-1764871200@afnwct.org
SUMMARY:Groupe de lecture
DESCRIPTION:First Thursday of every month beginning at\n4:00–6:00 pm at a private home in Woodbury. \nAttendance is limited to 8 people. Call 203-482-3633 to reserve your spot. \nEn Septembre\, le groupe commencera Une vie à coucher dehors\, a wonderful collection of short stories by Sylvain Tesson.
URL:https://afnwct.org/event/groupe-de-lecture-52-2-4-2-2-5-2-4-4-2-5-3-4/
LOCATION:Woodbury Residence
ATTACH;FMTTYPE=image/jpeg:https://afnwct.org/wp-content/uploads/2023/08/Lectures-16-9.jpg
END:VEVENT
BEGIN:VEVENT
DTSTART;TZID=America/New_York:20251128T100000
DTEND;TZID=America/New_York:20251128T113000
DTSTAMP:20260423T134325
CREATED:20250823T220322Z
LAST-MODIFIED:20250824T153609Z
UID:44783-1764324000-1764329400@afnwct.org
SUMMARY:Livres d’Histoire
DESCRIPTION:Every Friday morning at the Alliance Center beginning September 5th. \n10:00 – 11:30 \nThis fall’s selection is the magisterial Napoléon III – La modernité inachevée by Thierry Lentz.\nCall John Lamb at 203-788-4698 for more information.
URL:https://afnwct.org/event/livres-dhistoire-17-2-17-2-13/
LOCATION:AF Center\, One Pomperaug Office Park\, Suite 301\, Southbury\, CT\, 06488\, United States
ATTACH;FMTTYPE=image/jpeg:https://afnwct.org/wp-content/uploads/2024/08/Livres-dHistoire-icon.jpg
END:VEVENT
BEGIN:VEVENT
DTSTART;TZID=America/New_York:20251122T170000
DTEND;TZID=America/New_York:20251122T210000
DTSTAMP:20260423T134325
CREATED:20250823T150256Z
LAST-MODIFIED:20250823T160405Z
UID:44690-1763830800-1763845200@afnwct.org
SUMMARY:Beaujolais Nouveau 2025
DESCRIPTION:Chez Evelyne Purdy\nNovember 22nd\nSaturday\n5:00–9:00\n$25 per person\nTaste this year’s Beaujolais Nouveau and some older (and better!) wines while munching on delectable nibbles. \n \nPlease reserve and pre-pay a week in advance.\n1. Reserve: Email at events@afnwct.org\nOr call Evelyne at 203-512-6532.\n2. Pay: Paypal Below ($3 surcharge) $28 total\nOr mail check to: AFNWCT\, One Pomperaug Office Park\nSuite 301\, Southbury\, CT 06488 \n\n  \n   \n\n\n\n        \n        Beaujolais Nouveau 2025\n      \n\n\n\n        \n            1 Attendee $28.00 USD\n          \n            2 Attendees $58.00 USD\n          \n      \n\n\n\n        \n        Name/s\n      \n\n\n\n        \n      \n\n\n\n        \n        Email
URL:https://afnwct.org/event/bastille-day-a-manhattan-2-2/
LOCATION:CT
ATTACH;FMTTYPE=image/jpeg:https://afnwct.org/wp-content/uploads/2024/08/Social-Events-16-9.jpg
END:VEVENT
BEGIN:VEVENT
DTSTART;TZID=America/New_York:20251122T100000
DTEND;TZID=America/New_York:20251122T120000
DTSTAMP:20260423T134325
CREATED:20250823T213914Z
LAST-MODIFIED:20250823T213914Z
UID:44750-1763805600-1763812800@afnwct.org
SUMMARY:Café Conversation
DESCRIPTION:Every other Saturday morning at the Alliance Center or at a private home.  \n10:00–12:00  \nCafé Conversation is a great way to practice and improve your French. L’ambiance conviviale will help you feel more comfortable learning and speaking French with other francophones and francophiles.  \nEnjoy coffee and pastries\, meet other members\, chat and discuss en français.  \nAs the venue changes from time to time\, we recommend that you send your email address to cafe@afnwct.org to keep informed. 
URL:https://afnwct.org/event/cafe-conversation-56-2-2-4-2-2-2-10-2-3-8-8-3-9-2-6/
LOCATION:AF Center\, One Pomperaug Office Park\, Suite 301\, Southbury\, CT\, 06488\, United States
ATTACH;FMTTYPE=image/jpeg:https://afnwct.org/wp-content/uploads/2023/08/Cafe-Conversation-16-9-1.jpg
END:VEVENT
BEGIN:VEVENT
DTSTART;TZID=America/New_York:20251121T100000
DTEND;TZID=America/New_York:20251121T113000
DTSTAMP:20260423T134325
CREATED:20250823T220134Z
LAST-MODIFIED:20250824T153551Z
UID:44782-1763719200-1763724600@afnwct.org
SUMMARY:Livres d’Histoire
DESCRIPTION:Every Friday morning at the Alliance Center beginning September 5th. \n10:00 – 11:30 \nThis fall’s selection is the magisterial Napoléon III – La modernité inachevée by Thierry Lentz.\nCall John Lamb at 203-788-4698 for more information.
URL:https://afnwct.org/event/livres-dhistoire-17-2-17-2-12/
LOCATION:AF Center\, One Pomperaug Office Park\, Suite 301\, Southbury\, CT\, 06488\, United States
ATTACH;FMTTYPE=image/jpeg:https://afnwct.org/wp-content/uploads/2024/08/Livres-dHistoire-icon.jpg
END:VEVENT
BEGIN:VEVENT
DTSTART;TZID=America/New_York:20251120T190000
DTEND;TZID=America/New_York:20251120T190000
DTSTAMP:20260423T134325
CREATED:20250824T143822Z
LAST-MODIFIED:20250824T143822Z
UID:44838-1763665200-1763665200@afnwct.org
SUMMARY:Ciné Club
DESCRIPTION:Showings of classic French movies \nEvery first and third Thursday evening of each month at the Alliance Center \n7:00 pm at the Alliance Center \nPopcorn provided\, BYOB
URL:https://afnwct.org/event/cineclub-presents-cesar-2-2-4-2-2-2-2-2-2-2-2-2-2-8-10-2-6/
LOCATION:AF Center\, One Pomperaug Office Park\, Suite 301\, Southbury\, CT\, 06488\, United States
ATTACH;FMTTYPE=image/jpeg:https://afnwct.org/wp-content/uploads/2024/03/Le-Cinema-Series-16-9.jpg
END:VEVENT
BEGIN:VEVENT
DTSTART;TZID=America/New_York:20251114T100000
DTEND;TZID=America/New_York:20251114T113000
DTSTAMP:20260423T134325
CREATED:20250823T220039Z
LAST-MODIFIED:20250824T153530Z
UID:44781-1763114400-1763119800@afnwct.org
SUMMARY:Livres d’Histoire
DESCRIPTION:Every Friday morning at the Alliance Center beginning September 5th. \n10:00 – 11:30 \nThis fall’s selection is the magisterial Napoléon III – La modernité inachevée by Thierry Lentz.\nCall John Lamb at 203-788-4698 for more information.
URL:https://afnwct.org/event/livres-dhistoire-17-2-17-2-11/
LOCATION:AF Center\, One Pomperaug Office Park\, Suite 301\, Southbury\, CT\, 06488\, United States
ATTACH;FMTTYPE=image/jpeg:https://afnwct.org/wp-content/uploads/2024/08/Livres-dHistoire-icon.jpg
END:VEVENT
BEGIN:VEVENT
DTSTART;TZID=America/New_York:20251108T100000
DTEND;TZID=America/New_York:20251108T120000
DTSTAMP:20260423T134325
CREATED:20250823T213823Z
LAST-MODIFIED:20250823T213840Z
UID:44749-1762596000-1762603200@afnwct.org
SUMMARY:Café Conversation
DESCRIPTION:Every other Saturday morning at the Alliance Center or at a private home.  \n10:00–12:00  \nCafé Conversation is a great way to practice and improve your French. L’ambiance conviviale will help you feel more comfortable learning and speaking French with other francophones and francophiles.  \nEnjoy coffee and pastries\, meet other members\, chat and discuss en français.  \nAs the venue changes from time to time\, we recommend that you send your email address to cafe@afnwct.org to keep informed. 
URL:https://afnwct.org/event/cafe-conversation-56-2-2-4-2-2-2-10-2-3-8-8-3-9-2-5/
LOCATION:AF Center\, One Pomperaug Office Park\, Suite 301\, Southbury\, CT\, 06488\, United States
ATTACH;FMTTYPE=image/jpeg:https://afnwct.org/wp-content/uploads/2023/08/Cafe-Conversation-16-9-1.jpg
END:VEVENT
BEGIN:VEVENT
DTSTART;TZID=America/New_York:20251107T100000
DTEND;TZID=America/New_York:20251107T113000
DTSTAMP:20260423T134325
CREATED:20250823T220007Z
LAST-MODIFIED:20250824T153502Z
UID:44780-1762509600-1762515000@afnwct.org
SUMMARY:Livres d’Histoire
DESCRIPTION:Every Friday morning at the Alliance Center beginning September 5th. \n10:00 – 11:30 \nThis fall’s selection is the magisterial Napoléon III – La modernité inachevée by Thierry Lentz.\nCall John Lamb at 203-788-4698 for more information.
URL:https://afnwct.org/event/livres-dhistoire-17-2-17-2-10/
LOCATION:AF Center\, One Pomperaug Office Park\, Suite 301\, Southbury\, CT\, 06488\, United States
ATTACH;FMTTYPE=image/jpeg:https://afnwct.org/wp-content/uploads/2024/08/Livres-dHistoire-icon.jpg
END:VEVENT
BEGIN:VEVENT
DTSTART;TZID=America/New_York:20251106T190000
DTEND;TZID=America/New_York:20251106T190000
DTSTAMP:20260423T134325
CREATED:20250824T143738Z
LAST-MODIFIED:20250824T143738Z
UID:44837-1762455600-1762455600@afnwct.org
SUMMARY:Ciné Club
DESCRIPTION:Showings of classic French movies \nEvery first and third Thursday evening of each month at the Alliance Center \n7:00 pm at the Alliance Center \nPopcorn provided\, BYOB
URL:https://afnwct.org/event/cineclub-presents-cesar-2-2-4-2-2-2-2-2-2-2-2-2-2-8-10-2-5/
LOCATION:AF Center\, One Pomperaug Office Park\, Suite 301\, Southbury\, CT\, 06488\, United States
ATTACH;FMTTYPE=image/jpeg:https://afnwct.org/wp-content/uploads/2024/03/Le-Cinema-Series-16-9.jpg
END:VEVENT
BEGIN:VEVENT
DTSTART;TZID=America/New_York:20251106T160000
DTEND;TZID=America/New_York:20251106T180000
DTSTAMP:20260423T134325
CREATED:20250823T223513Z
LAST-MODIFIED:20250824T154512Z
UID:44826-1762444800-1762452000@afnwct.org
SUMMARY:Groupe de lecture
DESCRIPTION:First Thursday of every month beginning at\n4:00–6:00 pm at a private home in Woodbury. \nAttendance is limited to 8 people. Call 203-482-3633 to reserve your spot. \nEn Septembre\, le groupe commencera Une vie à coucher dehors\, a wonderful collection of short stories by Sylvain Tesson.
URL:https://afnwct.org/event/groupe-de-lecture-52-2-4-2-2-5-2-4-4-2-5-3-3/
LOCATION:Woodbury Residence
ATTACH;FMTTYPE=image/jpeg:https://afnwct.org/wp-content/uploads/2023/08/Lectures-16-9.jpg
END:VEVENT
BEGIN:VEVENT
DTSTART;TZID=America/New_York:20251031T100000
DTEND;TZID=America/New_York:20251031T113000
DTSTAMP:20260423T134325
CREATED:20250823T215729Z
LAST-MODIFIED:20250824T153443Z
UID:44779-1761904800-1761910200@afnwct.org
SUMMARY:Livres d’Histoire
DESCRIPTION:Every Friday morning at the Alliance Center beginning September 5th. \n10:00 – 11:30 \nThis fall’s selection is the magisterial Napoléon III – La modernité inachevée by Thierry Lentz.\nCall John Lamb at 203-788-4698 for more information.
URL:https://afnwct.org/event/livres-dhistoire-17-2-17-2-9/
LOCATION:AF Center\, One Pomperaug Office Park\, Suite 301\, Southbury\, CT\, 06488\, United States
ATTACH;FMTTYPE=image/jpeg:https://afnwct.org/wp-content/uploads/2024/08/Livres-dHistoire-icon.jpg
END:VEVENT
BEGIN:VEVENT
DTSTART;TZID=America/New_York:20251025T100000
DTEND;TZID=America/New_York:20251025T120000
DTSTAMP:20260423T134325
CREATED:20250823T213721Z
LAST-MODIFIED:20250823T213721Z
UID:44748-1761386400-1761393600@afnwct.org
SUMMARY:Café Conversation
DESCRIPTION:Every other Saturday morning at the Alliance Center or at a private home.  \n10:00–12:00  \nCafé Conversation is a great way to practice and improve your French. L’ambiance conviviale will help you feel more comfortable learning and speaking French with other francophones and francophiles.  \nEnjoy coffee and pastries\, meet other members\, chat and discuss en français.  \nAs the venue changes from time to time\, we recommend that you send your email address to cafe@afnwct.org to keep informed. 
URL:https://afnwct.org/event/cafe-conversation-56-2-2-4-2-2-2-10-2-3-8-8-3-9-2-4/
LOCATION:AF Center\, One Pomperaug Office Park\, Suite 301\, Southbury\, CT\, 06488\, United States
ATTACH;FMTTYPE=image/jpeg:https://afnwct.org/wp-content/uploads/2023/08/Cafe-Conversation-16-9-1.jpg
END:VEVENT
BEGIN:VEVENT
DTSTART;TZID=America/New_York:20251024T100000
DTEND;TZID=America/New_York:20251024T113000
DTSTAMP:20260423T134325
CREATED:20250823T215644Z
LAST-MODIFIED:20250824T153412Z
UID:44778-1761300000-1761305400@afnwct.org
SUMMARY:Livres d’Histoire
DESCRIPTION:Every Friday morning at the Alliance Center beginning September 5th. \n10:00 – 11:30 \nThis fall’s selection is the magisterial Napoléon III – La modernité inachevée by Thierry Lentz.\nCall John Lamb at 203-788-4698 for more information.
URL:https://afnwct.org/event/livres-dhistoire-17-2-17-2-8-5/
LOCATION:AF Center\, One Pomperaug Office Park\, Suite 301\, Southbury\, CT\, 06488\, United States
ATTACH;FMTTYPE=image/jpeg:https://afnwct.org/wp-content/uploads/2024/08/Livres-dHistoire-icon.jpg
END:VEVENT
BEGIN:VEVENT
DTSTART;TZID=America/New_York:20251017T100000
DTEND;TZID=America/New_York:20251017T113000
DTSTAMP:20260423T134325
CREATED:20250823T215604Z
LAST-MODIFIED:20250824T153357Z
UID:44777-1760695200-1760700600@afnwct.org
SUMMARY:Livres d’Histoire
DESCRIPTION:Every Friday morning at the Alliance Center beginning September 5th. \n10:00 – 11:30 \nThis fall’s selection is the magisterial Napoléon III – La modernité inachevée by Thierry Lentz.\nCall John Lamb at 203-788-4698 for more information.
URL:https://afnwct.org/event/livres-dhistoire-17-2-17-2-7/
LOCATION:AF Center\, One Pomperaug Office Park\, Suite 301\, Southbury\, CT\, 06488\, United States
ATTACH;FMTTYPE=image/jpeg:https://afnwct.org/wp-content/uploads/2024/08/Livres-dHistoire-icon.jpg
END:VEVENT
BEGIN:VEVENT
DTSTART;TZID=America/New_York:20251016T190000
DTEND;TZID=America/New_York:20251016T190000
DTSTAMP:20260423T134325
CREATED:20250824T143640Z
LAST-MODIFIED:20250824T143640Z
UID:44836-1760641200-1760641200@afnwct.org
SUMMARY:Ciné Club
DESCRIPTION:Showings of classic French movies \nEvery first and third Thursday evening of each month at the Alliance Center \n7:00 pm at the Alliance Center \nPopcorn provided\, BYOB
URL:https://afnwct.org/event/cineclub-presents-cesar-2-2-4-2-2-2-2-2-2-2-2-2-2-8-10-2-4/
LOCATION:AF Center\, One Pomperaug Office Park\, Suite 301\, Southbury\, CT\, 06488\, United States
ATTACH;FMTTYPE=image/jpeg:https://afnwct.org/wp-content/uploads/2024/03/Le-Cinema-Series-16-9.jpg
END:VEVENT
BEGIN:VEVENT
DTSTART;TZID=America/New_York:20251011T123000
DTEND;TZID=America/New_York:20251011T130000
DTSTAMP:20260423T134325
CREATED:20250828T200227Z
LAST-MODIFIED:20250828T200227Z
UID:44901-1760185800-1760187600@afnwct.org
SUMMARY:Annual Meeting and Grand Opening of the newly refurbished AFNWCT Center
DESCRIPTION:October 11th \nSaturday \n12:30–1:00 \nFree. No reservations needed\, just come! \nBeverages and light snacks. \nWe want to hear your ideas!
URL:https://afnwct.org/event/annual-meeting-and-grand-opening-of-the-newly-refurbished-afnwct-center/
LOCATION:AF Center\, One Pomperaug Office Park\, Suite 301\, Southbury\, CT\, 06488\, United States
ATTACH;FMTTYPE=image/jpeg:https://afnwct.org/wp-content/uploads/2024/04/SpecialEvents-16-9.jpg
END:VEVENT
END:VCALENDAR