BEGIN:VCALENDAR
VERSION:2.0
PRODID:-//Alliance Francaise of NW CT - ECPv6.15.11//NONSGML v1.0//EN
CALSCALE:GREGORIAN
METHOD:PUBLISH
X-WR-CALNAME:Alliance Francaise of NW CT
X-ORIGINAL-URL:https://afnwct.org
X-WR-CALDESC:Events for Alliance Francaise of NW CT
REFRESH-INTERVAL;VALUE=DURATION:PT1H
X-Robots-Tag:noindex
X-PUBLISHED-TTL:PT1H
BEGIN:VTIMEZONE
TZID:America/New_York
BEGIN:DAYLIGHT
TZOFFSETFROM:-0500
TZOFFSETTO:-0400
TZNAME:EDT
DTSTART:20250309T070000
END:DAYLIGHT
BEGIN:STANDARD
TZOFFSETFROM:-0400
TZOFFSETTO:-0500
TZNAME:EST
DTSTART:20251102T060000
END:STANDARD
BEGIN:DAYLIGHT
TZOFFSETFROM:-0500
TZOFFSETTO:-0400
TZNAME:EDT
DTSTART:20260308T070000
END:DAYLIGHT
BEGIN:STANDARD
TZOFFSETFROM:-0400
TZOFFSETTO:-0500
TZNAME:EST
DTSTART:20261101T060000
END:STANDARD
BEGIN:DAYLIGHT
TZOFFSETFROM:-0500
TZOFFSETTO:-0400
TZNAME:EDT
DTSTART:20270314T070000
END:DAYLIGHT
BEGIN:STANDARD
TZOFFSETFROM:-0400
TZOFFSETTO:-0500
TZNAME:EST
DTSTART:20271107T060000
END:STANDARD
END:VTIMEZONE
BEGIN:VEVENT
DTSTART;TZID=America/New_York:20260424T100000
DTEND;TZID=America/New_York:20260424T113000
DTSTAMP:20260423T072322
CREATED:20251211T232330Z
LAST-MODIFIED:20251211T232330Z
UID:45076-1777024800-1777030200@afnwct.org
SUMMARY:Livres d’Histoire
DESCRIPTION:Every Friday morning at the Alliance Center beginning January 2nd. \n10:00 – 11:30 \nThis winter’s selection is the magisterial Napoléon III – La modernité inachevée by Thierry Lentz.\nCall John Lamb at 203-788-4698 for more information.
URL:https://afnwct.org/event/livres-dhistoire-17-2-17-2-8-2-2-17/
LOCATION:AF Center\, One Pomperaug Office Park\, Suite 301\, Southbury\, CT\, 06488\, United States
ATTACH;FMTTYPE=image/jpeg:https://afnwct.org/wp-content/uploads/2024/08/Livres-dHistoire-icon.jpg
END:VEVENT
BEGIN:VEVENT
DTSTART;TZID=America/New_York:20260418T170000
DTEND;TZID=America/New_York:20260418T190000
DTSTAMP:20260423T072322
CREATED:20251211T180433Z
LAST-MODIFIED:20251213T000029Z
UID:44962-1776531600-1776538800@afnwct.org
SUMMARY:Wine and Cheese Tasting
DESCRIPTION:Chez Joyce and Gilles \nApril 18th\nSaturday\n5:00–7:00 pm\n$30 per person \nOnce again\, Joyce and Gilles are hosting an event. This time you will be tasting a selection of whites\, reds and sparkling wines paired with cheeses and nibbles. A designated wine expert will be available to describe the selections. And you will be accompanied by live guitar music in the background. \n  \n \nPlease reserve and pre-pay a week in advance.\n1. Reserve: Email at events@afnwct.org\nOr call Evelyne at 203-512-6532.\n2. Pay: Paypal Below ($4 surcharge) $34 total\nOr mail check to: AFNWCT\, One Pomperaug Office Park\nSuite 301\, Southbury\, CT 06488 \n\n  \n   \n\n\n\n        \n        Wine and Cheese Tasting 2026\n      \n\n\n\n        \n            1 Attendee $34.00 USD\n          \n            2 Attendees $64.00 USD\n          \n      \n\n\n\n        \n        Name/s\n      \n\n\n\n        \n      \n\n\n\n        \n        Email
URL:https://afnwct.org/event/be-famous-for-a-night-2/
LOCATION:CT
ATTACH;FMTTYPE=image/jpeg:https://afnwct.org/wp-content/uploads/2024/08/Social-Events-16-9.jpg
END:VEVENT
BEGIN:VEVENT
DTSTART;TZID=America/New_York:20260417T100000
DTEND;TZID=America/New_York:20260417T113000
DTSTAMP:20260423T072322
CREATED:20251211T232253Z
LAST-MODIFIED:20251211T232253Z
UID:45075-1776420000-1776425400@afnwct.org
SUMMARY:Livres d’Histoire
DESCRIPTION:Every Friday morning at the Alliance Center beginning January 2nd. \n10:00 – 11:30 \nThis winter’s selection is the magisterial Napoléon III – La modernité inachevée by Thierry Lentz.\nCall John Lamb at 203-788-4698 for more information.
URL:https://afnwct.org/event/livres-dhistoire-17-2-17-2-8-2-2-16/
LOCATION:AF Center\, One Pomperaug Office Park\, Suite 301\, Southbury\, CT\, 06488\, United States
ATTACH;FMTTYPE=image/jpeg:https://afnwct.org/wp-content/uploads/2024/08/Livres-dHistoire-icon.jpg
END:VEVENT
BEGIN:VEVENT
DTSTART;TZID=America/New_York:20260416T190000
DTEND;TZID=America/New_York:20260416T190000
DTSTAMP:20260423T072322
CREATED:20251211T215944Z
LAST-MODIFIED:20251211T215944Z
UID:45041-1776366000-1776366000@afnwct.org
SUMMARY:Ciné Club
DESCRIPTION:Showings of classic French movies \nEvery first and third Thursday evening of each month at the Alliance Center \n7:00 pm at the Alliance Center \nPopcorn provided\, BYOB
URL:https://afnwct.org/event/cineclub-presents-cesar-2-2-4-2-2-2-2-2-2-2-2-2-2-8-10-2-8-2-8/
LOCATION:AF Center\, One Pomperaug Office Park\, Suite 301\, Southbury\, CT\, 06488\, United States
ATTACH;FMTTYPE=image/jpeg:https://afnwct.org/wp-content/uploads/2024/03/Le-Cinema-Series-16-9.jpg
END:VEVENT
BEGIN:VEVENT
DTSTART;TZID=America/New_York:20260411T100000
DTEND;TZID=America/New_York:20260411T120000
DTSTAMP:20260423T072322
CREATED:20251211T212334Z
LAST-MODIFIED:20251211T212334Z
UID:44992-1775901600-1775908800@afnwct.org
SUMMARY:Café Conversation
DESCRIPTION:Every other Saturday morning at the Alliance Center or at a private home.  \n10:00–12:00  \nCafé Conversation is a great way to practice and improve your French. L’ambiance conviviale will help you feel more comfortable learning and speaking French with other francophones and francophiles.  \nEnjoy coffee and pastries\, meet other members\, chat and discuss en français.  \nAs the venue changes from time to time\, we recommend that you send your email address to cafe@afnwct.org to keep informed. 
URL:https://afnwct.org/event/cafe-conversation-56-2-2-4-2-2-2-10-2-3-8-8-3-9-2-8-9/
LOCATION:AF Center\, One Pomperaug Office Park\, Suite 301\, Southbury\, CT\, 06488\, United States
ATTACH;FMTTYPE=image/jpeg:https://afnwct.org/wp-content/uploads/2023/08/Cafe-Conversation-16-9-1.jpg
END:VEVENT
BEGIN:VEVENT
DTSTART;TZID=America/New_York:20260410T100000
DTEND;TZID=America/New_York:20260410T113000
DTSTAMP:20260423T072322
CREATED:20251211T232213Z
LAST-MODIFIED:20251211T232213Z
UID:45074-1775815200-1775820600@afnwct.org
SUMMARY:Livres d’Histoire
DESCRIPTION:Every Friday morning at the Alliance Center beginning January 2nd. \n10:00 – 11:30 \nThis winter’s selection is the magisterial Napoléon III – La modernité inachevée by Thierry Lentz.\nCall John Lamb at 203-788-4698 for more information.
URL:https://afnwct.org/event/livres-dhistoire-17-2-17-2-8-2-2-15/
LOCATION:AF Center\, One Pomperaug Office Park\, Suite 301\, Southbury\, CT\, 06488\, United States
ATTACH;FMTTYPE=image/jpeg:https://afnwct.org/wp-content/uploads/2024/08/Livres-dHistoire-icon.jpg
END:VEVENT
BEGIN:VEVENT
DTSTART;TZID=America/New_York:20260403T100000
DTEND;TZID=America/New_York:20260403T113000
DTSTAMP:20260423T072322
CREATED:20251211T232142Z
LAST-MODIFIED:20251211T232142Z
UID:45073-1775210400-1775215800@afnwct.org
SUMMARY:Livres d’Histoire
DESCRIPTION:Every Friday morning at the Alliance Center beginning January 2nd. \n10:00 – 11:30 \nThis winter’s selection is the magisterial Napoléon III – La modernité inachevée by Thierry Lentz.\nCall John Lamb at 203-788-4698 for more information.
URL:https://afnwct.org/event/livres-dhistoire-17-2-17-2-8-2-2-14/
LOCATION:AF Center\, One Pomperaug Office Park\, Suite 301\, Southbury\, CT\, 06488\, United States
ATTACH;FMTTYPE=image/jpeg:https://afnwct.org/wp-content/uploads/2024/08/Livres-dHistoire-icon.jpg
END:VEVENT
BEGIN:VEVENT
DTSTART;TZID=America/New_York:20260402T190000
DTEND;TZID=America/New_York:20260402T190000
DTSTAMP:20260423T072322
CREATED:20251211T215847Z
LAST-MODIFIED:20251211T215847Z
UID:45040-1775156400-1775156400@afnwct.org
SUMMARY:Ciné Club
DESCRIPTION:Showings of classic French movies \nEvery first and third Thursday evening of each month at the Alliance Center \n7:00 pm at the Alliance Center \nPopcorn provided\, BYOB
URL:https://afnwct.org/event/cineclub-presents-cesar-2-2-4-2-2-2-2-2-2-2-2-2-2-8-10-2-8-2-7/
LOCATION:AF Center\, One Pomperaug Office Park\, Suite 301\, Southbury\, CT\, 06488\, United States
ATTACH;FMTTYPE=image/jpeg:https://afnwct.org/wp-content/uploads/2024/03/Le-Cinema-Series-16-9.jpg
END:VEVENT
BEGIN:VEVENT
DTSTART;TZID=America/New_York:20260402T160000
DTEND;TZID=America/New_York:20260402T180000
DTSTAMP:20260423T072322
CREATED:20260403T170950Z
LAST-MODIFIED:20260403T170950Z
UID:45367-1775145600-1775152800@afnwct.org
SUMMARY:Groupe de lecture
DESCRIPTION:First Thursday of every month beginning at\n4:00–6:00 pm at a private home in Woodbury. \nAttendance is limited. Call 203-482-3633 to reserve your spot. \nOur next book is Le testament français de Andrei Makine. 
URL:https://afnwct.org/event/groupe-de-lecture-52-2-4-2-2-5-2-4-4-2-5-3-4-2-4/
LOCATION:Woodbury Residence
ATTACH;FMTTYPE=image/jpeg:https://afnwct.org/wp-content/uploads/2023/08/Lectures-16-9.jpg
END:VEVENT
BEGIN:VEVENT
DTSTART;TZID=America/New_York:20260328T100000
DTEND;TZID=America/New_York:20260328T120000
DTSTAMP:20260423T072322
CREATED:20251211T212234Z
LAST-MODIFIED:20251211T212234Z
UID:44991-1774692000-1774699200@afnwct.org
SUMMARY:Café Conversation
DESCRIPTION:Every other Saturday morning at the Alliance Center or at a private home.  \n10:00–12:00  \nCafé Conversation is a great way to practice and improve your French. L’ambiance conviviale will help you feel more comfortable learning and speaking French with other francophones and francophiles.  \nEnjoy coffee and pastries\, meet other members\, chat and discuss en français.  \nAs the venue changes from time to time\, we recommend that you send your email address to cafe@afnwct.org to keep informed. 
URL:https://afnwct.org/event/cafe-conversation-56-2-2-4-2-2-2-10-2-3-8-8-3-9-2-8-8/
LOCATION:AF Center\, One Pomperaug Office Park\, Suite 301\, Southbury\, CT\, 06488\, United States
ATTACH;FMTTYPE=image/jpeg:https://afnwct.org/wp-content/uploads/2023/08/Cafe-Conversation-16-9-1.jpg
END:VEVENT
BEGIN:VEVENT
DTSTART;TZID=America/New_York:20260327T100000
DTEND;TZID=America/New_York:20260327T113000
DTSTAMP:20260423T072322
CREATED:20251211T232034Z
LAST-MODIFIED:20251211T232034Z
UID:45072-1774605600-1774611000@afnwct.org
SUMMARY:Livres d’Histoire
DESCRIPTION:Every Friday morning at the Alliance Center beginning January 2nd. \n10:00 – 11:30 \nThis winter’s selection is the magisterial Napoléon III – La modernité inachevée by Thierry Lentz.\nCall John Lamb at 203-788-4698 for more information.
URL:https://afnwct.org/event/livres-dhistoire-17-2-17-2-8-2-2-13/
LOCATION:AF Center\, One Pomperaug Office Park\, Suite 301\, Southbury\, CT\, 06488\, United States
ATTACH;FMTTYPE=image/jpeg:https://afnwct.org/wp-content/uploads/2024/08/Livres-dHistoire-icon.jpg
END:VEVENT
BEGIN:VEVENT
DTSTART;TZID=America/New_York:20260322T150000
DTEND;TZID=America/New_York:20260322T180000
DTSTAMP:20260423T072322
CREATED:20251211T181351Z
LAST-MODIFIED:20260318T153617Z
UID:44975-1774191600-1774202400@afnwct.org
SUMMARY:Afternoon in Paris - SOLD OUT!
DESCRIPTION:Chez Evelyne Purdy \nMarch 22nd\nSunday\n3:00–6:00 pm\nSOLD OUT\n$30 per person\n \nAn elegant presentation of songs by Charles Trenet\, Edith Piaf\, Charles Aznavour and other well-known popular\nclassics. Be prepared to be transported to a French café in the City of LIghts. Cynthia M. will be accompanied tonight\nby Alex Nakhimovsky. Both artists have international performing experience at venues ranging from Carnegie Hall to\nFrench cabarets\, classical to jazz and everything in between. Cynthia’s CD\, Bistro Blue can be heard on Spotify and it\nis fantastic! \n \nQuestions: Evelyne Purdy at 203-512-6532 or email events@afnwct.org
URL:https://afnwct.org/event/afternoon-in-paris/
LOCATION:CT
ATTACH;FMTTYPE=image/jpeg:https://afnwct.org/wp-content/uploads/2024/08/Social-Events-16-9.jpg
END:VEVENT
BEGIN:VEVENT
DTSTART;TZID=America/New_York:20260320T100000
DTEND;TZID=America/New_York:20260320T113000
DTSTAMP:20260423T072322
CREATED:20251211T231950Z
LAST-MODIFIED:20251211T231957Z
UID:45071-1774000800-1774006200@afnwct.org
SUMMARY:Livres d’Histoire
DESCRIPTION:Every Friday morning at the Alliance Center beginning January 2nd. \n10:00 – 11:30 \nThis winter’s selection is the magisterial Napoléon III – La modernité inachevée by Thierry Lentz.\nCall John Lamb at 203-788-4698 for more information.
URL:https://afnwct.org/event/livres-dhistoire-17-2-17-2-8-2-2-12/
LOCATION:AF Center\, One Pomperaug Office Park\, Suite 301\, Southbury\, CT\, 06488\, United States
ATTACH;FMTTYPE=image/jpeg:https://afnwct.org/wp-content/uploads/2024/08/Livres-dHistoire-icon.jpg
END:VEVENT
BEGIN:VEVENT
DTSTART;TZID=America/New_York:20260319T190000
DTEND;TZID=America/New_York:20260319T190000
DTSTAMP:20260423T072322
CREATED:20251211T215751Z
LAST-MODIFIED:20251211T230326Z
UID:45039-1773946800-1773946800@afnwct.org
SUMMARY:Ciné Club
DESCRIPTION:Showings of classic French movies \nEvery first and third Thursday evening of each month at the Alliance Center \n7:00 pm at the Alliance Center \nPopcorn provided\, BYOB
URL:https://afnwct.org/event/cineclub-presents-cesar-2-2-4-2-2-2-2-2-2-2-2-2-2-8-10-2-8-2-6/
LOCATION:AF Center\, One Pomperaug Office Park\, Suite 301\, Southbury\, CT\, 06488\, United States
ATTACH;FMTTYPE=image/jpeg:https://afnwct.org/wp-content/uploads/2024/03/Le-Cinema-Series-16-9.jpg
END:VEVENT
BEGIN:VEVENT
DTSTART;TZID=America/New_York:20260314T100000
DTEND;TZID=America/New_York:20260314T120000
DTSTAMP:20260423T072322
CREATED:20251211T212144Z
LAST-MODIFIED:20251211T212144Z
UID:44990-1773482400-1773489600@afnwct.org
SUMMARY:Café Conversation
DESCRIPTION:Every other Saturday morning at the Alliance Center or at a private home.  \n10:00–12:00  \nCafé Conversation is a great way to practice and improve your French. L’ambiance conviviale will help you feel more comfortable learning and speaking French with other francophones and francophiles.  \nEnjoy coffee and pastries\, meet other members\, chat and discuss en français.  \nAs the venue changes from time to time\, we recommend that you send your email address to cafe@afnwct.org to keep informed. 
URL:https://afnwct.org/event/cafe-conversation-56-2-2-4-2-2-2-10-2-3-8-8-3-9-2-8-7/
LOCATION:AF Center\, One Pomperaug Office Park\, Suite 301\, Southbury\, CT\, 06488\, United States
ATTACH;FMTTYPE=image/jpeg:https://afnwct.org/wp-content/uploads/2023/08/Cafe-Conversation-16-9-1.jpg
END:VEVENT
BEGIN:VEVENT
DTSTART;TZID=America/New_York:20260313T100000
DTEND;TZID=America/New_York:20260313T113000
DTSTAMP:20260423T072322
CREATED:20251211T231854Z
LAST-MODIFIED:20251211T231904Z
UID:45070-1773396000-1773401400@afnwct.org
SUMMARY:Livres d’Histoire
DESCRIPTION:Every Friday morning at the Alliance Center beginning January 2nd. \n10:00 – 11:30 \nThis winter’s selection is the magisterial Napoléon III – La modernité inachevée by Thierry Lentz.\nCall John Lamb at 203-788-4698 for more information.
URL:https://afnwct.org/event/livres-dhistoire-17-2-17-2-8-2-2-11/
LOCATION:AF Center\, One Pomperaug Office Park\, Suite 301\, Southbury\, CT\, 06488\, United States
ATTACH;FMTTYPE=image/jpeg:https://afnwct.org/wp-content/uploads/2024/08/Livres-dHistoire-icon.jpg
END:VEVENT
BEGIN:VEVENT
DTSTART;TZID=America/New_York:20260306T100000
DTEND;TZID=America/New_York:20260306T113000
DTSTAMP:20260423T072322
CREATED:20251211T231605Z
LAST-MODIFIED:20251211T231605Z
UID:45069-1772791200-1772796600@afnwct.org
SUMMARY:Livres d’Histoire
DESCRIPTION:Every Friday morning at the Alliance Center beginning January 2nd. \n10:00 – 11:30 \nThis winter’s selection is the magisterial Napoléon III – La modernité inachevée by Thierry Lentz.\nCall John Lamb at 203-788-4698 for more information.
URL:https://afnwct.org/event/livres-dhistoire-17-2-17-2-8-2-2-10/
LOCATION:AF Center\, One Pomperaug Office Park\, Suite 301\, Southbury\, CT\, 06488\, United States
ATTACH;FMTTYPE=image/jpeg:https://afnwct.org/wp-content/uploads/2024/08/Livres-dHistoire-icon.jpg
END:VEVENT
BEGIN:VEVENT
DTSTART;TZID=America/New_York:20260305T190000
DTEND;TZID=America/New_York:20260305T190000
DTSTAMP:20260423T072322
CREATED:20251211T215632Z
LAST-MODIFIED:20251211T230338Z
UID:45038-1772737200-1772737200@afnwct.org
SUMMARY:Ciné Club
DESCRIPTION:Showings of classic French movies \nEvery first and third Thursday evening of each month at the Alliance Center \n7:00 pm at the Alliance Center \nPopcorn provided\, BYOB
URL:https://afnwct.org/event/cineclub-presents-cesar-2-2-4-2-2-2-2-2-2-2-2-2-2-8-10-2-8-2-5/
LOCATION:AF Center\, One Pomperaug Office Park\, Suite 301\, Southbury\, CT\, 06488\, United States
ATTACH;FMTTYPE=image/jpeg:https://afnwct.org/wp-content/uploads/2024/03/Le-Cinema-Series-16-9.jpg
END:VEVENT
BEGIN:VEVENT
DTSTART;TZID=America/New_York:20260305T150000
DTEND;TZID=America/New_York:20260305T170000
DTSTAMP:20260423T072322
CREATED:20251211T214748Z
LAST-MODIFIED:20251211T214748Z
UID:45025-1772722800-1772730000@afnwct.org
SUMMARY:Groupe de lecture
DESCRIPTION:First Thursday of every month beginning at\n3:00–5:00 pm at a private home in Woodbury. \nAttendance is limited. Call 203-482-3633 to reserve your spot. \nLe groupe continuera Une vie à coucher dehors\, a wonderful collection of short stories by Sylvain Tesson.
URL:https://afnwct.org/event/groupe-de-lecture-52-2-4-2-2-5-2-4-4-2-5-3-4-2-2/
LOCATION:Member private home
ATTACH;FMTTYPE=image/jpeg:https://afnwct.org/wp-content/uploads/2023/08/Lectures-16-9.jpg
END:VEVENT
BEGIN:VEVENT
DTSTART;TZID=America/New_York:20260228T100000
DTEND;TZID=America/New_York:20260228T120000
DTSTAMP:20260423T072322
CREATED:20251211T211159Z
LAST-MODIFIED:20251211T211159Z
UID:44989-1772272800-1772280000@afnwct.org
SUMMARY:Café Conversation
DESCRIPTION:Every other Saturday morning at the Alliance Center or at a private home.  \n10:00–12:00  \nCafé Conversation is a great way to practice and improve your French. L’ambiance conviviale will help you feel more comfortable learning and speaking French with other francophones and francophiles.  \nEnjoy coffee and pastries\, meet other members\, chat and discuss en français.  \nAs the venue changes from time to time\, we recommend that you send your email address to cafe@afnwct.org to keep informed. 
URL:https://afnwct.org/event/cafe-conversation-56-2-2-4-2-2-2-10-2-3-8-8-3-9-2-8-6/
LOCATION:AF Center\, One Pomperaug Office Park\, Suite 301\, Southbury\, CT\, 06488\, United States
ATTACH;FMTTYPE=image/jpeg:https://afnwct.org/wp-content/uploads/2023/08/Cafe-Conversation-16-9-1.jpg
END:VEVENT
BEGIN:VEVENT
DTSTART;TZID=America/New_York:20260227T100000
DTEND;TZID=America/New_York:20260227T113000
DTSTAMP:20260423T072322
CREATED:20251211T231428Z
LAST-MODIFIED:20251211T231452Z
UID:45068-1772186400-1772191800@afnwct.org
SUMMARY:Livres d’Histoire
DESCRIPTION:Every Friday morning at the Alliance Center beginning January 2nd. \n10:00 – 11:30 \nThis winter’s selection is the magisterial Napoléon III – La modernité inachevée by Thierry Lentz.\nCall John Lamb at 203-788-4698 for more information.
URL:https://afnwct.org/event/livres-dhistoire-17-2-17-2-8-2-2-9/
LOCATION:AF Center\, One Pomperaug Office Park\, Suite 301\, Southbury\, CT\, 06488\, United States
ATTACH;FMTTYPE=image/jpeg:https://afnwct.org/wp-content/uploads/2024/08/Livres-dHistoire-icon.jpg
END:VEVENT
BEGIN:VEVENT
DTSTART;TZID=America/New_York:20260221T150000
DTEND;TZID=America/New_York:20260221T180000
DTSTAMP:20260423T072322
CREATED:20251211T175550Z
LAST-MODIFIED:20260217T235950Z
UID:44955-1771686000-1771696800@afnwct.org
SUMMARY:CANCELED - Be Famous for a Night
DESCRIPTION:Chez Joyce and Gilles \nFebruary 21st\nSaturday\nCANCELED\n$30 per person \nRealize your fantasy\, be creative\, transform yourself into one of the many famous French figures\, modern or historical\, real or not. Mingle with celebrities while nibbling on hors-d’oeuvres and sipping wine. And don’t forget you may win a bottle of Veuve Cliquot\, Chateauneuf-Du-Pape or a box of Bridgewater chocolates \n  \n \nPlease reserve and pre-pay a week in advance.\n1. Reserve: Email at events@afnwct.org\nOr call Evelyne at 203-512-6532.\n2. Pay: Paypal Below ($4 surcharge) $34 total\nOr mail check to: AFNWCT\, One Pomperaug Office Park\nSuite 301\, Southbury\, CT 06488 \n\n \n\n\n\n\nBe Famous for a Night 2026\n\n\n1 Attendee $34.00 USD2 Attendees $64.00 USD\n\n\n\nName/s\n\n\n\n\n\n\nEmail
URL:https://afnwct.org/event/be-famous-for-a-night/
LOCATION:CT
ATTACH;FMTTYPE=image/jpeg:https://afnwct.org/wp-content/uploads/2024/08/Social-Events-16-9.jpg
END:VEVENT
BEGIN:VEVENT
DTSTART;TZID=America/New_York:20260220T100000
DTEND;TZID=America/New_York:20260220T113000
DTSTAMP:20260423T072322
CREATED:20251211T231303Z
LAST-MODIFIED:20251211T231303Z
UID:45066-1771581600-1771587000@afnwct.org
SUMMARY:Livres d’Histoire
DESCRIPTION:Every Friday morning at the Alliance Center beginning January 2nd. \n10:00 – 11:30 \nThis winter’s selection is the magisterial Napoléon III – La modernité inachevée by Thierry Lentz.\nCall John Lamb at 203-788-4698 for more information.
URL:https://afnwct.org/event/livres-dhistoire-17-2-17-2-8-2-2-7/
LOCATION:AF Center\, One Pomperaug Office Park\, Suite 301\, Southbury\, CT\, 06488\, United States
ATTACH;FMTTYPE=image/jpeg:https://afnwct.org/wp-content/uploads/2024/08/Livres-dHistoire-icon.jpg
END:VEVENT
BEGIN:VEVENT
DTSTART;TZID=America/New_York:20260216T150000
DTEND;TZID=America/New_York:20260216T170000
DTSTAMP:20260423T072322
CREATED:20251216T011355Z
LAST-MODIFIED:20260216T062106Z
UID:45164-1771254000-1771261200@afnwct.org
SUMMARY:CANCELLED due to illness. Un après-midi musical
DESCRIPTION:Chez Jennifer \nCANCELLED due to illness. February 16th\nMonday afternoon\n3:00 – 5:00 pm\n$10 per person\, cash at the door \nLive French music recital from the worlds of opera\, classical\, and popular music sung by Jennifer\, a soprano and  a colleague\, Emily\, a mezzo-soprano. Jennifer’s husband\, David\,  will accompany them at her home in Danbury. Jennifer is not only a member of Alliance Francaise\, but a student of Anette Roth. \n \nFor information\, email events@afnwct.org\nThe event’s address will be provided in an email blast before the event
URL:https://afnwct.org/event/un-apres-midi-musical/
LOCATION:Member private home
ATTACH;FMTTYPE=image/jpeg:https://afnwct.org/wp-content/uploads/2024/08/Social-Events-16-9.jpg
END:VEVENT
BEGIN:VEVENT
DTSTART;TZID=America/New_York:20260214T100000
DTEND;TZID=America/New_York:20260214T120000
DTSTAMP:20260423T072322
CREATED:20251211T211128Z
LAST-MODIFIED:20251211T211128Z
UID:44988-1771063200-1771070400@afnwct.org
SUMMARY:Café Conversation
DESCRIPTION:Every other Saturday morning at the Alliance Center or at a private home.  \n10:00–12:00  \nCafé Conversation is a great way to practice and improve your French. L’ambiance conviviale will help you feel more comfortable learning and speaking French with other francophones and francophiles.  \nEnjoy coffee and pastries\, meet other members\, chat and discuss en français.  \nAs the venue changes from time to time\, we recommend that you send your email address to cafe@afnwct.org to keep informed. 
URL:https://afnwct.org/event/cafe-conversation-56-2-2-4-2-2-2-10-2-3-8-8-3-9-2-8-5/
LOCATION:AF Center\, One Pomperaug Office Park\, Suite 301\, Southbury\, CT\, 06488\, United States
ATTACH;FMTTYPE=image/jpeg:https://afnwct.org/wp-content/uploads/2023/08/Cafe-Conversation-16-9-1.jpg
END:VEVENT
BEGIN:VEVENT
DTSTART;TZID=America/New_York:20260213T100000
DTEND;TZID=America/New_York:20260213T113000
DTSTAMP:20260423T072322
CREATED:20251211T231345Z
LAST-MODIFIED:20251211T231352Z
UID:45067-1770976800-1770982200@afnwct.org
SUMMARY:Livres d’Histoire
DESCRIPTION:Every Friday morning at the Alliance Center beginning January 2nd. \n10:00 – 11:30 \nThis winter’s selection is the magisterial Napoléon III – La modernité inachevée by Thierry Lentz.\nCall John Lamb at 203-788-4698 for more information.
URL:https://afnwct.org/event/livres-dhistoire-17-2-17-2-8-2-2-8/
LOCATION:AF Center\, One Pomperaug Office Park\, Suite 301\, Southbury\, CT\, 06488\, United States
ATTACH;FMTTYPE=image/jpeg:https://afnwct.org/wp-content/uploads/2024/08/Livres-dHistoire-icon.jpg
END:VEVENT
BEGIN:VEVENT
DTSTART;TZID=America/New_York:20260206T100000
DTEND;TZID=America/New_York:20260206T113000
DTSTAMP:20260423T072322
CREATED:20251211T230529Z
LAST-MODIFIED:20251211T230604Z
UID:45065-1770372000-1770377400@afnwct.org
SUMMARY:Livres d’Histoire
DESCRIPTION:Every Friday morning at the Alliance Center beginning January 2nd. \n10:00 – 11:30 \nThis winter’s selection is the magisterial Napoléon III – La modernité inachevée by Thierry Lentz.\nCall John Lamb at 203-788-4698 for more information.
URL:https://afnwct.org/event/livres-dhistoire-17-2-17-2-8-2-2-6/
LOCATION:AF Center\, One Pomperaug Office Park\, Suite 301\, Southbury\, CT\, 06488\, United States
ATTACH;FMTTYPE=image/jpeg:https://afnwct.org/wp-content/uploads/2024/08/Livres-dHistoire-icon.jpg
END:VEVENT
BEGIN:VEVENT
DTSTART;TZID=America/New_York:20260205T150000
DTEND;TZID=America/New_York:20260205T170000
DTSTAMP:20260423T072322
CREATED:20251211T214540Z
LAST-MODIFIED:20251211T214813Z
UID:45018-1770303600-1770310800@afnwct.org
SUMMARY:Groupe de lecture
DESCRIPTION:First Thursday of every month beginning at\n3:00–5:00 pm at a private home in Woodbury. \nAttendance is limited. Call 203-482-3633 to reserve your spot. \nLe groupe continuera Une vie à coucher dehors\, a wonderful collection of short stories by Sylvain Tesson.
URL:https://afnwct.org/event/groupe-de-lecture-52-2-4-2-2-5-2-4-4-2-5-3-4-2-3/
LOCATION:Member private home
ATTACH;FMTTYPE=image/jpeg:https://afnwct.org/wp-content/uploads/2023/08/Lectures-16-9.jpg
END:VEVENT
BEGIN:VEVENT
DTSTART;TZID=America/New_York:20260131T100000
DTEND;TZID=America/New_York:20260131T120000
DTSTAMP:20260423T072322
CREATED:20251211T211000Z
LAST-MODIFIED:20251211T211000Z
UID:44987-1769853600-1769860800@afnwct.org
SUMMARY:Café Conversation
DESCRIPTION:Every other Saturday morning at the Alliance Center or at a private home.  \n10:00–12:00  \nCafé Conversation is a great way to practice and improve your French. L’ambiance conviviale will help you feel more comfortable learning and speaking French with other francophones and francophiles.  \nEnjoy coffee and pastries\, meet other members\, chat and discuss en français.  \nAs the venue changes from time to time\, we recommend that you send your email address to cafe@afnwct.org to keep informed. 
URL:https://afnwct.org/event/cafe-conversation-56-2-2-4-2-2-2-10-2-3-8-8-3-9-2-8-4/
LOCATION:AF Center\, One Pomperaug Office Park\, Suite 301\, Southbury\, CT\, 06488\, United States
ATTACH;FMTTYPE=image/jpeg:https://afnwct.org/wp-content/uploads/2023/08/Cafe-Conversation-16-9-1.jpg
END:VEVENT
BEGIN:VEVENT
DTSTART;TZID=America/New_York:20260130T100000
DTEND;TZID=America/New_York:20260130T113000
DTSTAMP:20260423T072322
CREATED:20251211T230258Z
LAST-MODIFIED:20251211T230312Z
UID:45064-1769767200-1769772600@afnwct.org
SUMMARY:Livres d’Histoire
DESCRIPTION:Every Friday morning at the Alliance Center beginning January 2nd. \n10:00 – 11:30 \nThis winter’s selection is the magisterial Napoléon III – La modernité inachevée by Thierry Lentz.\nCall John Lamb at 203-788-4698 for more information.
URL:https://afnwct.org/event/livres-dhistoire-17-2-17-2-8-2-2-5/
LOCATION:AF Center\, One Pomperaug Office Park\, Suite 301\, Southbury\, CT\, 06488\, United States
ATTACH;FMTTYPE=image/jpeg:https://afnwct.org/wp-content/uploads/2024/08/Livres-dHistoire-icon.jpg
END:VEVENT
END:VCALENDAR