BEGIN:VCALENDAR
VERSION:2.0
PRODID:-//Alliance Francaise of NW CT - ECPv6.15.11//NONSGML v1.0//EN
CALSCALE:GREGORIAN
METHOD:PUBLISH
X-WR-CALNAME:Alliance Francaise of NW CT
X-ORIGINAL-URL:https://afnwct.org
X-WR-CALDESC:Events for Alliance Francaise of NW CT
REFRESH-INTERVAL;VALUE=DURATION:PT1H
X-Robots-Tag:noindex
X-PUBLISHED-TTL:PT1H
BEGIN:VTIMEZONE
TZID:America/New_York
BEGIN:DAYLIGHT
TZOFFSETFROM:-0500
TZOFFSETTO:-0400
TZNAME:EDT
DTSTART:20250309T070000
END:DAYLIGHT
BEGIN:STANDARD
TZOFFSETFROM:-0400
TZOFFSETTO:-0500
TZNAME:EST
DTSTART:20251102T060000
END:STANDARD
BEGIN:DAYLIGHT
TZOFFSETFROM:-0500
TZOFFSETTO:-0400
TZNAME:EDT
DTSTART:20260308T070000
END:DAYLIGHT
BEGIN:STANDARD
TZOFFSETFROM:-0400
TZOFFSETTO:-0500
TZNAME:EST
DTSTART:20261101T060000
END:STANDARD
BEGIN:DAYLIGHT
TZOFFSETFROM:-0500
TZOFFSETTO:-0400
TZNAME:EDT
DTSTART:20270314T070000
END:DAYLIGHT
BEGIN:STANDARD
TZOFFSETFROM:-0400
TZOFFSETTO:-0500
TZNAME:EST
DTSTART:20271107T060000
END:STANDARD
END:VTIMEZONE
BEGIN:VEVENT
DTSTART;TZID=America/New_York:20260503T123000
DTEND;TZID=America/New_York:20260503T150000
DTSTAMP:20260423T055008
CREATED:20260403T150921Z
LAST-MODIFIED:20260403T153733Z
UID:45223-1777811400-1777820400@afnwct.org
SUMMARY:A Brunch with Our Alliance President
DESCRIPTION:The Brunch House 1850 in Heritage Village:\n137 E Hill Rd\, Southbury\, CT 06488 \nMay 3rd\nSunday\n12:30–3:00 pm\nPay individually with cash \n \nJust nine people will have an opportunity to chat in French or English with Laurent. When you arrive\, just tell the hostess you’re with Alliance\, and she’ll show you to our spot. Pick from the menu and pay your individual bill. \nPay the server in CASH\nReserve with Evelyne at events@afnwct.org
URL:https://afnwct.org/event/a-brunch-with-our-alliance-president/
LOCATION:The Brunch House 1850 in Heritage Village\, 137 E Hill Rd\, Southbury\, Connecticut\, 06488\, United States
ATTACH;FMTTYPE=image/jpeg:https://afnwct.org/wp-content/uploads/2024/08/Social-Events-16-9.jpg
END:VEVENT
BEGIN:VEVENT
DTSTART;TZID=America/New_York:20260507T160000
DTEND;TZID=America/New_York:20260507T180000
DTSTAMP:20260423T055008
CREATED:20260403T171255Z
LAST-MODIFIED:20260403T171255Z
UID:45371-1778169600-1778176800@afnwct.org
SUMMARY:Groupe de lecture
DESCRIPTION:First Thursday of every month beginning at\n4:00–6:00 pm at a private home in Woodbury. \nAttendance is limited. Call 203-482-3633 to reserve your spot. \nOur next book is Le testament français de Andrei Makine. 
URL:https://afnwct.org/event/groupe-de-lecture-52-2-4-2-2-5-2-4-4-2-5-3-4-2-4-2/
LOCATION:Woodbury Residence
ATTACH;FMTTYPE=image/jpeg:https://afnwct.org/wp-content/uploads/2023/08/Lectures-16-9.jpg
END:VEVENT
BEGIN:VEVENT
DTSTART;TZID=America/New_York:20260507T190000
DTEND;TZID=America/New_York:20260507T190000
DTSTAMP:20260423T055008
CREATED:20260403T172211Z
LAST-MODIFIED:20260403T172211Z
UID:45383-1778180400-1778180400@afnwct.org
SUMMARY:Ciné Club
DESCRIPTION:Showings of classic French movies \nEvery first and third Thursday evening of each month at the Alliance Center \n7:00 pm at the Alliance Center \nPopcorn provided\, BYOB
URL:https://afnwct.org/event/cineclub-presents-cesar-2-2-4-2-2-2-2-2-2-2-2-2-2-8-10-2-8-2-8-2/
LOCATION:AF Center\, One Pomperaug Office Park\, Suite 301\, Southbury\, CT\, 06488\, United States
ATTACH;FMTTYPE=image/jpeg:https://afnwct.org/wp-content/uploads/2024/03/Le-Cinema-Series-16-9.jpg
END:VEVENT
BEGIN:VEVENT
DTSTART;TZID=America/New_York:20260508T100000
DTEND;TZID=America/New_York:20260508T113000
DTSTAMP:20260423T055008
CREATED:20260403T164942Z
LAST-MODIFIED:20260403T164942Z
UID:45315-1778234400-1778239800@afnwct.org
SUMMARY:Livres d’Histoire
DESCRIPTION:Every Friday morning at the Alliance Center. \n10:00 – 11:30 \nThis spring’s selection is Mémoires de guerre: L’Appel. 1940-1942 de Charles de Gualle.
URL:https://afnwct.org/event/livres-dhistoire-17-2-17-2-8-2-2-17-2-2/
LOCATION:AF Center\, One Pomperaug Office Park\, Suite 301\, Southbury\, CT\, 06488\, United States
ATTACH;FMTTYPE=image/jpeg:https://afnwct.org/wp-content/uploads/2024/08/Livres-dHistoire-icon.jpg
END:VEVENT
BEGIN:VEVENT
DTSTART;TZID=America/New_York:20260509T100000
DTEND;TZID=America/New_York:20260509T120000
DTSTAMP:20260423T055008
CREATED:20260403T163139Z
LAST-MODIFIED:20260403T163139Z
UID:45282-1778320800-1778328000@afnwct.org
SUMMARY:Café Conversation
DESCRIPTION:Every other Saturday morning at the Alliance Center or at a private home.  \n10:00–12:00  \nL’ambiance conviviale will help you feel more comfortable speaking French with other francophones. A great way to improve your French. \nEnjoy coffee and pastries\, meet other members\, chat and discuss en français.  \nAs the venue changes from time to time\, we recommend that you send your email address to cafe@afnwct.org to keep informed. 
URL:https://afnwct.org/event/cafe-conversation-56-2-2-4-2-2-2-10-2-3-8-8-3-9-2-8-10-2/
LOCATION:AF Center\, One Pomperaug Office Park\, Suite 301\, Southbury\, CT\, 06488\, United States
ATTACH;FMTTYPE=image/jpeg:https://afnwct.org/wp-content/uploads/2023/08/Cafe-Conversation-16-9-1.jpg
END:VEVENT
BEGIN:VEVENT
DTSTART;TZID=America/New_York:20260515T100000
DTEND;TZID=America/New_York:20260515T113000
DTSTAMP:20260423T055008
CREATED:20260403T165038Z
LAST-MODIFIED:20260403T165038Z
UID:45316-1778839200-1778844600@afnwct.org
SUMMARY:Livres d’Histoire
DESCRIPTION:Every Friday morning at the Alliance Center. \n10:00 – 11:30 \nThis spring’s selection is Mémoires de guerre: L’Appel. 1940-1942 de Charles de Gualle.
URL:https://afnwct.org/event/livres-dhistoire-17-2-17-2-8-2-2-17-2-3/
LOCATION:AF Center\, One Pomperaug Office Park\, Suite 301\, Southbury\, CT\, 06488\, United States
ATTACH;FMTTYPE=image/jpeg:https://afnwct.org/wp-content/uploads/2024/08/Livres-dHistoire-icon.jpg
END:VEVENT
BEGIN:VEVENT
DTSTART;TZID=America/New_York:20260521T190000
DTEND;TZID=America/New_York:20260521T190000
DTSTAMP:20260423T055008
CREATED:20260403T172342Z
LAST-MODIFIED:20260403T172342Z
UID:45386-1779390000-1779390000@afnwct.org
SUMMARY:Ciné Club
DESCRIPTION:Showings of classic French movies \nEvery first and third Thursday evening of each month at the Alliance Center \n7:00 pm at the Alliance Center \nPopcorn provided\, BYOB
URL:https://afnwct.org/event/cineclub-presents-cesar-2-2-4-2-2-2-2-2-2-2-2-2-2-8-10-2-8-2-8-2-2/
LOCATION:AF Center\, One Pomperaug Office Park\, Suite 301\, Southbury\, CT\, 06488\, United States
ATTACH;FMTTYPE=image/jpeg:https://afnwct.org/wp-content/uploads/2024/03/Le-Cinema-Series-16-9.jpg
END:VEVENT
BEGIN:VEVENT
DTSTART;TZID=America/New_York:20260522T100000
DTEND;TZID=America/New_York:20260522T113000
DTSTAMP:20260423T055008
CREATED:20260403T165323Z
LAST-MODIFIED:20260403T165323Z
UID:45317-1779444000-1779449400@afnwct.org
SUMMARY:Livres d’Histoire
DESCRIPTION:Every Friday morning at the Alliance Center. \n10:00 – 11:30 \nThis spring’s selection is Mémoires de guerre: L’Appel. 1940-1942 de Charles de Gualle.
URL:https://afnwct.org/event/livres-dhistoire-17-2-17-2-8-2-2-17-2-4/
LOCATION:AF Center\, One Pomperaug Office Park\, Suite 301\, Southbury\, CT\, 06488\, United States
ATTACH;FMTTYPE=image/jpeg:https://afnwct.org/wp-content/uploads/2024/08/Livres-dHistoire-icon.jpg
END:VEVENT
BEGIN:VEVENT
DTSTART;TZID=America/New_York:20260523T100000
DTEND;TZID=America/New_York:20260523T120000
DTSTAMP:20260423T055008
CREATED:20260403T163306Z
LAST-MODIFIED:20260403T163306Z
UID:45285-1779530400-1779537600@afnwct.org
SUMMARY:Café Conversation
DESCRIPTION:Every other Saturday morning at the Alliance Center or at a private home.  \n10:00–12:00  \nL’ambiance conviviale will help you feel more comfortable speaking French with other francophones. A great way to improve your French. \nEnjoy coffee and pastries\, meet other members\, chat and discuss en français.  \nAs the venue changes from time to time\, we recommend that you send your email address to cafe@afnwct.org to keep informed. 
URL:https://afnwct.org/event/cafe-conversation-56-2-2-4-2-2-2-10-2-3-8-8-3-9-2-8-10-2-2/
LOCATION:AF Center\, One Pomperaug Office Park\, Suite 301\, Southbury\, CT\, 06488\, United States
ATTACH;FMTTYPE=image/jpeg:https://afnwct.org/wp-content/uploads/2023/08/Cafe-Conversation-16-9-1.jpg
END:VEVENT
BEGIN:VEVENT
DTSTART;TZID=America/New_York:20260529T100000
DTEND;TZID=America/New_York:20260529T113000
DTSTAMP:20260423T055008
CREATED:20260403T165557Z
LAST-MODIFIED:20260403T165557Z
UID:45318-1780048800-1780054200@afnwct.org
SUMMARY:Livres d’Histoire
DESCRIPTION:Every Friday morning at the Alliance Center. \n10:00 – 11:30 \nThis spring’s selection is Mémoires de guerre: L’Appel. 1940-1942 de Charles de Gualle.
URL:https://afnwct.org/event/livres-dhistoire-17-2-17-2-8-2-2-17-2-5/
LOCATION:AF Center\, One Pomperaug Office Park\, Suite 301\, Southbury\, CT\, 06488\, United States
ATTACH;FMTTYPE=image/jpeg:https://afnwct.org/wp-content/uploads/2024/08/Livres-dHistoire-icon.jpg
END:VEVENT
BEGIN:VEVENT
DTSTART;TZID=America/New_York:20260604T160000
DTEND;TZID=America/New_York:20260604T180000
DTSTAMP:20260423T055008
CREATED:20260403T171345Z
LAST-MODIFIED:20260403T171345Z
UID:45372-1780588800-1780596000@afnwct.org
SUMMARY:Groupe de lecture
DESCRIPTION:First Thursday of every month beginning at\n4:00–6:00 pm at a private home in Woodbury. \nAttendance is limited. Call 203-482-3633 to reserve your spot. \nOur next book is Le testament français de Andrei Makine. 
URL:https://afnwct.org/event/groupe-de-lecture-52-2-4-2-2-5-2-4-4-2-5-3-4-2-4-3/
LOCATION:Woodbury Residence
ATTACH;FMTTYPE=image/jpeg:https://afnwct.org/wp-content/uploads/2023/08/Lectures-16-9.jpg
END:VEVENT
BEGIN:VEVENT
DTSTART;TZID=America/New_York:20260604T190000
DTEND;TZID=America/New_York:20260604T190000
DTSTAMP:20260423T055008
CREATED:20260403T172414Z
LAST-MODIFIED:20260403T172414Z
UID:45387-1780599600-1780599600@afnwct.org
SUMMARY:Ciné Club
DESCRIPTION:Showings of classic French movies \nEvery first and third Thursday evening of each month at the Alliance Center \n7:00 pm at the Alliance Center \nPopcorn provided\, BYOB
URL:https://afnwct.org/event/cineclub-presents-cesar-2-2-4-2-2-2-2-2-2-2-2-2-2-8-10-2-8-2-8-2-3/
LOCATION:AF Center\, One Pomperaug Office Park\, Suite 301\, Southbury\, CT\, 06488\, United States
ATTACH;FMTTYPE=image/jpeg:https://afnwct.org/wp-content/uploads/2024/03/Le-Cinema-Series-16-9.jpg
END:VEVENT
BEGIN:VEVENT
DTSTART;TZID=America/New_York:20260605T100000
DTEND;TZID=America/New_York:20260605T113000
DTSTAMP:20260423T055008
CREATED:20260403T165659Z
LAST-MODIFIED:20260403T165659Z
UID:45319-1780653600-1780659000@afnwct.org
SUMMARY:Livres d’Histoire
DESCRIPTION:Every Friday morning at the Alliance Center. \n10:00 – 11:30 \nThis spring’s selection is Mémoires de guerre: L’Appel. 1940-1942 de Charles de Gualle.
URL:https://afnwct.org/event/livres-dhistoire-17-2-17-2-8-2-2-17-2-6/
LOCATION:AF Center\, One Pomperaug Office Park\, Suite 301\, Southbury\, CT\, 06488\, United States
ATTACH;FMTTYPE=image/jpeg:https://afnwct.org/wp-content/uploads/2024/08/Livres-dHistoire-icon.jpg
END:VEVENT
BEGIN:VEVENT
DTSTART;TZID=America/New_York:20260606T100000
DTEND;TZID=America/New_York:20260606T120000
DTSTAMP:20260423T055008
CREATED:20260403T163347Z
LAST-MODIFIED:20260403T163347Z
UID:45286-1780740000-1780747200@afnwct.org
SUMMARY:Café Conversation
DESCRIPTION:Every other Saturday morning at the Alliance Center or at a private home.  \n10:00–12:00  \nL’ambiance conviviale will help you feel more comfortable speaking French with other francophones. A great way to improve your French. \nEnjoy coffee and pastries\, meet other members\, chat and discuss en français.  \nAs the venue changes from time to time\, we recommend that you send your email address to cafe@afnwct.org to keep informed. 
URL:https://afnwct.org/event/cafe-conversation-56-2-2-4-2-2-2-10-2-3-8-8-3-9-2-8-10-2-3/
LOCATION:AF Center\, One Pomperaug Office Park\, Suite 301\, Southbury\, CT\, 06488\, United States
ATTACH;FMTTYPE=image/jpeg:https://afnwct.org/wp-content/uploads/2023/08/Cafe-Conversation-16-9-1.jpg
END:VEVENT
BEGIN:VEVENT
DTSTART;TZID=America/New_York:20260612T100000
DTEND;TZID=America/New_York:20260612T113000
DTSTAMP:20260423T055008
CREATED:20260403T165747Z
LAST-MODIFIED:20260403T165747Z
UID:45320-1781258400-1781263800@afnwct.org
SUMMARY:Livres d’Histoire
DESCRIPTION:Every Friday morning at the Alliance Center. \n10:00 – 11:30 \nThis spring’s selection is Mémoires de guerre: L’Appel. 1940-1942 de Charles de Gualle.
URL:https://afnwct.org/event/livres-dhistoire-17-2-17-2-8-2-2-17-2-7/
LOCATION:AF Center\, One Pomperaug Office Park\, Suite 301\, Southbury\, CT\, 06488\, United States
ATTACH;FMTTYPE=image/jpeg:https://afnwct.org/wp-content/uploads/2024/08/Livres-dHistoire-icon.jpg
END:VEVENT
BEGIN:VEVENT
DTSTART;TZID=America/New_York:20260613T160000
DTEND;TZID=America/New_York:20260613T190000
DTSTAMP:20260423T055008
CREATED:20260403T151453Z
LAST-MODIFIED:20260404T015103Z
UID:45228-1781366400-1781377200@afnwct.org
SUMMARY:Picnic & Pétanque
DESCRIPTION:Chez Joyce and Gilles Rousseau \nJune 13\nSaturday\n4:00–7:00 pm\n$10 per person \nRain or shine\, there will be a picnic at the Rousseaus’ including pétanque tutorials and warm-up matches. Hot dogs\, hamburgers and surprises will be grilled for you. Just bring your own side dishes\, some to share and favorite beverage. \n \nPlease reserve and pre-pay a week in advance.\n1. Reserve: Email at events@afnwct.org\nOr call Evelyne at 203-512-6532.\n2. Pay: Paypal Below ($2 surcharge) $12 total\nOr mail check to: AFNWCT\, One Pomperaug Office Park\nSuite 301\, Southbury\, CT 06488 \n\n  \n   \n\n\n\n        \n        Picnic & Pétanque 2026\n      \n\n\n\n        \n            1 Attendee $13.00 USD\n          \n            2 Attendees $23.00 USD\n          \n      \n\n\n\n        \n        Name/s\n      \n\n\n\n        \n      \n\n\n\n        \n        Email
URL:https://afnwct.org/event/picnic-petanque/
LOCATION:Rousseau residence\, 67 Horse Fence Hill Rd.\, Southbury\, CT\, 06488\, United States
ATTACH;FMTTYPE=image/jpeg:https://afnwct.org/wp-content/uploads/2024/08/Social-Events-16-9.jpg
END:VEVENT
BEGIN:VEVENT
DTSTART;TZID=America/New_York:20260618T190000
DTEND;TZID=America/New_York:20260618T190000
DTSTAMP:20260423T055008
CREATED:20260403T172514Z
LAST-MODIFIED:20260403T172514Z
UID:45388-1781809200-1781809200@afnwct.org
SUMMARY:Ciné Club
DESCRIPTION:Showings of classic French movies \nEvery first and third Thursday evening of each month at the Alliance Center \n7:00 pm at the Alliance Center \nPopcorn provided\, BYOB
URL:https://afnwct.org/event/cineclub-presents-cesar-2-2-4-2-2-2-2-2-2-2-2-2-2-8-10-2-8-2-8-2-4/
LOCATION:AF Center\, One Pomperaug Office Park\, Suite 301\, Southbury\, CT\, 06488\, United States
ATTACH;FMTTYPE=image/jpeg:https://afnwct.org/wp-content/uploads/2024/03/Le-Cinema-Series-16-9.jpg
END:VEVENT
BEGIN:VEVENT
DTSTART;TZID=America/New_York:20260619T100000
DTEND;TZID=America/New_York:20260619T113000
DTSTAMP:20260423T055008
CREATED:20260403T165829Z
LAST-MODIFIED:20260403T165829Z
UID:45321-1781863200-1781868600@afnwct.org
SUMMARY:Livres d’Histoire
DESCRIPTION:Every Friday morning at the Alliance Center. \n10:00 – 11:30 \nThis spring’s selection is Mémoires de guerre: L’Appel. 1940-1942 de Charles de Gualle.
URL:https://afnwct.org/event/livres-dhistoire-17-2-17-2-8-2-2-17-2-8/
LOCATION:AF Center\, One Pomperaug Office Park\, Suite 301\, Southbury\, CT\, 06488\, United States
ATTACH;FMTTYPE=image/jpeg:https://afnwct.org/wp-content/uploads/2024/08/Livres-dHistoire-icon.jpg
END:VEVENT
BEGIN:VEVENT
DTSTART;TZID=America/New_York:20260620T100000
DTEND;TZID=America/New_York:20260620T120000
DTSTAMP:20260423T055008
CREATED:20260403T163440Z
LAST-MODIFIED:20260403T163440Z
UID:45287-1781949600-1781956800@afnwct.org
SUMMARY:Café Conversation
DESCRIPTION:Every other Saturday morning at the Alliance Center or at a private home.  \n10:00–12:00  \nL’ambiance conviviale will help you feel more comfortable speaking French with other francophones. A great way to improve your French. \nEnjoy coffee and pastries\, meet other members\, chat and discuss en français.  \nAs the venue changes from time to time\, we recommend that you send your email address to cafe@afnwct.org to keep informed. 
URL:https://afnwct.org/event/cafe-conversation-56-2-2-4-2-2-2-10-2-3-8-8-3-9-2-8-10-2-4/
LOCATION:AF Center\, One Pomperaug Office Park\, Suite 301\, Southbury\, CT\, 06488\, United States
ATTACH;FMTTYPE=image/jpeg:https://afnwct.org/wp-content/uploads/2023/08/Cafe-Conversation-16-9-1.jpg
END:VEVENT
BEGIN:VEVENT
DTSTART;TZID=America/New_York:20260626T100000
DTEND;TZID=America/New_York:20260626T113000
DTSTAMP:20260423T055008
CREATED:20260403T165915Z
LAST-MODIFIED:20260403T165915Z
UID:45322-1782468000-1782473400@afnwct.org
SUMMARY:Livres d’Histoire
DESCRIPTION:Every Friday morning at the Alliance Center. \n10:00 – 11:30 \nThis spring’s selection is Mémoires de guerre: L’Appel. 1940-1942 de Charles de Gualle.
URL:https://afnwct.org/event/livres-dhistoire-17-2-17-2-8-2-2-17-2-9/
LOCATION:AF Center\, One Pomperaug Office Park\, Suite 301\, Southbury\, CT\, 06488\, United States
ATTACH;FMTTYPE=image/jpeg:https://afnwct.org/wp-content/uploads/2024/08/Livres-dHistoire-icon.jpg
END:VEVENT
BEGIN:VEVENT
DTSTART;TZID=America/New_York:20260702T160000
DTEND;TZID=America/New_York:20260702T180000
DTSTAMP:20260423T055008
CREATED:20260403T171437Z
LAST-MODIFIED:20260403T171437Z
UID:45373-1783008000-1783015200@afnwct.org
SUMMARY:Groupe de lecture
DESCRIPTION:First Thursday of every month beginning at\n4:00–6:00 pm at a private home in Woodbury. \nAttendance is limited. Call 203-482-3633 to reserve your spot. \nOur next book is Le testament français de Andrei Makine. 
URL:https://afnwct.org/event/groupe-de-lecture-52-2-4-2-2-5-2-4-4-2-5-3-4-2-4-4/
LOCATION:Woodbury Residence
ATTACH;FMTTYPE=image/jpeg:https://afnwct.org/wp-content/uploads/2023/08/Lectures-16-9.jpg
END:VEVENT
BEGIN:VEVENT
DTSTART;TZID=America/New_York:20260702T190000
DTEND;TZID=America/New_York:20260702T190000
DTSTAMP:20260423T055008
CREATED:20260403T172543Z
LAST-MODIFIED:20260403T172543Z
UID:45389-1783018800-1783018800@afnwct.org
SUMMARY:Ciné Club
DESCRIPTION:Showings of classic French movies \nEvery first and third Thursday evening of each month at the Alliance Center \n7:00 pm at the Alliance Center \nPopcorn provided\, BYOB
URL:https://afnwct.org/event/cineclub-presents-cesar-2-2-4-2-2-2-2-2-2-2-2-2-2-8-10-2-8-2-8-2-5/
LOCATION:AF Center\, One Pomperaug Office Park\, Suite 301\, Southbury\, CT\, 06488\, United States
ATTACH;FMTTYPE=image/jpeg:https://afnwct.org/wp-content/uploads/2024/03/Le-Cinema-Series-16-9.jpg
END:VEVENT
BEGIN:VEVENT
DTSTART;TZID=America/New_York:20260703T100000
DTEND;TZID=America/New_York:20260703T113000
DTSTAMP:20260423T055008
CREATED:20260403T170007Z
LAST-MODIFIED:20260403T170007Z
UID:45323-1783072800-1783078200@afnwct.org
SUMMARY:Livres d’Histoire
DESCRIPTION:Every Friday morning at the Alliance Center. \n10:00 – 11:30 \nThis spring’s selection is Mémoires de guerre: L’Appel. 1940-1942 de Charles de Gualle.
URL:https://afnwct.org/event/livres-dhistoire-17-2-17-2-8-2-2-17-2-10/
LOCATION:AF Center\, One Pomperaug Office Park\, Suite 301\, Southbury\, CT\, 06488\, United States
ATTACH;FMTTYPE=image/jpeg:https://afnwct.org/wp-content/uploads/2024/08/Livres-dHistoire-icon.jpg
END:VEVENT
BEGIN:VEVENT
DTSTART;TZID=America/New_York:20260704T100000
DTEND;TZID=America/New_York:20260704T120000
DTSTAMP:20260423T055008
CREATED:20260403T163529Z
LAST-MODIFIED:20260403T163540Z
UID:45288-1783159200-1783166400@afnwct.org
SUMMARY:Café Conversation
DESCRIPTION:Every other Saturday morning at the Alliance Center or at a private home.  \n10:00–12:00  \nL’ambiance conviviale will help you feel more comfortable speaking French with other francophones. A great way to improve your French. \nEnjoy coffee and pastries\, meet other members\, chat and discuss en français.  \nAs the venue changes from time to time\, we recommend that you send your email address to cafe@afnwct.org to keep informed. 
URL:https://afnwct.org/event/cafe-conversation-56-2-2-4-2-2-2-10-2-3-8-8-3-9-2-8-10-2-5/
LOCATION:AF Center\, One Pomperaug Office Park\, Suite 301\, Southbury\, CT\, 06488\, United States
ATTACH;FMTTYPE=image/jpeg:https://afnwct.org/wp-content/uploads/2023/08/Cafe-Conversation-16-9-1.jpg
END:VEVENT
BEGIN:VEVENT
DTSTART;TZID=America/New_York:20260710T100000
DTEND;TZID=America/New_York:20260710T113000
DTSTAMP:20260423T055008
CREATED:20260403T170102Z
LAST-MODIFIED:20260403T170102Z
UID:45324-1783677600-1783683000@afnwct.org
SUMMARY:Livres d’Histoire
DESCRIPTION:Every Friday morning at the Alliance Center. \n10:00 – 11:30 \nThis spring’s selection is Mémoires de guerre: L’Appel. 1940-1942 de Charles de Gualle.
URL:https://afnwct.org/event/livres-dhistoire-17-2-17-2-8-2-2-17-2-11/
LOCATION:AF Center\, One Pomperaug Office Park\, Suite 301\, Southbury\, CT\, 06488\, United States
ATTACH;FMTTYPE=image/jpeg:https://afnwct.org/wp-content/uploads/2024/08/Livres-dHistoire-icon.jpg
END:VEVENT
BEGIN:VEVENT
DTSTART;TZID=America/New_York:20260712T150000
DTEND;TZID=America/New_York:20260712T190000
DTSTAMP:20260423T055008
CREATED:20260403T153441Z
LAST-MODIFIED:20260404T015235Z
UID:45237-1783868400-1783882800@afnwct.org
SUMMARY:Bastille Day à Southbury
DESCRIPTION:Chez Grace & Laurent Vernillet \nJuly 12\nSunday\n4:00–7:00 pm\n$30 per person \nBack to home base this year to Grace and Laurent’s home in Southbury. Festivities will be located in the cool lower level. Fun venues are available such as a hot tub and beautiful pool\, all available via a golf cart. So bring a bathing suit and towel! French inspired cuisine featuring a variety of brochettes.\nRaffles\, $5 a ticket\, featuring a bottle of Veuve Cliquot and Chateauneuf-\ndu-Pape \n \nPlease reserve and pre-pay a week in advance.\n1. Reserve: Email at events@afnwct.org\nOr call Evelyne at 203-512-6532.\n2. Pay: Paypal Below ($4 surcharge) $34 total\nOr mail check to: AFNWCT\, One Pomperaug Office Park\nSuite 301\, Southbury\, CT 06488 \n\n  \n   \n\n\n\n        \n        Bastille Day 2026\n      \n\n\n\n        \n            1 Attendee $34.00 USD\n          \n            2 Attendees $64.00 USD\n          \n      \n\n\n\n        \n        Name/s\n      \n\n\n\n        \n      \n\n\n\n        \n        Email
URL:https://afnwct.org/event/bastille-day-a-southbury/
LOCATION:Grace and Laurent’s home in Southbury
ATTACH;FMTTYPE=image/jpeg:https://afnwct.org/wp-content/uploads/2024/08/Social-Events-16-9.jpg
END:VEVENT
BEGIN:VEVENT
DTSTART;TZID=America/New_York:20260716T190000
DTEND;TZID=America/New_York:20260716T190000
DTSTAMP:20260423T055008
CREATED:20260403T172619Z
LAST-MODIFIED:20260403T172619Z
UID:45390-1784228400-1784228400@afnwct.org
SUMMARY:Ciné Club
DESCRIPTION:Showings of classic French movies \nEvery first and third Thursday evening of each month at the Alliance Center \n7:00 pm at the Alliance Center \nPopcorn provided\, BYOB
URL:https://afnwct.org/event/cineclub-presents-cesar-2-2-4-2-2-2-2-2-2-2-2-2-2-8-10-2-8-2-8-2-6/
LOCATION:AF Center\, One Pomperaug Office Park\, Suite 301\, Southbury\, CT\, 06488\, United States
ATTACH;FMTTYPE=image/jpeg:https://afnwct.org/wp-content/uploads/2024/03/Le-Cinema-Series-16-9.jpg
END:VEVENT
BEGIN:VEVENT
DTSTART;TZID=America/New_York:20260717T100000
DTEND;TZID=America/New_York:20260717T113000
DTSTAMP:20260423T055008
CREATED:20260403T170140Z
LAST-MODIFIED:20260403T170140Z
UID:45325-1784282400-1784287800@afnwct.org
SUMMARY:Livres d’Histoire
DESCRIPTION:Every Friday morning at the Alliance Center. \n10:00 – 11:30 \nThis spring’s selection is Mémoires de guerre: L’Appel. 1940-1942 de Charles de Gualle.
URL:https://afnwct.org/event/livres-dhistoire-17-2-17-2-8-2-2-17-2-12/
LOCATION:AF Center\, One Pomperaug Office Park\, Suite 301\, Southbury\, CT\, 06488\, United States
ATTACH;FMTTYPE=image/jpeg:https://afnwct.org/wp-content/uploads/2024/08/Livres-dHistoire-icon.jpg
END:VEVENT
BEGIN:VEVENT
DTSTART;TZID=America/New_York:20260718T100000
DTEND;TZID=America/New_York:20260718T120000
DTSTAMP:20260423T055008
CREATED:20260403T163623Z
LAST-MODIFIED:20260403T163623Z
UID:45289-1784368800-1784376000@afnwct.org
SUMMARY:Café Conversation
DESCRIPTION:Every other Saturday morning at the Alliance Center or at a private home.  \n10:00–12:00  \nL’ambiance conviviale will help you feel more comfortable speaking French with other francophones. A great way to improve your French. \nEnjoy coffee and pastries\, meet other members\, chat and discuss en français.  \nAs the venue changes from time to time\, we recommend that you send your email address to cafe@afnwct.org to keep informed. 
URL:https://afnwct.org/event/cafe-conversation-56-2-2-4-2-2-2-10-2-3-8-8-3-9-2-8-10-2-6/
LOCATION:AF Center\, One Pomperaug Office Park\, Suite 301\, Southbury\, CT\, 06488\, United States
ATTACH;FMTTYPE=image/jpeg:https://afnwct.org/wp-content/uploads/2023/08/Cafe-Conversation-16-9-1.jpg
END:VEVENT
BEGIN:VEVENT
DTSTART;TZID=America/New_York:20260724T100000
DTEND;TZID=America/New_York:20260724T113000
DTSTAMP:20260423T055008
CREATED:20260403T170315Z
LAST-MODIFIED:20260403T170315Z
UID:45349-1784887200-1784892600@afnwct.org
SUMMARY:Livres d’Histoire
DESCRIPTION:Every Friday morning at the Alliance Center. \n10:00 – 11:30 \nThis spring’s selection is Mémoires de guerre: L’Appel. 1940-1942 de Charles de Gualle.
URL:https://afnwct.org/event/livres-dhistoire-17-2-17-2-8-2-2-17-2-13/
LOCATION:AF Center\, One Pomperaug Office Park\, Suite 301\, Southbury\, CT\, 06488\, United States
ATTACH;FMTTYPE=image/jpeg:https://afnwct.org/wp-content/uploads/2024/08/Livres-dHistoire-icon.jpg
END:VEVENT
END:VCALENDAR