BEGIN:VCALENDAR
VERSION:2.0
PRODID:-//Alliance Francaise of NW CT - ECPv6.15.11//NONSGML v1.0//EN
CALSCALE:GREGORIAN
METHOD:PUBLISH
X-ORIGINAL-URL:https://afnwct.org
X-WR-CALDESC:Events for Alliance Francaise of NW CT
REFRESH-INTERVAL;VALUE=DURATION:PT1H
X-Robots-Tag:noindex
X-PUBLISHED-TTL:PT1H
BEGIN:VTIMEZONE
TZID:America/New_York
BEGIN:DAYLIGHT
TZOFFSETFROM:-0500
TZOFFSETTO:-0400
TZNAME:EDT
DTSTART:20240310T070000
END:DAYLIGHT
BEGIN:STANDARD
TZOFFSETFROM:-0400
TZOFFSETTO:-0500
TZNAME:EST
DTSTART:20241103T060000
END:STANDARD
BEGIN:DAYLIGHT
TZOFFSETFROM:-0500
TZOFFSETTO:-0400
TZNAME:EDT
DTSTART:20250309T070000
END:DAYLIGHT
BEGIN:STANDARD
TZOFFSETFROM:-0400
TZOFFSETTO:-0500
TZNAME:EST
DTSTART:20251102T060000
END:STANDARD
BEGIN:DAYLIGHT
TZOFFSETFROM:-0500
TZOFFSETTO:-0400
TZNAME:EDT
DTSTART:20260308T070000
END:DAYLIGHT
BEGIN:STANDARD
TZOFFSETFROM:-0400
TZOFFSETTO:-0500
TZNAME:EST
DTSTART:20261101T060000
END:STANDARD
END:VTIMEZONE
BEGIN:VEVENT
DTSTART;TZID=America/New_York:20250717T190000
DTEND;TZID=America/New_York:20250717T190000
DTSTAMP:20260423T200334
CREATED:20250326T183434Z
LAST-MODIFIED:20250513T160645Z
UID:44417-1752778800-1752778800@afnwct.org
SUMMARY:Ciné Club
DESCRIPTION:Monthly showings of classic French movies \nThe spring series will be un-themed and impromptu\, with selections and write-ups delivered in an email blast on the preceding Sunday.The specially curated films will be screened on the 1st and 3rd Thursday of each month.  \n7:00 pm at the Alliance Center \nPopcorn provided\, BYOB
URL:https://afnwct.org/event/cineclub-presents-cesar-2-2-4-2-2-2-2-2-2-2-2-2-2-8-8/
LOCATION:AF Center\, One Pomperaug Office Park\, Suite 301\, Southbury\, CT\, 06488\, United States
ATTACH;FMTTYPE=image/jpeg:https://afnwct.org/wp-content/uploads/2024/03/Le-Cinema-Series-16-9.jpg
END:VEVENT
BEGIN:VEVENT
DTSTART;TZID=America/New_York:20250715T110000
DTEND;TZID=America/New_York:20250715T123000
DTSTAMP:20260423T200334
CREATED:20250326T185500Z
LAST-MODIFIED:20250326T185500Z
UID:44452-1752577200-1752582600@afnwct.org
SUMMARY:Livres d’Histoire
DESCRIPTION:Every Tuesday morning at the Alliance Center \n11:00–12:30  \nWe will continue our reading and discussion of La Carte Postale by Anne Berest (available at Amazon.com). It’s never too late to join the group!  \nThe book is a family history that spans the troubled years of inter-war France and the Nazi occupation. Your reading and understanding of this extraordinary book will be enhanced by the photographs\, maps and historic films that John Lamb has assembled to bring context to the action.
URL:https://afnwct.org/event/livres-dhistoire-17-2-11/
LOCATION:AF Center\, One Pomperaug Office Park\, Suite 301\, Southbury\, CT\, 06488\, United States
ATTACH;FMTTYPE=image/jpeg:https://afnwct.org/wp-content/uploads/2024/08/Livres-dHistoire-icon.jpg
END:VEVENT
BEGIN:VEVENT
DTSTART;TZID=America/New_York:20250712T000000
DTEND;TZID=America/New_York:20250714T000000
DTSTAMP:20260423T200334
CREATED:20250326T194448Z
LAST-MODIFIED:20250402T154022Z
UID:44554-1752278400-1752451200@afnwct.org
SUMMARY:Bastille Day à Manhattan
DESCRIPTION:Final Date TBD\, at L’Aliance NY East 60th Street  \nThe city will close down four blocks of Madison Ave.\, for a huge street fair. Food\, live music\, dance performances\, champagne parties\, film screenings and booths showcasing the best of French and local businesses. \nWe plan to join them and will be letting you know the particulars as the date approaches. You can carpool or take the train. E-blasts will be sent out to keep you informed. \nDiane events@afnwct.org ( (860) 480-0143. 
URL:https://afnwct.org/event/bastille-day-a-manhattan/
ATTACH;FMTTYPE=image/jpeg:https://afnwct.org/wp-content/uploads/2024/04/SpecialEvents-16-9.jpg
END:VEVENT
BEGIN:VEVENT
DTSTART;TZID=America/New_York:20250708T110000
DTEND;TZID=America/New_York:20250708T123000
DTSTAMP:20260423T200334
CREATED:20250326T185420Z
LAST-MODIFIED:20250326T185420Z
UID:44451-1751972400-1751977800@afnwct.org
SUMMARY:Livres d’Histoire
DESCRIPTION:Every Tuesday morning at the Alliance Center \n11:00–12:30  \nWe will continue our reading and discussion of La Carte Postale by Anne Berest (available at Amazon.com). It’s never too late to join the group!  \nThe book is a family history that spans the troubled years of inter-war France and the Nazi occupation. Your reading and understanding of this extraordinary book will be enhanced by the photographs\, maps and historic films that John Lamb has assembled to bring context to the action.
URL:https://afnwct.org/event/livres-dhistoire-17-2-10/
LOCATION:AF Center\, One Pomperaug Office Park\, Suite 301\, Southbury\, CT\, 06488\, United States
ATTACH;FMTTYPE=image/jpeg:https://afnwct.org/wp-content/uploads/2024/08/Livres-dHistoire-icon.jpg
END:VEVENT
BEGIN:VEVENT
DTSTART;TZID=America/New_York:20250705T100000
DTEND;TZID=America/New_York:20250705T120000
DTSTAMP:20260423T200334
CREATED:20250326T191322Z
LAST-MODIFIED:20250326T191322Z
UID:44513-1751709600-1751716800@afnwct.org
SUMMARY:Café Conversation
DESCRIPTION:Every other Saturday morning at the Alliance Center or at a private home.  \n10:00–12:00  \nCafé Conversation is a great way to practice and improve your French. L’ambiance conviviale will help you feel more comfortable learning and speaking French with other francophones and francophiles.  \nEnjoy coffee and pastries\, meet other members\, chat and discuss en français.  \nAs the venue changes from time to time\, we recommend that you send your email address to cafe@afnwct.org to keep informed. 
URL:https://afnwct.org/event/cafe-conversation-56-2-2-4-2-2-2-10-2-3-8-8-3-5/
ATTACH;FMTTYPE=image/jpeg:https://afnwct.org/wp-content/uploads/2023/08/Cafe-Conversation-16-9-1.jpg
END:VEVENT
BEGIN:VEVENT
DTSTART;TZID=America/New_York:20250703T190000
DTEND;TZID=America/New_York:20250703T190000
DTSTAMP:20260423T200334
CREATED:20250326T183313Z
LAST-MODIFIED:20250513T160702Z
UID:44416-1751569200-1751569200@afnwct.org
SUMMARY:Ciné Club
DESCRIPTION:Monthly showings of classic French movies \nThe spring series will be un-themed and impromptu\, with selections and write-ups delivered in an email blast on the preceding Sunday.The specially curated films will be screened on the 1st and 3rd Thursday of each month.  \n7:00 pm at the Alliance Center \nPopcorn provided\, BYOB
URL:https://afnwct.org/event/cineclub-presents-cesar-2-2-4-2-2-2-2-2-2-2-2-2-2-8-7/
LOCATION:AF Center\, One Pomperaug Office Park\, Suite 301\, Southbury\, CT\, 06488\, United States
ATTACH;FMTTYPE=image/jpeg:https://afnwct.org/wp-content/uploads/2024/03/Le-Cinema-Series-16-9.jpg
END:VEVENT
BEGIN:VEVENT
DTSTART;TZID=America/New_York:20250703T160000
DTEND;TZID=America/New_York:20250703T160000
DTSTAMP:20260423T200334
CREATED:20250326T190530Z
LAST-MODIFIED:20250326T190530Z
UID:44497-1751558400-1751558400@afnwct.org
SUMMARY:Groupe de lecture
DESCRIPTION:First Thursday of every month beginning at 4:00 pm at a private home in Woodbury. \nAttendance is limited to 8 people.Call 203-482-3633 to reserve your spot. \nLire à haute voixÉcouter les autres lireComprendre ce que l’on entendCommenter les thèmes et techniques littéraires \nNous lisons en ce moment Changer l’Eau des Fleurs de Valérie Perrin
URL:https://afnwct.org/event/groupe-de-lecture-52-2-4-2-2-5-2-4-4-2-4/
LOCATION:Member private home
ATTACH;FMTTYPE=image/jpeg:https://afnwct.org/wp-content/uploads/2023/08/Lectures-16-9.jpg
END:VEVENT
BEGIN:VEVENT
DTSTART;TZID=America/New_York:20250701T110000
DTEND;TZID=America/New_York:20250701T123000
DTSTAMP:20260423T200334
CREATED:20250326T185316Z
LAST-MODIFIED:20250326T185316Z
UID:44450-1751367600-1751373000@afnwct.org
SUMMARY:Livres d’Histoire
DESCRIPTION:Every Tuesday morning at the Alliance Center \n11:00–12:30  \nWe will continue our reading and discussion of La Carte Postale by Anne Berest (available at Amazon.com). It’s never too late to join the group!  \nThe book is a family history that spans the troubled years of inter-war France and the Nazi occupation. Your reading and understanding of this extraordinary book will be enhanced by the photographs\, maps and historic films that John Lamb has assembled to bring context to the action.
URL:https://afnwct.org/event/livres-dhistoire-17-2-9/
LOCATION:AF Center\, One Pomperaug Office Park\, Suite 301\, Southbury\, CT\, 06488\, United States
ATTACH;FMTTYPE=image/jpeg:https://afnwct.org/wp-content/uploads/2024/08/Livres-dHistoire-icon.jpg
END:VEVENT
BEGIN:VEVENT
DTSTART;TZID=America/New_York:20250624T110000
DTEND;TZID=America/New_York:20250624T123000
DTSTAMP:20260423T200334
CREATED:20250326T185223Z
LAST-MODIFIED:20250326T185223Z
UID:44449-1750762800-1750768200@afnwct.org
SUMMARY:Livres d’Histoire
DESCRIPTION:Every Tuesday morning at the Alliance Center \n11:00–12:30  \nWe will continue our reading and discussion of La Carte Postale by Anne Berest (available at Amazon.com). It’s never too late to join the group!  \nThe book is a family history that spans the troubled years of inter-war France and the Nazi occupation. Your reading and understanding of this extraordinary book will be enhanced by the photographs\, maps and historic films that John Lamb has assembled to bring context to the action.
URL:https://afnwct.org/event/livres-dhistoire-17-2-8/
LOCATION:AF Center\, One Pomperaug Office Park\, Suite 301\, Southbury\, CT\, 06488\, United States
ATTACH;FMTTYPE=image/jpeg:https://afnwct.org/wp-content/uploads/2024/08/Livres-dHistoire-icon.jpg
END:VEVENT
BEGIN:VEVENT
DTSTART;TZID=America/New_York:20250622T180000
DTEND;TZID=America/New_York:20250622T200000
DTSTAMP:20260423T200334
CREATED:20250326T194050Z
LAST-MODIFIED:20250610T202052Z
UID:44548-1750615200-1750622400@afnwct.org
SUMMARY:Celebrate Saint-Jean-Baptiste Day à la Québecoise
DESCRIPTION:June 22nd\, Saturday 6:00–8:00 pm  \n\nQuébec’s national day is a good time to sample the traditional hearty soup and sumptuous maple syrup desserts of Québec. \n\nRSVP to Diane events@afnwct.org (860) 480-0143.\nPay below using PayPal for $16\, or send your check of $15 to AFNWCT\, One Pomperaug Office Park\, Suite 301\, Southbury\, CT 06488. \nPay by PayPal \n\n \n\n\n\n\nSaint-Jean-Baptiste Day\n\n\nMember $16.00 USD\n\n\n\nName\n\n\n\n\n\n\nEmail
URL:https://afnwct.org/event/celebrate-saint-jean-baptiste-day-a-la-quebecoise/
ATTACH;FMTTYPE=image/jpeg:https://afnwct.org/wp-content/uploads/2024/04/SpecialEvents-16-9.jpg
END:VEVENT
BEGIN:VEVENT
DTSTART;TZID=America/New_York:20250621T100000
DTEND;TZID=America/New_York:20250621T120000
DTSTAMP:20260423T200334
CREATED:20250326T191240Z
LAST-MODIFIED:20250326T191240Z
UID:44512-1750500000-1750507200@afnwct.org
SUMMARY:Café Conversation
DESCRIPTION:Every other Saturday morning at the Alliance Center or at a private home.  \n10:00–12:00  \nCafé Conversation is a great way to practice and improve your French. L’ambiance conviviale will help you feel more comfortable learning and speaking French with other francophones and francophiles.  \nEnjoy coffee and pastries\, meet other members\, chat and discuss en français.  \nAs the venue changes from time to time\, we recommend that you send your email address to cafe@afnwct.org to keep informed. 
URL:https://afnwct.org/event/cafe-conversation-56-2-2-4-2-2-2-10-2-3-8-8-3-4/
ATTACH;FMTTYPE=image/jpeg:https://afnwct.org/wp-content/uploads/2023/08/Cafe-Conversation-16-9-1.jpg
END:VEVENT
BEGIN:VEVENT
DTSTART;TZID=America/New_York:20250619T190000
DTEND;TZID=America/New_York:20250619T190000
DTSTAMP:20260423T200334
CREATED:20250326T183200Z
LAST-MODIFIED:20250513T160721Z
UID:44415-1750359600-1750359600@afnwct.org
SUMMARY:Ciné Club
DESCRIPTION:Monthly showings of classic French movies \nThe spring series will be un-themed and impromptu\, with selections and write-ups delivered in an email blast on the preceding Sunday.The specially curated films will be screened on the 1st and 3rd Thursday of each month.  \n7:00 pm at the Alliance Center \nPopcorn provided\, BYOB
URL:https://afnwct.org/event/cineclub-presents-cesar-2-2-4-2-2-2-2-2-2-2-2-2-2-8-6/
LOCATION:AF Center\, One Pomperaug Office Park\, Suite 301\, Southbury\, CT\, 06488\, United States
ATTACH;FMTTYPE=image/jpeg:https://afnwct.org/wp-content/uploads/2024/03/Le-Cinema-Series-16-9.jpg
END:VEVENT
BEGIN:VEVENT
DTSTART;TZID=America/New_York:20250617T110000
DTEND;TZID=America/New_York:20250617T123000
DTSTAMP:20260423T200334
CREATED:20250326T185131Z
LAST-MODIFIED:20250326T185145Z
UID:44448-1750158000-1750163400@afnwct.org
SUMMARY:Livres d’Histoire
DESCRIPTION:Every Tuesday morning at the Alliance Center \n11:00–12:30  \nWe will continue our reading and discussion of La Carte Postale by Anne Berest (available at Amazon.com). It’s never too late to join the group!  \nThe book is a family history that spans the troubled years of inter-war France and the Nazi occupation. Your reading and understanding of this extraordinary book will be enhanced by the photographs\, maps and historic films that John Lamb has assembled to bring context to the action.
URL:https://afnwct.org/event/livres-dhistoire-17-2-7/
LOCATION:AF Center\, One Pomperaug Office Park\, Suite 301\, Southbury\, CT\, 06488\, United States
ATTACH;FMTTYPE=image/jpeg:https://afnwct.org/wp-content/uploads/2024/08/Livres-dHistoire-icon.jpg
END:VEVENT
BEGIN:VEVENT
DTSTART;TZID=America/New_York:20250610T110000
DTEND;TZID=America/New_York:20250610T123000
DTSTAMP:20260423T200334
CREATED:20250326T185028Z
LAST-MODIFIED:20250326T185028Z
UID:44447-1749553200-1749558600@afnwct.org
SUMMARY:Livres d’Histoire
DESCRIPTION:Every Tuesday morning at the Alliance Center \n11:00–12:30  \nWe will continue our reading and discussion of La Carte Postale by Anne Berest (available at Amazon.com). It’s never too late to join the group!  \nThe book is a family history that spans the troubled years of inter-war France and the Nazi occupation. Your reading and understanding of this extraordinary book will be enhanced by the photographs\, maps and historic films that John Lamb has assembled to bring context to the action.
URL:https://afnwct.org/event/livres-dhistoire-17-2-6/
LOCATION:AF Center\, One Pomperaug Office Park\, Suite 301\, Southbury\, CT\, 06488\, United States
ATTACH;FMTTYPE=image/jpeg:https://afnwct.org/wp-content/uploads/2024/08/Livres-dHistoire-icon.jpg
END:VEVENT
BEGIN:VEVENT
DTSTART;TZID=America/New_York:20250607T100000
DTEND;TZID=America/New_York:20250607T120000
DTSTAMP:20260423T200334
CREATED:20250326T191155Z
LAST-MODIFIED:20250326T191155Z
UID:44511-1749290400-1749297600@afnwct.org
SUMMARY:Café Conversation
DESCRIPTION:Every other Saturday morning at the Alliance Center or at a private home.  \n10:00–12:00  \nCafé Conversation is a great way to practice and improve your French. L’ambiance conviviale will help you feel more comfortable learning and speaking French with other francophones and francophiles.  \nEnjoy coffee and pastries\, meet other members\, chat and discuss en français.  \nAs the venue changes from time to time\, we recommend that you send your email address to cafe@afnwct.org to keep informed. 
URL:https://afnwct.org/event/cafe-conversation-56-2-2-4-2-2-2-10-2-3-8-8-3-3/
ATTACH;FMTTYPE=image/jpeg:https://afnwct.org/wp-content/uploads/2023/08/Cafe-Conversation-16-9-1.jpg
END:VEVENT
BEGIN:VEVENT
DTSTART;TZID=America/New_York:20250605T190000
DTEND;TZID=America/New_York:20250605T190000
DTSTAMP:20260423T200334
CREATED:20250326T182941Z
LAST-MODIFIED:20250513T160743Z
UID:44414-1749150000-1749150000@afnwct.org
SUMMARY:Ciné Club
DESCRIPTION:Monthly showings of classic French movies \nThe spring series will be un-themed and impromptu\, with selections and write-ups delivered in an email blast on the preceding Sunday.The specially curated films will be screened on the 1st and 3rd Thursday of each month.  \n7:00 pm at the Alliance Center \nPopcorn provided\, BYOB
URL:https://afnwct.org/event/cineclub-presents-cesar-2-2-4-2-2-2-2-2-2-2-2-2-2-8-5/
LOCATION:AF Center\, One Pomperaug Office Park\, Suite 301\, Southbury\, CT\, 06488\, United States
ATTACH;FMTTYPE=image/jpeg:https://afnwct.org/wp-content/uploads/2024/03/Le-Cinema-Series-16-9.jpg
END:VEVENT
BEGIN:VEVENT
DTSTART;TZID=America/New_York:20250605T160000
DTEND;TZID=America/New_York:20250605T160000
DTSTAMP:20260423T200334
CREATED:20250326T190452Z
LAST-MODIFIED:20250326T190452Z
UID:44496-1749139200-1749139200@afnwct.org
SUMMARY:Groupe de lecture
DESCRIPTION:First Thursday of every month beginning at 4:00 pm at a private home in Woodbury. \nAttendance is limited to 8 people.Call 203-482-3633 to reserve your spot. \nLire à haute voixÉcouter les autres lireComprendre ce que l’on entendCommenter les thèmes et techniques littéraires \nNous lisons en ce moment Changer l’Eau des Fleurs de Valérie Perrin
URL:https://afnwct.org/event/groupe-de-lecture-52-2-4-2-2-5-2-4-4-2-3/
LOCATION:Member private home
ATTACH;FMTTYPE=image/jpeg:https://afnwct.org/wp-content/uploads/2023/08/Lectures-16-9.jpg
END:VEVENT
BEGIN:VEVENT
DTSTART;TZID=America/New_York:20250603T110000
DTEND;TZID=America/New_York:20250603T123000
DTSTAMP:20260423T200334
CREATED:20250326T184915Z
LAST-MODIFIED:20250326T184915Z
UID:44446-1748948400-1748953800@afnwct.org
SUMMARY:Livres d’Histoire
DESCRIPTION:Every Tuesday morning at the Alliance Center \n11:00–12:30  \nWe will continue our reading and discussion of La Carte Postale by Anne Berest (available at Amazon.com). It’s never too late to join the group!  \nThe book is a family history that spans the troubled years of inter-war France and the Nazi occupation. Your reading and understanding of this extraordinary book will be enhanced by the photographs\, maps and historic films that John Lamb has assembled to bring context to the action.
URL:https://afnwct.org/event/livres-dhistoire-17-2-5/
LOCATION:AF Center\, One Pomperaug Office Park\, Suite 301\, Southbury\, CT\, 06488\, United States
ATTACH;FMTTYPE=image/jpeg:https://afnwct.org/wp-content/uploads/2024/08/Livres-dHistoire-icon.jpg
END:VEVENT
BEGIN:VEVENT
DTSTART;TZID=America/New_York:20250527T110000
DTEND;TZID=America/New_York:20250527T123000
DTSTAMP:20260423T200334
CREATED:20250326T184819Z
LAST-MODIFIED:20250326T184819Z
UID:44445-1748343600-1748349000@afnwct.org
SUMMARY:Livres d’Histoire
DESCRIPTION:Every Tuesday morning at the Alliance Center \n11:00–12:30  \nWe will continue our reading and discussion of La Carte Postale by Anne Berest (available at Amazon.com). It’s never too late to join the group!  \nThe book is a family history that spans the troubled years of inter-war France and the Nazi occupation. Your reading and understanding of this extraordinary book will be enhanced by the photographs\, maps and historic films that John Lamb has assembled to bring context to the action.
URL:https://afnwct.org/event/livres-dhistoire-17-2-4/
LOCATION:AF Center\, One Pomperaug Office Park\, Suite 301\, Southbury\, CT\, 06488\, United States
ATTACH;FMTTYPE=image/jpeg:https://afnwct.org/wp-content/uploads/2024/08/Livres-dHistoire-icon.jpg
END:VEVENT
BEGIN:VEVENT
DTSTART;TZID=America/New_York:20250524T100000
DTEND;TZID=America/New_York:20250524T120000
DTSTAMP:20260423T200334
CREATED:20250326T191047Z
LAST-MODIFIED:20250326T191047Z
UID:44510-1748080800-1748088000@afnwct.org
SUMMARY:Café Conversation
DESCRIPTION:Every other Saturday morning at the Alliance Center or at a private home.  \n10:00–12:00  \nCafé Conversation is a great way to practice and improve your French. L’ambiance conviviale will help you feel more comfortable learning and speaking French with other francophones and francophiles.  \nEnjoy coffee and pastries\, meet other members\, chat and discuss en français.  \nAs the venue changes from time to time\, we recommend that you send your email address to cafe@afnwct.org to keep informed. 
URL:https://afnwct.org/event/cafe-conversation-56-2-2-4-2-2-2-10-2-3-8-8-3-2/
ATTACH;FMTTYPE=image/jpeg:https://afnwct.org/wp-content/uploads/2023/08/Cafe-Conversation-16-9-1.jpg
END:VEVENT
BEGIN:VEVENT
DTSTART;TZID=America/New_York:20250520T110000
DTEND;TZID=America/New_York:20250520T123000
DTSTAMP:20260423T200334
CREATED:20250326T184707Z
LAST-MODIFIED:20250326T184707Z
UID:44444-1747738800-1747744200@afnwct.org
SUMMARY:Livres d’Histoire
DESCRIPTION:Every Tuesday morning at the Alliance Center \n11:00–12:30  \nWe will continue our reading and discussion of La Carte Postale by Anne Berest (available at Amazon.com). It’s never too late to join the group!  \nThe book is a family history that spans the troubled years of inter-war France and the Nazi occupation. Your reading and understanding of this extraordinary book will be enhanced by the photographs\, maps and historic films that John Lamb has assembled to bring context to the action.
URL:https://afnwct.org/event/livres-dhistoire-17-2-3/
LOCATION:AF Center\, One Pomperaug Office Park\, Suite 301\, Southbury\, CT\, 06488\, United States
ATTACH;FMTTYPE=image/jpeg:https://afnwct.org/wp-content/uploads/2024/08/Livres-dHistoire-icon.jpg
END:VEVENT
BEGIN:VEVENT
DTSTART;TZID=America/New_York:20250517T170000
DTEND;TZID=America/New_York:20250517T170000
DTSTAMP:20260423T200334
CREATED:20250326T193647Z
LAST-MODIFIED:20250326T193753Z
UID:44543-1747501200-1747501200@afnwct.org
SUMMARY:Cooking Class
DESCRIPTION:May 17th\, Saturday 5:00 pm  \nBack by popular demand\, Evelyne will demonstrate an elegant French repas. You can be hands on or just observe. Cost $50 including wines.  \nMember private home \nPay by Check\n$50 individuals\n$100 per couple \nRSVP to Diane * events@afnwct.org ( (860) 480-0143.  \nMake checks payable to AFNWCT and indicate event name.\nSend checks to AFNWCT: One Pomperaug Office Park\, Suite 301 • Southbury\, CT 06488 \nPay by PayPal  \n\n \n\n\n\n\nCooking Class and Dinner 2025\n\n\nSingle $53.00 USDCouple $105.00 USD\n\n\n\nName\n\n\n\n\n\n\nEmail
URL:https://afnwct.org/event/cooking-class-and-dinner-2/
LOCATION:Member private home
ATTACH;FMTTYPE=image/jpeg:https://afnwct.org/wp-content/uploads/2024/04/SpecialEvents-16-9.jpg
END:VEVENT
BEGIN:VEVENT
DTSTART;TZID=America/New_York:20250515T190000
DTEND;TZID=America/New_York:20250515T190000
DTSTAMP:20260423T200334
CREATED:20250326T182710Z
LAST-MODIFIED:20250513T160802Z
UID:44413-1747335600-1747335600@afnwct.org
SUMMARY:Ciné Club
DESCRIPTION:Monthly showings of classic French movies \nThe spring series will be un-themed and impromptu\, with selections and write-ups delivered in an email blast on the preceding Sunday.The specially curated films will be screened on the 1st and 3rd Thursday of each month.  \n7:00 pm at the Alliance Center \nPopcorn provided\, BYOB
URL:https://afnwct.org/event/cineclub-presents-cesar-2-2-4-2-2-2-2-2-2-2-2-2-2-8-4/
LOCATION:AF Center\, One Pomperaug Office Park\, Suite 301\, Southbury\, CT\, 06488\, United States
ATTACH;FMTTYPE=image/jpeg:https://afnwct.org/wp-content/uploads/2024/03/Le-Cinema-Series-16-9.jpg
END:VEVENT
BEGIN:VEVENT
DTSTART;TZID=America/New_York:20250513T110000
DTEND;TZID=America/New_York:20250513T123000
DTSTAMP:20260423T200334
CREATED:20250326T184418Z
LAST-MODIFIED:20250326T184418Z
UID:44443-1747134000-1747139400@afnwct.org
SUMMARY:Livres d’Histoire
DESCRIPTION:Every Tuesday morning at the Alliance Center \n11:00–12:30  \nWe will continue our reading and discussion of La Carte Postale by Anne Berest (available at Amazon.com). It’s never too late to join the group!  \nThe book is a family history that spans the troubled years of inter-war France and the Nazi occupation. Your reading and understanding of this extraordinary book will be enhanced by the photographs\, maps and historic films that John Lamb has assembled to bring context to the action.
URL:https://afnwct.org/event/livres-dhistoire-17-2-2/
LOCATION:AF Center\, One Pomperaug Office Park\, Suite 301\, Southbury\, CT\, 06488\, United States
ATTACH;FMTTYPE=image/jpeg:https://afnwct.org/wp-content/uploads/2024/08/Livres-dHistoire-icon.jpg
END:VEVENT
BEGIN:VEVENT
DTSTART;TZID=America/New_York:20250510T100000
DTEND;TZID=America/New_York:20250510T120000
DTSTAMP:20260423T200334
CREATED:20250326T190829Z
LAST-MODIFIED:20250326T190905Z
UID:44507-1746871200-1746878400@afnwct.org
SUMMARY:Café Conversation
DESCRIPTION:Every other Saturday morning at the Alliance Center or at a private home. \n10:00–12:00 \nCafé Conversation is a great way to practice and improve your French. L’ambiance conviviale will help you feel more comfortable learning and speaking French with other francophones and francophiles. \nEnjoy coffee and pastries\, meet other members\, chat and discuss en français.  \nAs the venue changes from time to time\, we recommend that you send your email address to cafe@afnwct.org so you can be kept informed of the location.
URL:https://afnwct.org/event/cafe-conversation-56-2-2-4-2-2-2-10-2-3-8-4-2/
ATTACH;FMTTYPE=image/jpeg:https://afnwct.org/wp-content/uploads/2023/08/Cafe-Conversation-16-9-1.jpg
END:VEVENT
BEGIN:VEVENT
DTSTART;TZID=America/New_York:20250506T113000
DTEND;TZID=America/New_York:20250506T123000
DTSTAMP:20260423T200334
CREATED:20250326T184154Z
LAST-MODIFIED:20250326T184250Z
UID:44439-1746531000-1746534600@afnwct.org
SUMMARY:Livres d’Histoire
DESCRIPTION:Every Tuesday morning at the Alliance Center \n11:00–12:30  \nWe will continue our reading and discussion of La Carte Postale by Anne Berest (available at Amazon.com). It’s never too late to join the group!  \nThe book is a family history that spans the troubled years of inter-war France and the Nazi occupation. Your reading and understanding of this extraordinary book will be enhanced by the photographs\, maps and historic films that John Lamb has assembled to bring context to the action.
URL:https://afnwct.org/event/livres-dhistoire-17-2/
LOCATION:AF Center\, One Pomperaug Office Park\, Suite 301\, Southbury\, CT\, 06488\, United States
ATTACH;FMTTYPE=image/jpeg:https://afnwct.org/wp-content/uploads/2024/08/Livres-dHistoire-icon.jpg
END:VEVENT
BEGIN:VEVENT
DTSTART;TZID=America/New_York:20250502T130000
DTEND;TZID=America/New_York:20250502T130000
DTSTAMP:20260423T200334
CREATED:20250401T165355Z
LAST-MODIFIED:20250401T165629Z
UID:44576-1746190800-1746190800@afnwct.org
SUMMARY:Pétanque season begins
DESCRIPTION:May 2 – Pétanque season begins.
URL:https://afnwct.org/event/petanque-matches-begin/
ATTACH;FMTTYPE=image/jpeg:https://afnwct.org/wp-content/uploads/2024/08/Petanque-16-9.jpg
END:VEVENT
BEGIN:VEVENT
DTSTART;TZID=America/New_York:20250501T190000
DTEND;TZID=America/New_York:20250501T190000
DTSTAMP:20260423T200334
CREATED:20250326T182201Z
LAST-MODIFIED:20250513T160847Z
UID:44412-1746126000-1746126000@afnwct.org
SUMMARY:Ciné Club
DESCRIPTION:Monthly showings of classic French movies \nThe spring series will be un-themed and impromptu\, with selections and write-ups delivered in an email blast on the preceding Sunday.The specially curated films will be screened on the 1st and 3rd Thursday of each month.  \n7:00 pm at the Alliance Center \nPopcorn provided\, BYOB
URL:https://afnwct.org/event/cineclub-presents-cesar-2-2-4-2-2-2-2-2-2-2-2-2-2-8-3/
LOCATION:AF Center\, One Pomperaug Office Park\, Suite 301\, Southbury\, CT\, 06488\, United States
ATTACH;FMTTYPE=image/jpeg:https://afnwct.org/wp-content/uploads/2024/03/Le-Cinema-Series-16-9.jpg
END:VEVENT
BEGIN:VEVENT
DTSTART;TZID=America/New_York:20250501T160000
DTEND;TZID=America/New_York:20250501T160000
DTSTAMP:20260423T200334
CREATED:20250326T190400Z
LAST-MODIFIED:20250326T190400Z
UID:44495-1746115200-1746115200@afnwct.org
SUMMARY:Groupe de lecture
DESCRIPTION:First Thursday of every month beginning at 4:00 pm at a private home in Woodbury. \nAttendance is limited to 8 people.Call 203-482-3633 to reserve your spot. \nLire à haute voixÉcouter les autres lireComprendre ce que l’on entendCommenter les thèmes et techniques littéraires \nNous lisons en ce moment Changer l’Eau des Fleurs de Valérie Perrin
URL:https://afnwct.org/event/groupe-de-lecture-52-2-4-2-2-5-2-4-4-2-2/
LOCATION:Member private home
ATTACH;FMTTYPE=image/jpeg:https://afnwct.org/wp-content/uploads/2023/08/Lectures-16-9.jpg
END:VEVENT
BEGIN:VEVENT
DTSTART;TZID=America/New_York:20250429T110000
DTEND;TZID=America/New_York:20250429T123000
DTSTAMP:20260423T200334
CREATED:20250103T194907Z
LAST-MODIFIED:20250103T202116Z
UID:44214-1745924400-1745929800@afnwct.org
SUMMARY:Livres d’Histoire
DESCRIPTION:Every Tuesday morning at the Alliance Center beginning January 7th  \n11:00–12:30  \nAlthough we will continue this winter our annotated reading of La Carte Postale by Anne Berest (available at Amazon.com)\, it’s never too late to join the group!  \nThe book is a family history that spans the troubled years of interwar France and the Nazi occupation. Your reading and understanding of this extraordinary book will be enhanced by the photographs\, maps and historic films that John Lamb has assembled to bring context to the action. 
URL:https://afnwct.org/event/livres-dhistoire-17/
LOCATION:AF Center\, One Pomperaug Office Park\, Suite 301\, Southbury\, CT\, 06488\, United States
ATTACH;FMTTYPE=image/jpeg:https://afnwct.org/wp-content/uploads/2024/08/Livres-dHistoire-icon.jpg
END:VEVENT
END:VCALENDAR