BEGIN:VCALENDAR
VERSION:2.0
PRODID:-//Alliance Francaise of NW CT - ECPv6.15.11//NONSGML v1.0//EN
CALSCALE:GREGORIAN
METHOD:PUBLISH
X-WR-CALNAME:Alliance Francaise of NW CT
X-ORIGINAL-URL:https://afnwct.org
X-WR-CALDESC:Events for Alliance Francaise of NW CT
REFRESH-INTERVAL;VALUE=DURATION:PT1H
X-Robots-Tag:noindex
X-PUBLISHED-TTL:PT1H
BEGIN:VTIMEZONE
TZID:America/New_York
BEGIN:DAYLIGHT
TZOFFSETFROM:-0500
TZOFFSETTO:-0400
TZNAME:EDT
DTSTART:20230312T070000
END:DAYLIGHT
BEGIN:STANDARD
TZOFFSETFROM:-0400
TZOFFSETTO:-0500
TZNAME:EST
DTSTART:20231105T060000
END:STANDARD
BEGIN:DAYLIGHT
TZOFFSETFROM:-0500
TZOFFSETTO:-0400
TZNAME:EDT
DTSTART:20240310T070000
END:DAYLIGHT
BEGIN:STANDARD
TZOFFSETFROM:-0400
TZOFFSETTO:-0500
TZNAME:EST
DTSTART:20241103T060000
END:STANDARD
BEGIN:DAYLIGHT
TZOFFSETFROM:-0500
TZOFFSETTO:-0400
TZNAME:EDT
DTSTART:20250309T070000
END:DAYLIGHT
BEGIN:STANDARD
TZOFFSETFROM:-0400
TZOFFSETTO:-0500
TZNAME:EST
DTSTART:20251102T060000
END:STANDARD
END:VTIMEZONE
BEGIN:VEVENT
DTSTART;TZID=America/New_York:20241003T160000
DTEND;TZID=America/New_York:20241003T180000
DTSTAMP:20260424T100618
CREATED:20240827T131942Z
LAST-MODIFIED:20240827T131942Z
UID:44026-1727971200-1727978400@afnwct.org
SUMMARY:Groupe de lecture
DESCRIPTION:First Thursday of every month beginning at 4:00 pm at a private home in Woodbury.\nAttendance is limited to 8 people. \nCall 203-482-3633 to reserve your spot. \nLire à haute voix\nÉcouter les autres lire\nComprendre ce que l’on entend\nCommenter les thèmes et techniques littéraires \nEn ce moment\, le groupe lit:\nLa Vie et la Passion de Dodin-Bouffant\, Gourmet de Marcel Rouff\nLe prochain livre sera Changer l’Eau des Fleurs de Valérie Perrin
URL:https://afnwct.org/event/groupe-de-lecture-52-2-4-2-2-5-2-2/
LOCATION:CT
ATTACH;FMTTYPE=image/jpeg:https://afnwct.org/wp-content/uploads/2023/08/Lectures-16-9.jpg
END:VEVENT
BEGIN:VEVENT
DTSTART;TZID=America/New_York:20241001T110000
DTEND;TZID=America/New_York:20241001T123000
DTSTAMP:20260424T100618
CREATED:20240827T132326Z
LAST-MODIFIED:20240827T132501Z
UID:44033-1727780400-1727785800@afnwct.org
SUMMARY:Livres d’Histoire
DESCRIPTION:Every other Tuesday morning at the Alliance\nCenter 11:00 – 12:30 \nRead and discuss outstanding works of French nonfiction.\nFirst up: La Carte Postale by Anne Berest. Future\nreadings will include Tocqueville’s classic L’Ancien\nRégime et la Révolution. \nLa Carte Postale peut être acheté sur\nAmazon.com ou AbeBooks.com. \nCall 203-788-4698 to reserve your spot.
URL:https://afnwct.org/event/cafe-conversation-56-2-2-4-2-2-2-10-2-2-2-2/
LOCATION:AF Center\, One Pomperaug Office Park\, Suite 301\, Southbury\, CT\, 06488\, United States
ATTACH;FMTTYPE=image/jpeg:https://afnwct.org/wp-content/uploads/2024/08/Livres-dHistoire-icon.jpg
END:VEVENT
BEGIN:VEVENT
DTSTART;TZID=America/New_York:20240928T170000
DTEND;TZID=America/New_York:20240928T203000
DTSTAMP:20260424T100618
CREATED:20240825T141215Z
LAST-MODIFIED:20240825T141215Z
UID:43982-1727542800-1727555400@afnwct.org
SUMMARY:Cocktail de Rentrée
DESCRIPTION:September 28th\, Saturday\, 5:00–8:30 pm\, chez John in Middlebury \nEnjoy the beautiful gardens and the warm hospitality of our host\, this year\, not recovering from hip surgery! \n$40 per person\, $75 for 2 people \nRegistration and prepayment required by September 23rd\nRegistration: dbolduc61@gmail.com • (860) 480-0143 \nPay by PayPal  \n\n  \n   \n\n\n\n        \n        Single or Per Couple Pricing\n      \n\n\n\n        \n            Single $45.00 USD\n          \n            Couple $80.00 USD\n          \n      \n\n\n\n        \n        Attendee's Name/s\n      \n\n\n\n        \n      \n\n\n\n        \n        Email
URL:https://afnwct.org/event/cocktail-de-rentree-4/
LOCATION:CT
ATTACH;FMTTYPE=image/jpeg:https://afnwct.org/wp-content/uploads/2024/08/Social-Events-16-9.jpg
END:VEVENT
BEGIN:VEVENT
DTSTART;TZID=America/New_York:20240928T100000
DTEND;TZID=America/New_York:20240928T120000
DTSTAMP:20260424T100618
CREATED:20240824T152417Z
LAST-MODIFIED:20240824T152417Z
UID:43938-1727517600-1727524800@afnwct.org
SUMMARY:Café Conversation
DESCRIPTION:Every other Saturday morning at the Alliance Center or at a private home. \nCafé Conversation is a great way to practice and improve your French. L’ambiance conviviale will help you feel more comfortable learning and speaking French with other francophones and francophiles. \nEnjoy coffee and pastries\, meet other members\,chat and discuss en français. \nAs the venue changes from time to time\, we recommend that you send your email address to sam.markind@gmail.com to keep informed.
URL:https://afnwct.org/event/cafe-conversation-56-2-2-4-2-2-2-10-2-3-2/
LOCATION:AF Center\, One Pomperaug Office Park\, Suite 301\, Southbury\, CT\, 06488\, United States
ATTACH;FMTTYPE=image/jpeg:https://afnwct.org/wp-content/uploads/2023/08/Cafe-Conversation-16-9-1.jpg
END:VEVENT
BEGIN:VEVENT
DTSTART;TZID=America/New_York:20240919T183000
DTEND;TZID=America/New_York:20240919T210000
DTSTAMP:20260424T100618
CREATED:20240824T152946Z
LAST-MODIFIED:20240824T153113Z
UID:43944-1726770600-1726779600@afnwct.org
SUMMARY:Ciné Club - Plein Soleil
DESCRIPTION:Monthly showings of classic French movies \nFor the fall season we will show an original French film and the next month the\nAmerican remake. \n6:30 pm at the Alliance Center \n\nPlein Soleil directed by René Clément\, 1960\, starring Alain Delon. It was loosely based on\nthe 1955 American novel\, The Talented Mr. Ripley\, by Patricia Highsmith. \nPopcorn provided\, BYOB
URL:https://afnwct.org/event/cineclub-presents-cesar-2-2-4-2-2-2-2-2-2-2/
LOCATION:AF Center\, One Pomperaug Office Park\, Suite 301\, Southbury\, CT\, 06488\, United States
ATTACH;FMTTYPE=image/jpeg:https://afnwct.org/wp-content/uploads/2024/03/Le-Cinema-Series-16-9.jpg
END:VEVENT
BEGIN:VEVENT
DTSTART;TZID=America/New_York:20240917T110000
DTEND;TZID=America/New_York:20240917T123000
DTSTAMP:20260424T100618
CREATED:20240824T152200Z
LAST-MODIFIED:20240824T152521Z
UID:43935-1726570800-1726576200@afnwct.org
SUMMARY:Livres d’Histoire
DESCRIPTION:Every other Tuesday morning at the Alliance\nCenter 11:00 – 12:30 \nRead and discuss outstanding works of French nonfiction.\nFirst up: La Carte Postale by Anne Berest. Future\nreadings will include Tocqueville’s classic L’Ancien\nRégime et la Révolution. \nLa Carte Postale peut être acheté sur\nAmazon.com ou AbeBooks.com. \nCall 203-788-4698 to reserve your spot.
URL:https://afnwct.org/event/cafe-conversation-56-2-2-4-2-2-2-10-2-2-2/
LOCATION:AF Center\, One Pomperaug Office Park\, Suite 301\, Southbury\, CT\, 06488\, United States
ATTACH;FMTTYPE=image/jpeg:https://afnwct.org/wp-content/uploads/2024/08/Livres-dHistoire-icon.jpg
END:VEVENT
BEGIN:VEVENT
DTSTART;TZID=America/New_York:20240914T120000
DTEND;TZID=America/New_York:20240914T130000
DTSTAMP:20260424T100618
CREATED:20240825T140626Z
LAST-MODIFIED:20240825T140626Z
UID:43979-1726315200-1726318800@afnwct.org
SUMMARY:Annual Meeting
DESCRIPTION:September 14th\, 12:00 noon at the Alliance Center in Southbury.\nWe will vote for or against the proposed slate of officers and directors. \nLight refreshments will be served.
URL:https://afnwct.org/event/annual-meeting/
LOCATION:AF Center\, One Pomperaug Office Park\, Suite 301\, Southbury\, CT\, 06488\, United States
ATTACH;FMTTYPE=image/jpeg:https://afnwct.org/wp-content/uploads/2024/04/SpecialEvents-16-9.jpg
END:VEVENT
BEGIN:VEVENT
DTSTART;TZID=America/New_York:20240914T100000
DTEND;TZID=America/New_York:20240914T120000
DTSTAMP:20260424T100618
CREATED:20240824T152016Z
LAST-MODIFIED:20240824T152016Z
UID:43932-1726308000-1726315200@afnwct.org
SUMMARY:Café Conversation
DESCRIPTION:Every other Saturday morning at the Alliance Center or at a private home. \nCafé Conversation is a great way to practice and improve your French. L’ambiance conviviale will help you feel more comfortable learning and speaking French with other francophones and francophiles. \nEnjoy coffee and pastries\, meet other members\,chat and discuss en français. \nAs the venue changes from time to time\, we recommend that you send your email address to sam.markind@gmail.com to keep informed.
URL:https://afnwct.org/event/cafe-conversation-56-2-2-4-2-2-2-10-2-3/
LOCATION:AF Center\, One Pomperaug Office Park\, Suite 301\, Southbury\, CT\, 06488\, United States
ATTACH;FMTTYPE=image/jpeg:https://afnwct.org/wp-content/uploads/2023/08/Cafe-Conversation-16-9-1.jpg
END:VEVENT
BEGIN:VEVENT
DTSTART;TZID=America/New_York:20240910T150000
DTEND;TZID=America/New_York:20240910T180000
DTSTAMP:20260424T100618
CREATED:20240825T134737Z
LAST-MODIFIED:20240825T140252Z
UID:43971-1725980400-1725991200@afnwct.org
SUMMARY:The Art of Language and Drawing
DESCRIPTION:September 10th\, Tuesday\, 3:00-6:00 pm Evelyne’s house in Bridgewater \nBring your own pastels\, water colors or crayons to use in the class. Dick McEvoy and Anette Roth joined to create a class that weaves speaking French with creating art. Creativity and fun abound as participants experience new things. \nAll are invited: beginner speakers\, fluent speakers\, artists and complete drawing newbies. $10 for members and $15 for non-members A maximum of 10 people\, so register soon: dbolduc61@gmail.com • (860) 480-0143 \nPay by PayPal  \n\n  \n   \n\n\n\n        \n        Member / Non-member\n      \n\n\n\n        \n            Member $10.00 USD\n          \n            Non-member $15.00 USD\n          \n      \n\n\n\n        \n        Attendee's Name\n      \n\n\n\n        \n      \n\n\n\n        \n        Phone number • Email
URL:https://afnwct.org/event/the-art-of-language-and-drawing/
LOCATION:CT
END:VEVENT
BEGIN:VEVENT
DTSTART;TZID=America/New_York:20240905T160000
DTEND;TZID=America/New_York:20240905T160000
DTSTAMP:20260424T100618
CREATED:20240824T151718Z
LAST-MODIFIED:20240824T151718Z
UID:43929-1725552000-1725552000@afnwct.org
SUMMARY:Groupe de lecture
DESCRIPTION:First Thursday of every month beginning at 4:00 pm at a private home in Woodbury.\nAttendance is limited to 8 people. \nCall 203-482-3633 to reserve your spot. \nLire à haute voix\nÉcouter les autres lire\nComprendre ce que l’on entend\nCommenter les thèmes et techniques littéraires \nEn ce moment\, le groupe lit:\nLa Vie et la Passion de Dodin-Bouffant\, Gourmet de Marcel Rouff\nLe prochain livre sera Changer l’Eau des Fleurs de Valérie Perrin
URL:https://afnwct.org/event/groupe-de-lecture-52-2-4-2-2-5-2/
LOCATION:Member private home
ATTACH;FMTTYPE=image/jpeg:https://afnwct.org/wp-content/uploads/2023/08/Lectures-16-9.jpg
END:VEVENT
BEGIN:VEVENT
DTSTART;TZID=America/New_York:20240903T110000
DTEND;TZID=America/New_York:20240903T123000
DTSTAMP:20260424T100618
CREATED:20240824T151412Z
LAST-MODIFIED:20240824T152508Z
UID:43925-1725361200-1725366600@afnwct.org
SUMMARY:Livres d’Histoire
DESCRIPTION:Every other Tuesday morning at the Alliance\nCenter 11:00 – 12:30 \nRead and discuss outstanding works of French nonfiction.\nFirst up: La Carte Postale by Anne Berest. Future\nreadings will include Tocqueville’s classic L’Ancien\nRégime et la Révolution. \nLa Carte Postale peut être acheté sur\nAmazon.com ou AbeBooks.com. \nCall 203-788-4698 to reserve your spot.
URL:https://afnwct.org/event/cafe-conversation-56-2-2-4-2-2-2-10-2-2/
LOCATION:AF Center\, One Pomperaug Office Park\, Suite 301\, Southbury\, CT\, 06488\, United States
ATTACH;FMTTYPE=image/jpeg:https://afnwct.org/wp-content/uploads/2024/08/Livres-dHistoire-icon.jpg
END:VEVENT
BEGIN:VEVENT
DTSTART;TZID=America/New_York:20240831T100000
DTEND;TZID=America/New_York:20240831T120000
DTSTAMP:20260424T100618
CREATED:20240403T191913Z
LAST-MODIFIED:20240403T192421Z
UID:43811-1725098400-1725105600@afnwct.org
SUMMARY:Café Conversation
DESCRIPTION:Café Conversation is a great way to practice\, improve and/or help you feel more comfortable speaking French with friendly francophones and Francophiles.\nEnjoy coffee and pastries\, meet fellow members and chat en française. \nSaturday mornings at the Alliance Center or at a private home\, outside if weather permits. \nNew participants need to email sam.markind@gmail.com for location details.\n$2.00
URL:https://afnwct.org/event/cafe-conversation-56-2-2-4-2-2-2-10-2/
LOCATION:AF Center\, One Pomperaug Office Park\, Suite 301\, Southbury\, CT\, 06488\, United States
ATTACH;FMTTYPE=image/jpeg:https://afnwct.org/wp-content/uploads/2023/08/Cafe-Conversation-16-9-1.jpg
END:VEVENT
BEGIN:VEVENT
DTSTART;TZID=America/New_York:20240827T100000
DTEND;TZID=America/New_York:20240827T120000
DTSTAMP:20260424T100618
CREATED:20240827T131509Z
LAST-MODIFIED:20240827T131509Z
UID:44006-1724752800-1724760000@afnwct.org
SUMMARY:Café Conversation
DESCRIPTION:Every other Saturday morning at the Alliance Center or at a private home. \nCafé Conversation is a great way to practice and improve your French. L’ambiance conviviale will help you feel more comfortable learning and speaking French with other francophones and francophiles. \nEnjoy coffee and pastries\, meet other members\,chat and discuss en français. \nAs the venue changes from time to time\, we recommend that you send your email address to sam.markind@gmail.com to keep informed.
URL:https://afnwct.org/event/cafe-conversation-56-2-2-4-2-2-2-10-2-3-6/
LOCATION:AF Center\, One Pomperaug Office Park\, Suite 301\, Southbury\, CT\, 06488\, United States
ATTACH;FMTTYPE=image/jpeg:https://afnwct.org/wp-content/uploads/2023/08/Cafe-Conversation-16-9-1.jpg
END:VEVENT
BEGIN:VEVENT
DTSTART;TZID=America/New_York:20240817T100000
DTEND;TZID=America/New_York:20240817T120000
DTSTAMP:20260424T100618
CREATED:20240403T191810Z
LAST-MODIFIED:20240403T192541Z
UID:43791-1723888800-1723896000@afnwct.org
SUMMARY:Café Conversation
DESCRIPTION:Café Conversation is a great way to practice\, improve and/or help you feel more comfortable speaking French with friendly francophones and Francophiles.\nEnjoy coffee and pastries\, meet fellow members and chat en française. \nSaturday mornings at the Alliance Center or at a private home\, outside if weather permits. \nNew participants need to email sam.markind@gmail.com for location details.\n$2.00
URL:https://afnwct.org/event/cafe-conversation-56-2-2-4-2-2-2-10/
LOCATION:AF Center\, One Pomperaug Office Park\, Suite 301\, Southbury\, CT\, 06488\, United States
ATTACH;FMTTYPE=image/jpeg:https://afnwct.org/wp-content/uploads/2023/08/Cafe-Conversation-16-9-1.jpg
END:VEVENT
BEGIN:VEVENT
DTSTART;TZID=America/New_York:20240815T183000
DTEND;TZID=America/New_York:20240815T210000
DTSTAMP:20260424T100618
CREATED:20240403T190315Z
LAST-MODIFIED:20240403T190647Z
UID:43757-1723746600-1723755600@afnwct.org
SUMMARY:Ciné Club
DESCRIPTION:Monthly showings of classic French movies – Title to be announced (subtitled in English). \nPopcorn provided\, BYOB. \n6:30 pm at the Alliance Center
URL:https://afnwct.org/event/cineclub-presents-cesar-2-2-4-2-2-2-2-2-2/
LOCATION:AF Center\, One Pomperaug Office Park\, Suite 301\, Southbury\, CT\, 06488\, United States
ATTACH;FMTTYPE=image/jpeg:https://afnwct.org/wp-content/uploads/2024/03/Le-Cinema-Series-16-9.jpg
END:VEVENT
BEGIN:VEVENT
DTSTART;TZID=America/New_York:20240803T100000
DTEND;TZID=America/New_York:20240803T120000
DTSTAMP:20260424T100618
CREATED:20240403T191728Z
LAST-MODIFIED:20240403T192646Z
UID:43790-1722679200-1722686400@afnwct.org
SUMMARY:Café Conversation
DESCRIPTION:Café Conversation is a great way to practice\, improve and/or help you feel more comfortable speaking French with friendly francophones and Francophiles.\nEnjoy coffee and pastries\, meet fellow members and chat en française. \nSaturday mornings at the Alliance Center or at a private home\, outside if weather permits. \nNew participants need to email sam.markind@gmail.com for location details.\n$2.00
URL:https://afnwct.org/event/cafe-conversation-56-2-2-4-2-2-2-9/
LOCATION:AF Center\, One Pomperaug Office Park\, Suite 301\, Southbury\, CT\, 06488\, United States
ATTACH;FMTTYPE=image/jpeg:https://afnwct.org/wp-content/uploads/2023/08/Cafe-Conversation-16-9-1.jpg
END:VEVENT
BEGIN:VEVENT
DTSTART;TZID=America/New_York:20240801T163000
DTEND;TZID=America/New_York:20240801T200000
DTSTAMP:20260424T100618
CREATED:20240403T193951Z
LAST-MODIFIED:20240403T194009Z
UID:43844-1722529800-1722542400@afnwct.org
SUMMARY:Groupe de lecture
DESCRIPTION:Lire à haute voix.\nÉcouter les autres lire.\nComprendre ce que l’on entend.\nCommenter les thèmes et techniques littéraires. \nAt a private home in Woodbury.\nCall 203-482-3633 to reserve a spot.\nAttendance is limited to eight people. \nLe groupe va commencer le livre de Marcel Rouff\nLa Vie et la Passion de Dodin Bouffant Gourmet
URL:https://afnwct.org/event/groupe-de-lecture-52-2-4-2-2-5/
LOCATION:Member private home
ATTACH;FMTTYPE=image/jpeg:https://afnwct.org/wp-content/uploads/2023/08/Lectures-16-9.jpg
END:VEVENT
BEGIN:VEVENT
DTSTART;TZID=America/New_York:20240726T140000
DTEND;TZID=America/New_York:20240726T170000
DTSTAMP:20260424T100618
CREATED:20240403T182702Z
LAST-MODIFIED:20240403T210544Z
UID:43743-1722002400-1722013200@afnwct.org
SUMMARY:Opening Ceremonies of 2024 Paris Olympics
DESCRIPTION:Share with the French and Francophiles around the world the excitement of the multi-billion dollar 2024 Paris Olympics Opening Ceremony\, on our big screen.\nLight refreshments.\n$5 at the door.
URL:https://afnwct.org/event/opening-ceremonies-of-2024-paris-olympics/
LOCATION:AF Center\, One Pomperaug Office Park\, Suite 301\, Southbury\, CT\, 06488\, United States
ATTACH;FMTTYPE=image/jpeg:https://afnwct.org/wp-content/uploads/2024/04/olympics-feature-2.jpg
END:VEVENT
BEGIN:VEVENT
DTSTART;TZID=America/New_York:20240720T100000
DTEND;TZID=America/New_York:20240720T120000
DTSTAMP:20260424T100618
CREATED:20240403T191658Z
LAST-MODIFIED:20240403T192700Z
UID:43789-1721469600-1721476800@afnwct.org
SUMMARY:Café Conversation
DESCRIPTION:Café Conversation is a great way to practice\, improve and/or help you feel more comfortable speaking French with friendly francophones and Francophiles.\nEnjoy coffee and pastries\, meet fellow members and chat en française. \nSaturday mornings at the Alliance Center or at a private home\, outside if weather permits. \nNew participants need to email sam.markind@gmail.com for location details.\n$2.00
URL:https://afnwct.org/event/cafe-conversation-56-2-2-4-2-2-2-8/
LOCATION:AF Center\, One Pomperaug Office Park\, Suite 301\, Southbury\, CT\, 06488\, United States
ATTACH;FMTTYPE=image/jpeg:https://afnwct.org/wp-content/uploads/2023/08/Cafe-Conversation-16-9-1.jpg
END:VEVENT
BEGIN:VEVENT
DTSTART;TZID=America/New_York:20240718T183000
DTEND;TZID=America/New_York:20240718T210000
DTSTAMP:20260424T100618
CREATED:20240403T182519Z
LAST-MODIFIED:20240403T190700Z
UID:43740-1721327400-1721336400@afnwct.org
SUMMARY:Ciné Club
DESCRIPTION:Monthly showings of classic French movies – Title to be announced (subtitled in English). \nPopcorn provided\, BYOB. \n6:30 pm at the Alliance Center
URL:https://afnwct.org/event/cineclub-presents-cesar-2-2-4-2-2-2-2-2/
LOCATION:AF Center\, One Pomperaug Office Park\, Suite 301\, Southbury\, CT\, 06488\, United States
ATTACH;FMTTYPE=image/jpeg:https://afnwct.org/wp-content/uploads/2024/03/Le-Cinema-Series-16-9.jpg
END:VEVENT
BEGIN:VEVENT
DTSTART;TZID=America/New_York:20240714T150000
DTEND;TZID=America/New_York:20240714T190000
DTSTAMP:20260424T100618
CREATED:20240403T182354Z
LAST-MODIFIED:20240403T210458Z
UID:43737-1720969200-1720983600@afnwct.org
SUMMARY:Fête du 14 Julliet/Prise de La Bastille
DESCRIPTION:Enjoy a bountiful barbeque picnic swim in the pool! Cost $25\, all food provided\, BYOB.\nReservation and prepayment required by Monday\, July 8. \nPay by Check\n$25 individuals\n$50 per couple \nMake checks payable to AFNWCT and indicate event name.\nSend checks to AFNWCT: One Pomperaug Office Park\, Suite 301 • Southbury\, CT 06488 \nPay by PayPal  \n\n  \n   \n\n\n\n        \n        Fête du 14 Julliet\n      \n\n\n\n        \n            Single $28.00 USD\n          \n            Couple $55.00 USD\n          \n      \n\n\n\n        \n        Name\n      \n\n\n\n        \n      \n\n\n\n        \n        Email
URL:https://afnwct.org/event/fete-du-14-julliet-prise-de-la-bastille/
LOCATION:Member private home
ATTACH;FMTTYPE=image/jpeg:https://afnwct.org/wp-content/uploads/2024/04/SpecialEvents-16-9.jpg
END:VEVENT
BEGIN:VEVENT
DTSTART;TZID=America/New_York:20240711T163000
DTEND;TZID=America/New_York:20240711T200000
DTSTAMP:20260424T100618
CREATED:20240403T193911Z
LAST-MODIFIED:20240403T194047Z
UID:43843-1720715400-1720728000@afnwct.org
SUMMARY:Groupe de lecture
DESCRIPTION:Lire à haute voix.\nÉcouter les autres lire.\nComprendre ce que l’on entend.\nCommenter les thèmes et techniques littéraires. \nAt a private home in Woodbury.\nCall 203-482-3633 to reserve a spot.\nAttendance is limited to eight people. \nLe groupe va commencer le livre de Marcel Rouff\nLa Vie et la Passion de Dodin Bouffant Gourmet
URL:https://afnwct.org/event/groupe-de-lecture-52-2-4-2-2-4/
LOCATION:Member private home
ATTACH;FMTTYPE=image/jpeg:https://afnwct.org/wp-content/uploads/2023/08/Lectures-16-9.jpg
END:VEVENT
BEGIN:VEVENT
DTSTART;TZID=America/New_York:20240706T100000
DTEND;TZID=America/New_York:20240706T120000
DTSTAMP:20260424T100618
CREATED:20240403T191618Z
LAST-MODIFIED:20240403T192714Z
UID:43788-1720260000-1720267200@afnwct.org
SUMMARY:Café Conversation
DESCRIPTION:Café Conversation is a great way to practice\, improve and/or help you feel more comfortable speaking French with friendly francophones and Francophiles.\nEnjoy coffee and pastries\, meet fellow members and chat en française. \nSaturday mornings at the Alliance Center or at a private home\, outside if weather permits. \nNew participants need to email sam.markind@gmail.com for location details.\n$2.00
URL:https://afnwct.org/event/cafe-conversation-56-2-2-4-2-2-2-7/
LOCATION:AF Center\, One Pomperaug Office Park\, Suite 301\, Southbury\, CT\, 06488\, United States
ATTACH;FMTTYPE=image/jpeg:https://afnwct.org/wp-content/uploads/2023/08/Cafe-Conversation-16-9-1.jpg
END:VEVENT
BEGIN:VEVENT
DTSTART;TZID=America/New_York:20240622T100000
DTEND;TZID=America/New_York:20240622T120000
DTSTAMP:20260424T100618
CREATED:20240403T191547Z
LAST-MODIFIED:20240403T192735Z
UID:43787-1719050400-1719057600@afnwct.org
SUMMARY:Café Conversation
DESCRIPTION:Café Conversation is a great way to practice\, improve and/or help you feel more comfortable speaking French with friendly francophones and Francophiles.\nEnjoy coffee and pastries\, meet fellow members and chat en française. \nSaturday mornings at the Alliance Center or at a private home\, outside if weather permits. \nNew participants need to email sam.markind@gmail.com for location details.\n$2.00
URL:https://afnwct.org/event/cafe-conversation-56-2-2-4-2-2-2-6/
LOCATION:AF Center\, One Pomperaug Office Park\, Suite 301\, Southbury\, CT\, 06488\, United States
ATTACH;FMTTYPE=image/jpeg:https://afnwct.org/wp-content/uploads/2023/08/Cafe-Conversation-16-9-1.jpg
END:VEVENT
BEGIN:VEVENT
DTSTART;TZID=America/New_York:20240620T183000
DTEND;TZID=America/New_York:20240620T210000
DTSTAMP:20260424T100618
CREATED:20240403T181334Z
LAST-MODIFIED:20240403T190633Z
UID:43733-1718908200-1718917200@afnwct.org
SUMMARY:Ciné Club
DESCRIPTION:Monthly showings of classic French movies – Title to be announced (subtitled in English). \nPopcorn provided\, BYOB. \n6:30 pm at the Alliance Center
URL:https://afnwct.org/event/cineclub-presents-cesar-2-2-4-2-2-2-2/
LOCATION:AF Center\, One Pomperaug Office Park\, Suite 301\, Southbury\, CT\, 06488\, United States
ATTACH;FMTTYPE=image/jpeg:https://afnwct.org/wp-content/uploads/2024/03/Le-Cinema-Series-16-9.jpg
END:VEVENT
BEGIN:VEVENT
DTSTART;TZID=America/New_York:20240609T103000
DTEND;TZID=America/New_York:20240609T130000
DTSTAMP:20260424T100618
CREATED:20240403T181133Z
LAST-MODIFIED:20240403T181208Z
UID:43729-1717929000-1717938000@afnwct.org
SUMMARY:Hill-Stead Museum and Gardens
DESCRIPTION:Tour one of the best small museums in the country featuring a world-class collection of Impressionist art displayed in an authentic Gilded Age home designed by Theodate Pope\, architect of Westover School and Avon Old Farms School.  \nMeet at the museum at 10:30 am. Admission is $18\, $16 for those over 62.\nOptional lunch afterward at Avert Brasserie in West Hartford.
URL:https://afnwct.org/event/hill-stead-museum-and-gardens/
LOCATION:Hill-Stead Museum and Gardens\, 35 Mountain Road\, Farmington\, CT\, United States
ATTACH;FMTTYPE=image/jpeg:https://afnwct.org/wp-content/uploads/2024/04/SpecialEvents-16-9.jpg
END:VEVENT
BEGIN:VEVENT
DTSTART;TZID=America/New_York:20240608T100000
DTEND;TZID=America/New_York:20240608T120000
DTSTAMP:20260424T100618
CREATED:20240403T191512Z
LAST-MODIFIED:20240403T192759Z
UID:43786-1717840800-1717848000@afnwct.org
SUMMARY:Café Conversation
DESCRIPTION:Café Conversation is a great way to practice\, improve and/or help you feel more comfortable speaking French with friendly francophones and Francophiles.\nEnjoy coffee and pastries\, meet fellow members and chat en française. \nSaturday mornings at the Alliance Center or at a private home\, outside if weather permits. \nNew participants need to email sam.markind@gmail.com for location details.\n$2.00
URL:https://afnwct.org/event/cafe-conversation-56-2-2-4-2-2-2-5/
LOCATION:AF Center\, One Pomperaug Office Park\, Suite 301\, Southbury\, CT\, 06488\, United States
ATTACH;FMTTYPE=image/jpeg:https://afnwct.org/wp-content/uploads/2023/08/Cafe-Conversation-16-9-1.jpg
END:VEVENT
BEGIN:VEVENT
DTSTART;TZID=America/New_York:20240606T163000
DTEND;TZID=America/New_York:20240606T200000
DTSTAMP:20260424T100618
CREATED:20240403T193816Z
LAST-MODIFIED:20240403T194100Z
UID:43842-1717691400-1717704000@afnwct.org
SUMMARY:Groupe de lecture
DESCRIPTION:Lire à haute voix.\nÉcouter les autres lire.\nComprendre ce que l’on entend.\nCommenter les thèmes et techniques littéraires. \nAt a private home in Woodbury.\nCall 203-482-3633 to reserve a spot.\nAttendance is limited to eight people. \nLe groupe va commencer le livre de Marcel Rouff\nLa Vie et la Passion de Dodin Bouffant Gourmet
URL:https://afnwct.org/event/groupe-de-lecture-52-2-4-2-2-3/
LOCATION:Member private home
ATTACH;FMTTYPE=image/jpeg:https://afnwct.org/wp-content/uploads/2023/08/Lectures-16-9.jpg
END:VEVENT
BEGIN:VEVENT
DTSTART;TZID=America/New_York:20240525T100000
DTEND;TZID=America/New_York:20240525T120000
DTSTAMP:20260424T100618
CREATED:20240403T191414Z
LAST-MODIFIED:20240403T192834Z
UID:43785-1716631200-1716638400@afnwct.org
SUMMARY:Café Conversation
DESCRIPTION:Café Conversation is a great way to practice\, improve and/or help you feel more comfortable speaking French with friendly francophones and Francophiles.\nEnjoy coffee and pastries\, meet fellow members and chat en française. \nSaturday mornings at the Alliance Center or at a private home\, outside if weather permits. \nNew participants need to email sam.markind@gmail.com for location details.\n$2.00
URL:https://afnwct.org/event/cafe-conversation-56-2-2-4-2-2-2-4/
LOCATION:AF Center\, One Pomperaug Office Park\, Suite 301\, Southbury\, CT\, 06488\, United States
ATTACH;FMTTYPE=image/jpeg:https://afnwct.org/wp-content/uploads/2023/08/Cafe-Conversation-16-9-1.jpg
END:VEVENT
BEGIN:VEVENT
DTSTART;TZID=America/New_York:20240518T170000
DTEND;TZID=America/New_York:20240518T200000
DTSTAMP:20260424T100618
CREATED:20240403T180909Z
LAST-MODIFIED:20240403T192252Z
UID:43724-1716051600-1716062400@afnwct.org
SUMMARY:Cooking Class and Dinner
DESCRIPTION:Participate in the preparation and tasting of an authentic French dinner from appetizer to dessert. $50 per person\, includes expertly paired wines. Reservations required by Monday\, May 13. \nMember private home \nPay by Check\n$50 individuals\n$100 per couple \nMake checks payable to AFNWCT and indicate event name.\nSend checks to AFNWCT: One Pomperaug Office Park\, Suite 301 • Southbury\, CT 06488 \nPay by PayPal  \n\n  \n   \n\n\n\n        \n        Cooking Class  and Dinner\n      \n\n\n\n        \n            Single $53.00 USD\n          \n            Couple $105.00 USD\n          \n      \n\n\n\n        \n        Name\n      \n\n\n\n        \n      \n\n\n\n        \n        Email
URL:https://afnwct.org/event/cooking-class-and-dinner/
LOCATION:Member private home
ATTACH;FMTTYPE=image/jpeg:https://afnwct.org/wp-content/uploads/2024/04/SpecialEvents-16-9.jpg
END:VEVENT
END:VCALENDAR