BEGIN:VCALENDAR
VERSION:2.0
PRODID:-//Alliance Francaise of NW CT - ECPv6.15.11//NONSGML v1.0//EN
CALSCALE:GREGORIAN
METHOD:PUBLISH
X-WR-CALNAME:Alliance Francaise of NW CT
X-ORIGINAL-URL:https://afnwct.org
X-WR-CALDESC:Events for Alliance Francaise of NW CT
REFRESH-INTERVAL;VALUE=DURATION:PT1H
X-Robots-Tag:noindex
X-PUBLISHED-TTL:PT1H
BEGIN:VTIMEZONE
TZID:America/New_York
BEGIN:DAYLIGHT
TZOFFSETFROM:-0500
TZOFFSETTO:-0400
TZNAME:EDT
DTSTART:20220313T070000
END:DAYLIGHT
BEGIN:STANDARD
TZOFFSETFROM:-0400
TZOFFSETTO:-0500
TZNAME:EST
DTSTART:20221106T060000
END:STANDARD
BEGIN:DAYLIGHT
TZOFFSETFROM:-0500
TZOFFSETTO:-0400
TZNAME:EDT
DTSTART:20230312T070000
END:DAYLIGHT
BEGIN:STANDARD
TZOFFSETFROM:-0400
TZOFFSETTO:-0500
TZNAME:EST
DTSTART:20231105T060000
END:STANDARD
BEGIN:DAYLIGHT
TZOFFSETFROM:-0500
TZOFFSETTO:-0400
TZNAME:EDT
DTSTART:20240310T070000
END:DAYLIGHT
BEGIN:STANDARD
TZOFFSETFROM:-0400
TZOFFSETTO:-0500
TZNAME:EST
DTSTART:20241103T060000
END:STANDARD
END:VTIMEZONE
BEGIN:VEVENT
DTSTART;TZID=America/New_York:20231005T163000
DTEND;TZID=America/New_York:20231005T200000
DTSTAMP:20260425T095054
CREATED:20230824T204629Z
LAST-MODIFIED:20230824T204629Z
UID:43412-1696523400-1696536000@afnwct.org
SUMMARY:Groupe de lecture
DESCRIPTION:Lire à haute voix\nÉcouter les autres lire\nComprendre ce que l’on entend\nCommenter les thèmes et techniques littéraires \nAt a private home in Woodbury\nCall 203-482-3633 to reserve a spot.\nAttendance is limited to 8 people.
URL:https://afnwct.org/event/groupe-de-lecture-52-2-2/
LOCATION:Woodbury Residence
CATEGORIES:Groupe de Lecture
ATTACH;FMTTYPE=image/jpeg:https://afnwct.org/wp-content/uploads/2023/08/Lectures-16-9.jpg
END:VEVENT
BEGIN:VEVENT
DTSTART;TZID=America/New_York:20230930T100000
DTEND;TZID=America/New_York:20230930T120000
DTSTAMP:20260425T095054
CREATED:20230824T203643Z
LAST-MODIFIED:20230824T203643Z
UID:43404-1696068000-1696075200@afnwct.org
SUMMARY:Café Conversation
DESCRIPTION:Café Conversation is a great way to practice\, improve and/or help you feel more comfortable speaking French with friendly francophones and Francophiles.\nEnjoy coffee and pastries\, meet fellow members and chat en français. \nSaturday mornings at the Alliance Center or at a private home\, outside if weather permits. \nNew participants need to email sam.markind@gmail.com for location details.
URL:https://afnwct.org/event/cafe-conversation-56-2-2-3/
LOCATION:AF Center\, One Pomperaug Office Park\, Suite 301\, Southbury\, CT\, 06488\, United States
CATEGORIES:Café Conversation
ATTACH;FMTTYPE=image/jpeg:https://afnwct.org/wp-content/uploads/2023/08/Cafe-Conversation-16-9-1.jpg
END:VEVENT
BEGIN:VEVENT
DTSTART;TZID=America/New_York:20230923T173000
DTEND;TZID=America/New_York:20230923T203000
DTSTAMP:20260425T095054
CREATED:20230818T184313Z
LAST-MODIFIED:20230823T144936Z
UID:43282-1695490200-1695501000@afnwct.org
SUMMARY:Cocktail de Rentrée
DESCRIPTION:La Rentrée means going back to school and work after the summer. Celebrate the beginning of our Alliance year at a beautiful home and gardens in Middlebury with wines\, cocktails\, hearty main course and hors d’oeuvres through the evening. \nOnce you register and pay\, we will send you the address of the host.\nPlease register no later than September 16\, 2023. \nPay by Check\n$40 individuals\n$75 per couple \nMake checks payable to AFNWCT and indicate event name.\nSend checks to AFNWCT: One Pomperaug Office Park\, Suite 301 • Southbury\, CT 06488 \nPay by PayPal \n \n\n  \n   \n\n\n\n        \n        Single or Per Couple Pricing\n      \n\n\n\n        \n            Single $45.00 USD\n          \n            Couple $80.00 USD\n          \n      \n\n\n\n        \n        Attendee's Name/s\n      \n\n\n\n        \n      \n\n\n\n        \n        Email
URL:https://afnwct.org/event/cocktail-de-rentree-2/
LOCATION:CT
CATEGORIES:Cocktail de Rentree
END:VEVENT
BEGIN:VEVENT
DTSTART;TZID=America/New_York:20230916T100000
DTEND;TZID=America/New_York:20230916T120000
DTSTAMP:20260425T095054
CREATED:20230824T203340Z
LAST-MODIFIED:20230824T203553Z
UID:43401-1694858400-1694865600@afnwct.org
SUMMARY:Café Conversation
DESCRIPTION:Café Conversation is a great way to practice\, improve and/or help you feel more comfortable speaking French with friendly francophones and Francophiles.\nEnjoy coffee and pastries\, meet fellow members and chat en français. \nSaturday mornings at the Alliance Center or at a private home\, outside if weather permits. \nNew participants need to email sam.markind@gmail.com for location details.
URL:https://afnwct.org/event/cafe-conversation-56-2-2-2/
LOCATION:AF Center\, One Pomperaug Office Park\, Suite 301\, Southbury\, CT\, 06488\, United States
CATEGORIES:Café Conversation
ATTACH;FMTTYPE=image/jpeg:https://afnwct.org/wp-content/uploads/2023/08/Cafe-Conversation-16-9-1.jpg
END:VEVENT
BEGIN:VEVENT
DTSTART;TZID=America/New_York:20230907T163000
DTEND;TZID=America/New_York:20230907T200000
DTSTAMP:20260425T095054
CREATED:20230824T204255Z
LAST-MODIFIED:20230824T204652Z
UID:43407-1694104200-1694116800@afnwct.org
SUMMARY:Groupe de lecture
DESCRIPTION:Lire à haute voix\nÉcouter les autres lire\nComprendre ce que l’on entend\nCommenter les thèmes et techniques littéraires \nAt a private home in Woodbury\nCall 203-482-3633 to reserve a spot.\nAttendance is limited to 8 people.
URL:https://afnwct.org/event/groupe-de-lecture-52-2/
LOCATION:Woodbury Residence
CATEGORIES:Groupe de Lecture
ATTACH;FMTTYPE=image/jpeg:https://afnwct.org/wp-content/uploads/2023/08/Lectures-16-9.jpg
END:VEVENT
BEGIN:VEVENT
DTSTART;TZID=America/New_York:20230902T100000
DTEND;TZID=America/New_York:20230902T120000
DTSTAMP:20260425T095054
CREATED:20230725T013425Z
LAST-MODIFIED:20230824T203000Z
UID:43231-1693648800-1693656000@afnwct.org
SUMMARY:Café Conversation
DESCRIPTION:Café Conversation is a great way to practice\, improve and/or help you feel more comfortable speaking French with friendly francophones and Francophiles.\nEnjoy coffee and pastries\, meet fellow members and chat en français. \nSaturday mornings at the Alliance Center or at a private home\, outside if weather permits. \nNew participants need to email sam.markind@gmail.com for location details. \n 
URL:https://afnwct.org/event/cafe-conversation-54-3/
LOCATION:AF Center\, One Pomperaug Office Park\, Suite 301\, Southbury\, CT\, 06488\, United States
CATEGORIES:Café Conversation
ATTACH;FMTTYPE=image/jpeg:https://afnwct.org/wp-content/uploads/2023/08/Cafe-Conversation-16-9-1.jpg
END:VEVENT
BEGIN:VEVENT
DTSTART;TZID=America/New_York:20230819T100000
DTEND;TZID=America/New_York:20230819T120000
DTSTAMP:20260425T095054
CREATED:20230725T013236Z
LAST-MODIFIED:20230725T013305Z
UID:43230-1692439200-1692446400@afnwct.org
SUMMARY:Café Conversation
DESCRIPTION:Café Conversation is a great way to practice\, improve and/or help you feel more comfortable speaking French with friendly francophones and Francophiles.\nEnjoy coffee and pastries\, meet fellow members and chat en français. \nSaturday mornings at the Alliance Center or at a private home\, outside if weather permits. \nNew participants need to email sam.markind@gmail.com for location details. \n 
URL:https://afnwct.org/event/cafe-conversation-54-2/
LOCATION:AF Center\, One Pomperaug Office Park\, Suite 301\, Southbury\, CT\, 06488\, United States
CATEGORIES:Café Conversation
ATTACH;FMTTYPE=image/jpeg:https://afnwct.org/wp-content/uploads/2023/07/Cafe-Conversation.jpg
END:VEVENT
BEGIN:VEVENT
DTSTART;TZID=America/New_York:20230805T100000
DTEND;TZID=America/New_York:20230805T120000
DTSTAMP:20260425T095054
CREATED:20230724T145213Z
LAST-MODIFIED:20230725T012744Z
UID:43192-1691229600-1691236800@afnwct.org
SUMMARY:Café Conversation
DESCRIPTION:Café Conversation is a great way to practice\, improve and/or help you feel more comfortable speaking French with friendly francophones and Francophiles.\nEnjoy coffee and pastries\, meet fellow members and chat en français. \nSaturday mornings at the Alliance Center or at a private home\, outside if weather permits. \nNew participants need to email sam.markind@gmail.com for location details. \n 
URL:https://afnwct.org/event/cafe-conversation-54/
LOCATION:AF Center\, One Pomperaug Office Park\, Suite 301\, Southbury\, CT\, 06488\, United States
CATEGORIES:Café Conversation
ATTACH;FMTTYPE=image/jpeg:https://afnwct.org/wp-content/uploads/2023/07/Cafe-Conversation.jpg
END:VEVENT
BEGIN:VEVENT
DTSTART;TZID=America/New_York:20230803T163000
DTEND;TZID=America/New_York:20230803T183000
DTSTAMP:20260425T095054
CREATED:20230726T173623Z
LAST-MODIFIED:20230726T180019Z
UID:43263-1691080200-1691087400@afnwct.org
SUMMARY:Groupe de lecture
DESCRIPTION:Groupe de lecture\nThe current book is Viviane Elizabeth Fauville by Julia Deck\nWoodbury (call 203-482-3633 to reserve a spot).
URL:https://afnwct.org/event/groupe-de-lecture-52/
LOCATION:Woodbury Community Center\, 265 Main St S.\, Woodbury\, 06798\, United States
CATEGORIES:Groupe de Lecture
ATTACH;FMTTYPE=image/jpeg:https://afnwct.org/wp-content/uploads/2023/07/Lectures-1-e1690394394842.jpg
END:VEVENT
BEGIN:VEVENT
DTSTART;TZID=America/New_York:20230624T113000
DTEND;TZID=America/New_York:20230624T140000
DTSTAMP:20260425T095054
CREATED:20230421T014122Z
LAST-MODIFIED:20230606T054422Z
UID:42368-1687606200-1687615200@afnwct.org
SUMMARY:Ridgefield Museums and French Bistro
DESCRIPTION:Ridgefield Museums and French Bistro\n(Ridgefield was a stop on Rochambeau’s march to Yorktown)\nSaturday\, June 24\nTime: 11:30 – 2:00\nVisit the historic Keeler Tavern ($15) or the Aldrich Contemporary Art Museum ($15/9)\, then\nhave lunch at Luc’s Café.
URL:https://afnwct.org/event/ridgefield-museums-and-french-bistro/
LOCATION:CT
ATTACH;FMTTYPE=image/png:https://afnwct.org/wp-content/uploads/2023/04/AldrichMuseum_Ridgefield-e1686030245386.png
END:VEVENT
BEGIN:VEVENT
DTSTART;TZID=America/New_York:20230624T100000
DTEND;TZID=America/New_York:20230624T120000
DTSTAMP:20260425T095054
CREATED:20230421T011655Z
LAST-MODIFIED:20230521T172936Z
UID:42344-1687600800-1687608000@afnwct.org
SUMMARY:Cafe Conversation
DESCRIPTION:10:00am – 12:00pm \nCafe Conversation is a great way to practice\, improve and/or help you feel more comfortable speaking French with friendly francophones and francophiles. \nEnjoy coffee and pastries\, meet and chat with fellow members for the first half hour or so — en francais — and then tackle the subject of the day. \nAn article in French (often with a side-by-side English translation) is read out loud en francais. The article will then be used to spark the conversation. \nAll levels of French are welcome.
URL:https://afnwct.org/event/cafe-conversation-53-2-2-5-2-2-2-2-2-2-6/
LOCATION:CT
CATEGORIES:aaHomePage,Café Conversation,French Discussion Group
ATTACH;FMTTYPE=image/jpeg:https://afnwct.org/wp-content/uploads/2023/04/CAFE-CONVERSATION_French-press_pixabay-200x200-1.jpg
END:VEVENT
BEGIN:VEVENT
DTSTART;TZID=America/New_York:20230610T100000
DTEND;TZID=America/New_York:20230610T120000
DTSTAMP:20260425T095054
CREATED:20230421T011620Z
LAST-MODIFIED:20230521T173019Z
UID:42343-1686391200-1686398400@afnwct.org
SUMMARY:Cafe Conversation
DESCRIPTION:10:00am – 12:00pm \nCafe Conversation is a great way to practice\, improve and/or help you feel more comfortable speaking French with friendly francophones and francophiles. \nEnjoy coffee and pastries\, meet and chat with fellow members for the first half hour or so — en francais — and then tackle the subject of the day. \nAn article in French (often with a side-by-side English translation) is read out loud en francais. The article will then be used to spark the conversation. \nAll levels of French are welcome.
URL:https://afnwct.org/event/cafe-conversation-53-2-2-5-2-2-2-2-2-2-5/
LOCATION:CT
CATEGORIES:aaHomePage,Café Conversation,French Discussion Group
ATTACH;FMTTYPE=image/jpeg:https://afnwct.org/wp-content/uploads/2023/04/CAFE-CONVERSATION_French-press_pixabay-200x200-1.jpg
END:VEVENT
BEGIN:VEVENT
DTSTART;TZID=America/New_York:20230601T163000
DTEND;TZID=America/New_York:20230601T180000
DTSTAMP:20260425T095054
CREATED:20230421T011938Z
LAST-MODIFIED:20230521T173200Z
UID:42352-1685637000-1685642400@afnwct.org
SUMMARY:Groupe de Lecture
DESCRIPTION:First Thursday of the month\, at 4:30pm \n  \nAttendance is limited to 8 people.\nCall 203-482-3633 to reserve a spot. \nLire à haute voix\nÉcouter les autres lire\nComprendre ce que l’on entend\nCommenter les thèmes et techniques littéraires \nPour le groupe de lecture\, le nouveau livre est “Viviane Elisabeth Fauville” de Julia Deck
URL:https://afnwct.org/event/groupe-de-lecture-2022-3-2-2-2-3/
LOCATION:CT
CATEGORIES:aaHomePage,French Discussion Group,Groupe de Lecture
ATTACH;FMTTYPE=image/jpeg:https://afnwct.org/wp-content/uploads/2023/04/Group-de-lecture.jpg
END:VEVENT
BEGIN:VEVENT
DTSTART;TZID=America/New_York:20230527T100000
DTEND;TZID=America/New_York:20230527T120000
DTSTAMP:20260425T095054
CREATED:20230421T011545Z
LAST-MODIFIED:20230521T173238Z
UID:42342-1685181600-1685188800@afnwct.org
SUMMARY:Cafe Conversation
DESCRIPTION:10:00am – 12:00pm \nCafe Conversation is a great way to practice\, improve and/or help you feel more comfortable speaking French with friendly francophones and francophiles. \nEnjoy coffee and pastries\, meet and chat with fellow members for the first half hour or so — en francais — and then tackle the subject of the day. \nAn article in French (often with a side-by-side English translation) is read out loud en francais. The article will then be used to spark the conversation. \nAll levels of French are welcome.
URL:https://afnwct.org/event/cafe-conversation-53-2-2-5-2-2-2-2-2-2-4/
LOCATION:CT
CATEGORIES:aaHomePage,Café Conversation,French Discussion Group
ATTACH;FMTTYPE=image/jpeg:https://afnwct.org/wp-content/uploads/2023/04/CAFE-CONVERSATION_French-press_pixabay-200x200-1.jpg
END:VEVENT
BEGIN:VEVENT
DTSTART;TZID=America/New_York:20230520T180000
DTEND;TZID=America/New_York:20230520T203000
DTSTAMP:20260425T095054
CREATED:20230421T013849Z
LAST-MODIFIED:20230421T013849Z
UID:42365-1684605600-1684614600@afnwct.org
SUMMARY:French Wine Soirée
DESCRIPTION:French Wine Soirée\nSaturday\, May 20\nTime: 6:00 – 8:30 pm\nWe will sample four classic French white wines\,\naccompanied by appetizers brought by the guests.\nIdeas and recipes will be sent to those planning to\nattend.\nPlace: Bridgewater\nCost: $15 Reservation and prepayment required by May 17
URL:https://afnwct.org/event/french-wine-soiree/
LOCATION:CT
ATTACH;FMTTYPE=image/png:https://afnwct.org/wp-content/uploads/2023/04/Capture.png
END:VEVENT
BEGIN:VEVENT
DTSTART;TZID=America/New_York:20230518T000000
DTEND;TZID=America/New_York:20230518T000000
DTSTAMP:20260425T095054
CREATED:20230421T012644Z
LAST-MODIFIED:20230421T012644Z
UID:42356-1684368000-1684368000@afnwct.org
SUMMARY:Ciné Club
DESCRIPTION:Ciné Club on the 3rd Thursday of the month \nLes Combattantes \n6:45 pm at the Alliance Center\nApril 20\, May 18\, June 29
URL:https://afnwct.org/event/cineclub-presents-cesar-2-2-5/
LOCATION:CT
CATEGORIES:aaHomePage,Ciné-Club,French Discussion Group
ATTACH;FMTTYPE=image/jpeg:https://afnwct.org/wp-content/uploads/2023/02/cine.jpg
END:VEVENT
BEGIN:VEVENT
DTSTART;TZID=America/New_York:20230513T100000
DTEND;TZID=America/New_York:20230513T120000
DTSTAMP:20260425T095054
CREATED:20230421T011506Z
LAST-MODIFIED:20230421T011506Z
UID:42341-1683972000-1683979200@afnwct.org
SUMMARY:Cafe Conversation
DESCRIPTION:10:00am – 12:00pm \nCafe Conversation is a great way to practice\, improve and/or help you feel more comfortable speaking French with friendly francophones and francophiles. \nEnjoy coffee and pastries\, meet and chat with fellow members for the first half hour or so — en francais — and then tackle the subject of the day. \nAn article in French (often with a side-by-side English translation) is read out loud en francais. The article will then be used to spark the conversation. \nAll levels of French are welcome.
URL:https://afnwct.org/event/cafe-conversation-53-2-2-5-2-2-2-2-2-2-3/
LOCATION:CT
CATEGORIES:aaHomePage,Café Conversation,French Discussion Group
ATTACH;FMTTYPE=image/jpeg:https://afnwct.org/wp-content/uploads/2019/10/CAFE-CONVERSATION_French-press_pixabay.jpg
END:VEVENT
BEGIN:VEVENT
DTSTART;TZID=America/New_York:20230504T163000
DTEND;TZID=America/New_York:20230504T180000
DTSTAMP:20260425T095054
CREATED:20230421T011908Z
LAST-MODIFIED:20230421T011908Z
UID:42351-1683217800-1683223200@afnwct.org
SUMMARY:Groupe de Lecture
DESCRIPTION:First Thursday of the month\, at 4:30pm \n  \nAttendance is limited to 8 people.\nCall 203-482-3633 to reserve a spot. \nLire à haute voix\nÉcouter les autres lire\nComprendre ce que l’on entend\nCommenter les thèmes et techniques littéraires \nPour le groupe de lecture\, le nouveau livre est “Viviane Elisabeth Fauville” de Julia Deck
URL:https://afnwct.org/event/groupe-de-lecture-2022-3-2-2-2-2/
LOCATION:CT
CATEGORIES:aaHomePage,French Discussion Group,Groupe de Lecture
ATTACH;FMTTYPE=image/jpeg:https://afnwct.org/wp-content/uploads/2023/03/R.jpg
END:VEVENT
BEGIN:VEVENT
DTSTART;TZID=America/New_York:20230429T100000
DTEND;TZID=America/New_York:20230429T120000
DTSTAMP:20260425T095054
CREATED:20230421T011413Z
LAST-MODIFIED:20230421T011413Z
UID:42340-1682762400-1682769600@afnwct.org
SUMMARY:Cafe Conversation
DESCRIPTION:10:00am – 12:00pm \nCafe Conversation is a great way to practice\, improve and/or help you feel more comfortable speaking French with friendly francophones and francophiles. \nEnjoy coffee and pastries\, meet and chat with fellow members for the first half hour or so — en francais — and then tackle the subject of the day. \nAn article in French (often with a side-by-side English translation) is read out loud en francais. The article will then be used to spark the conversation. \nAll levels of French are welcome.
URL:https://afnwct.org/event/cafe-conversation-53-2-2-5-2-2-2-2-2-2-2/
LOCATION:CT
CATEGORIES:aaHomePage,Café Conversation,French Discussion Group
ATTACH;FMTTYPE=image/jpeg:https://afnwct.org/wp-content/uploads/2019/10/CAFE-CONVERSATION_French-press_pixabay.jpg
END:VEVENT
BEGIN:VEVENT
DTSTART;TZID=America/New_York:20230422T103000
DTEND;TZID=America/New_York:20230422T120000
DTSTAMP:20260425T095054
CREATED:20230421T013453Z
LAST-MODIFIED:20230421T013453Z
UID:42363-1682159400-1682164800@afnwct.org
SUMMARY:Factory Visit
DESCRIPTION:Factory Visit\nSaturday\, April 22\nAlliance members Shant Madjarian and his wife own Juniper\, a lighting design and\nmanufacturing business established in 2011. Production moved from NY to Southington\, CT\nin 2020 to expand capacity. They employ 45 people\, who design\, engineer\, produce and sell\nhigh-end architectural lighting globally with an emphasis on technology and material finish. \nWe will be shown around the plant and showroom. The visit takes approximately two hours.\nTime: 10:30 am – Limited to 20 people – Please reserve your spot (203) 707-0710
URL:https://afnwct.org/event/factory-visit/
LOCATION:CT
END:VEVENT
BEGIN:VEVENT
DTSTART;TZID=America/New_York:20230420T184500
DTEND;TZID=America/New_York:20230420T210000
DTSTAMP:20260425T095054
CREATED:20230421T012553Z
LAST-MODIFIED:20230421T012654Z
UID:42355-1682016300-1682024400@afnwct.org
SUMMARY:Ciné Club
DESCRIPTION:Ciné Club on the 3rd Thursday of the month \nLes Combattantes \n6:45 pm at the Alliance Center\nApril 20\, May 18\, June 29
URL:https://afnwct.org/event/cineclub-presents-cesar-2-2-4/
LOCATION:CT
CATEGORIES:aaHomePage,Ciné-Club,French Discussion Group
ATTACH;FMTTYPE=image/jpeg:https://afnwct.org/wp-content/uploads/2023/02/cine.jpg
END:VEVENT
BEGIN:VEVENT
DTSTART;TZID=America/New_York:20230415T100000
DTEND;TZID=America/New_York:20230415T120000
DTSTAMP:20260425T095054
CREATED:20230421T011301Z
LAST-MODIFIED:20230421T011301Z
UID:42338-1681552800-1681560000@afnwct.org
SUMMARY:Cafe Conversation
DESCRIPTION:10:00am – 12:00pm \nCafe Conversation is a great way to practice\, improve and/or help you feel more comfortable speaking French with friendly francophones and francophiles. \nEnjoy coffee and pastries\, meet and chat with fellow members for the first half hour or so — en francais — and then tackle the subject of the day. \nAn article in French (often with a side-by-side English translation) is read out loud en francais. The article will then be used to spark the conversation. \nAll levels of French are welcome.
URL:https://afnwct.org/event/cafe-conversation-53-2-2-5-2-2-2-2-2-2/
LOCATION:CT
CATEGORIES:aaHomePage,Café Conversation,French Discussion Group
ATTACH;FMTTYPE=image/jpeg:https://afnwct.org/wp-content/uploads/2019/10/CAFE-CONVERSATION_French-press_pixabay.jpg
END:VEVENT
BEGIN:VEVENT
DTSTART;TZID=America/New_York:20230406T163000
DTEND;TZID=America/New_York:20230406T180000
DTSTAMP:20260425T095054
CREATED:20230307T232325Z
LAST-MODIFIED:20230307T232325Z
UID:42326-1680798600-1680804000@afnwct.org
SUMMARY:Groupe de Lecture
DESCRIPTION:First Thursday of the month\, at 4:30pm \n  \nAttendance is limited to 8 people.\nCall 203-482-3633 to reserve a spot. \nLire à haute voix\nÉcouter les autres lire\nComprendre ce que l’on entend\nCommenter les thèmes et techniques littéraires \nPour le groupe de lecture\, le nouveau livre est “Viviane Elisabeth Fauville” de Julia Deck
URL:https://afnwct.org/event/groupe-de-lecture-2022-3-2-2-2/
LOCATION:CT
CATEGORIES:aaHomePage,French Discussion Group,Groupe de Lecture
ATTACH;FMTTYPE=image/jpeg:https://afnwct.org/wp-content/uploads/2023/03/R.jpg
END:VEVENT
BEGIN:VEVENT
DTSTART;TZID=America/New_York:20230401T100000
DTEND;TZID=America/New_York:20230401T120000
DTSTAMP:20260425T095054
CREATED:20230421T011130Z
LAST-MODIFIED:20230421T011318Z
UID:42336-1680343200-1680350400@afnwct.org
SUMMARY:Cafe Conversation
DESCRIPTION:10:00am – 12:00pm \nCafe Conversation is a great way to practice\, improve and/or help you feel more comfortable speaking French with friendly francophones and francophiles. \nEnjoy coffee and pastries\, meet and chat with fellow members for the first half hour or so — en francais — and then tackle the subject of the day. \nAn article in French (often with a side-by-side English translation) is read out loud en francais. The article will then be used to spark the conversation. \nAll levels of French are welcome.
URL:https://afnwct.org/event/cafe-conversation-53-2-2-5-2-2-2-2-2/
LOCATION:CT
CATEGORIES:aaHomePage,Café Conversation,French Discussion Group
ATTACH;FMTTYPE=image/jpeg:https://afnwct.org/wp-content/uploads/2019/10/CAFE-CONVERSATION_French-press_pixabay.jpg
END:VEVENT
BEGIN:VEVENT
DTSTART;TZID=America/New_York:20230325T140000
DTEND;TZID=America/New_York:20230325T160000
DTSTAMP:20260425T095054
CREATED:20230213T050001Z
LAST-MODIFIED:20230307T050352Z
UID:42306-1679752800-1679760000@afnwct.org
SUMMARY:A Younger Matisse at the Met\, will follow the artist until his mid 30’s.
DESCRIPTION:A Younger Matisse at the Met\, will follow the artist until his mid 30’s. \nPresented by Armchair Art Tours’ Michael Morris. \nRefreshments will be served. \nSaturday\, March 25 at 2:00 pm at the Alliance Center
URL:https://afnwct.org/event/cineclub-presents-cesar-2-2-3/
LOCATION:CT
CATEGORIES:aaHomePage,Ciné-Club,French Discussion Group
END:VEVENT
BEGIN:VEVENT
DTSTART;TZID=America/New_York:20230318T100000
DTEND;TZID=America/New_York:20230318T120000
DTSTAMP:20260425T095054
CREATED:20230213T044207Z
LAST-MODIFIED:20230307T231707Z
UID:42294-1679133600-1679140800@afnwct.org
SUMMARY:Cafe Conversation
DESCRIPTION:10:00am – 12:00pm \nCafe Conversation is a great way to practice\, improve and/or help you feel more comfortable speaking French with friendly francophones and francophiles. \nEnjoy coffee and pastries\, meet and chat with fellow members for the first half hour or so — en francais — and then tackle the subject of the day. \nAn article in French (often with a side-by-side English translation) is read out loud en francais. The article will then be used to spark the conversation. \nAll levels of French are welcome.
URL:https://afnwct.org/event/cafe-conversation-53-2-2-5-2-2-2-2/
LOCATION:CT
CATEGORIES:aaHomePage,Café Conversation,French Discussion Group
ATTACH;FMTTYPE=image/jpeg:https://afnwct.org/wp-content/uploads/2019/10/CAFE-CONVERSATION_French-press_pixabay.jpg
END:VEVENT
BEGIN:VEVENT
DTSTART;TZID=America/New_York:20230316T183000
DTEND;TZID=America/New_York:20230316T210000
DTSTAMP:20260425T095054
CREATED:20230213T045253Z
LAST-MODIFIED:20230307T232540Z
UID:42300-1678991400-1679000400@afnwct.org
SUMMARY:Ciné Club
DESCRIPTION:Ciné Club on the 3rd Thursday of the month \n6:30 pm at the Alliance Center\nJanuary 19\, February 28\, March 16
URL:https://afnwct.org/event/cineclub-presents-cesar-2-2/
LOCATION:CT
CATEGORIES:aaHomePage,Ciné-Club,French Discussion Group
ATTACH;FMTTYPE=image/jpeg:https://afnwct.org/wp-content/uploads/2023/02/cine.jpg
END:VEVENT
BEGIN:VEVENT
DTSTART;TZID=America/New_York:20230310T140000
DTEND;TZID=America/New_York:20230310T160000
DTSTAMP:20260425T095054
CREATED:20230307T050929Z
LAST-MODIFIED:20230307T050929Z
UID:42318-1678456800-1678464000@afnwct.org
SUMMARY:Women Impressionists
DESCRIPTION:Friday\, March 10 at 2:00 pm at the Southbury Library \nWomen Impressionists \nRegistration is required at www.southburylibrary.org/events \nThis program can be watched from home on Zoom and will also be streamed in the Kingsley Room.
URL:https://afnwct.org/event/women-impressionists/
LOCATION:CT
END:VEVENT
BEGIN:VEVENT
DTSTART;TZID=America/New_York:20230309T183000
DTEND;TZID=America/New_York:20230309T200000
DTSTAMP:20260425T095054
CREATED:20230307T050620Z
LAST-MODIFIED:20230307T050804Z
UID:42314-1678386600-1678392000@afnwct.org
SUMMARY:"Coco at the Ritz" by local author Gioia Diliberto
DESCRIPTION:Thursday\, March 9 at 6:30 pm at the Woodbury Library \nLocal author Gioia Diliberto\, will discuss her book\, « Coco at the Ritz « It follows the life of Coco Chanel during World War II as she is accused of treason to France because of having  a romance with a German spy. \nRegister at 203-263-3502 or www.woodburylibraryct.org
URL:https://afnwct.org/event/coco-at-the-ritz-by-local-author-gioia-diliberto/
LOCATION:CT
END:VEVENT
BEGIN:VEVENT
DTSTART;TZID=America/New_York:20230304T100000
DTEND;TZID=America/New_York:20230304T100000
DTSTAMP:20260425T095054
CREATED:20230213T043829Z
LAST-MODIFIED:20230307T231516Z
UID:42292-1677924000-1677924000@afnwct.org
SUMMARY:Cafe Conversation
DESCRIPTION:10:00am – 12:00pm \nCafe Conversation is a great way to practice\, improve and/or help you feel more comfortable speaking French with friendly francophones and francophiles. \nEnjoy coffee and pastries\, meet and chat with fellow members for the first half hour or so — en francais — and then tackle the subject of the day. \nAn article in French (often with a side-by-side English translation) is read out loud en francais. The article will then be used to spark the conversation. \nAll levels of French are welcome.
URL:https://afnwct.org/event/cafe-conversation-53-2-2-5-2-2-2/
LOCATION:CT
CATEGORIES:aaHomePage,Café Conversation,French Discussion Group
ATTACH;FMTTYPE=image/jpeg:https://afnwct.org/wp-content/uploads/2019/10/CAFE-CONVERSATION_French-press_pixabay.jpg
END:VEVENT
END:VCALENDAR