BEGIN:VCALENDAR
VERSION:2.0
PRODID:-//Alliance Francaise of NW CT - ECPv6.15.11//NONSGML v1.0//EN
CALSCALE:GREGORIAN
METHOD:PUBLISH
X-ORIGINAL-URL:https://afnwct.org
X-WR-CALDESC:Events for Alliance Francaise of NW CT
REFRESH-INTERVAL;VALUE=DURATION:PT1H
X-Robots-Tag:noindex
X-PUBLISHED-TTL:PT1H
BEGIN:VTIMEZONE
TZID:America/New_York
BEGIN:DAYLIGHT
TZOFFSETFROM:-0500
TZOFFSETTO:-0400
TZNAME:EDT
DTSTART:20230312T070000
END:DAYLIGHT
BEGIN:STANDARD
TZOFFSETFROM:-0400
TZOFFSETTO:-0500
TZNAME:EST
DTSTART:20231105T060000
END:STANDARD
BEGIN:DAYLIGHT
TZOFFSETFROM:-0500
TZOFFSETTO:-0400
TZNAME:EDT
DTSTART:20240310T070000
END:DAYLIGHT
BEGIN:STANDARD
TZOFFSETFROM:-0400
TZOFFSETTO:-0500
TZNAME:EST
DTSTART:20241103T060000
END:STANDARD
BEGIN:DAYLIGHT
TZOFFSETFROM:-0500
TZOFFSETTO:-0400
TZNAME:EDT
DTSTART:20250309T070000
END:DAYLIGHT
BEGIN:STANDARD
TZOFFSETFROM:-0400
TZOFFSETTO:-0500
TZNAME:EST
DTSTART:20251102T060000
END:STANDARD
END:VTIMEZONE
BEGIN:VEVENT
DTSTART;TZID=America/New_York:20241107T160000
DTEND;TZID=America/New_York:20241107T180000
DTSTAMP:20260424T091933
CREATED:20240827T132018Z
LAST-MODIFIED:20240827T132018Z
UID:44025-1730995200-1731002400@afnwct.org
SUMMARY:Groupe de lecture
DESCRIPTION:First Thursday of every month beginning at 4:00 pm at a private home in Woodbury.\nAttendance is limited to 8 people. \nCall 203-482-3633 to reserve your spot. \nLire à haute voix\nÉcouter les autres lire\nComprendre ce que l’on entend\nCommenter les thèmes et techniques littéraires \nEn ce moment\, le groupe lit:\nLa Vie et la Passion de Dodin-Bouffant\, Gourmet de Marcel Rouff\nLe prochain livre sera Changer l’Eau des Fleurs de Valérie Perrin
URL:https://afnwct.org/event/groupe-de-lecture-52-2-4-2-2-5-2-3/
LOCATION:CT
ATTACH;FMTTYPE=image/jpeg:https://afnwct.org/wp-content/uploads/2023/08/Lectures-16-9.jpg
END:VEVENT
BEGIN:VEVENT
DTSTART;TZID=America/New_York:20241109T100000
DTEND;TZID=America/New_York:20241109T120000
DTSTAMP:20260424T091933
CREATED:20240827T131423Z
LAST-MODIFIED:20240827T131423Z
UID:44007-1731146400-1731153600@afnwct.org
SUMMARY:Café Conversation
DESCRIPTION:Every other Saturday morning at the Alliance Center or at a private home. \nCafé Conversation is a great way to practice and improve your French. L’ambiance conviviale will help you feel more comfortable learning and speaking French with other francophones and francophiles. \nEnjoy coffee and pastries\, meet other members\,chat and discuss en français. \nAs the venue changes from time to time\, we recommend that you send your email address to sam.markind@gmail.com to keep informed.
URL:https://afnwct.org/event/cafe-conversation-56-2-2-4-2-2-2-10-2-3-5/
LOCATION:AF Center\, One Pomperaug Office Park\, Suite 301\, Southbury\, CT\, 06488\, United States
ATTACH;FMTTYPE=image/jpeg:https://afnwct.org/wp-content/uploads/2023/08/Cafe-Conversation-16-9-1.jpg
END:VEVENT
BEGIN:VEVENT
DTSTART;TZID=America/New_York:20241112T110000
DTEND;TZID=America/New_York:20241112T123000
DTSTAMP:20260424T091933
CREATED:20240827T132734Z
LAST-MODIFIED:20240827T132734Z
UID:44036-1731409200-1731414600@afnwct.org
SUMMARY:Livres d’Histoire
DESCRIPTION:Every other Tuesday morning at the Alliance\nCenter 11:00 – 12:30 \nRead and discuss outstanding works of French nonfiction.\nFirst up: La Carte Postale by Anne Berest. Future\nreadings will include Tocqueville’s classic L’Ancien\nRégime et la Révolution. \nLa Carte Postale peut être acheté sur\nAmazon.com ou AbeBooks.com. \nCall 203-788-4698 to reserve your spot.
URL:https://afnwct.org/event/cafe-conversation-56-2-2-4-2-2-2-10-2-2-2-5/
LOCATION:AF Center\, One Pomperaug Office Park\, Suite 301\, Southbury\, CT\, 06488\, United States
ATTACH;FMTTYPE=image/jpeg:https://afnwct.org/wp-content/uploads/2024/08/Livres-dHistoire-icon.jpg
END:VEVENT
BEGIN:VEVENT
DTSTART;TZID=America/New_York:20241121T183000
DTEND;TZID=America/New_York:20241121T210000
DTSTAMP:20260424T091933
CREATED:20240825T133614Z
LAST-MODIFIED:20240825T133710Z
UID:43962-1732213800-1732222800@afnwct.org
SUMMARY:Ciné Club - Les Diaboliques
DESCRIPTION:Monthly showings of classic French movies \nFor the fall season we will show an original French film and the next month the\nAmerican remake. \n6:30 pm at the Alliance Center \n \nLes Diaboliques\, co-written and directed by Henri-Georges Clouzot\,1955\, starring Simone Signoret\, Véra Clouzot\, Paul Meurisse and Charles Vanel. \nPopcorn provided\, BYOB
URL:https://afnwct.org/event/cineclub-presents-cesar-2-2-4-2-2-2-2-2-2-2-2-2/
LOCATION:AF Center\, One Pomperaug Office Park\, Suite 301\, Southbury\, CT\, 06488\, United States
ATTACH;FMTTYPE=image/jpeg:https://afnwct.org/wp-content/uploads/2024/03/Le-Cinema-Series-16-9.jpg
END:VEVENT
BEGIN:VEVENT
DTSTART;TZID=America/New_York:20241123T100000
DTEND;TZID=America/New_York:20241123T120000
DTSTAMP:20260424T091933
CREATED:20240827T131808Z
LAST-MODIFIED:20240827T131808Z
UID:44021-1732356000-1732363200@afnwct.org
SUMMARY:Café Conversation
DESCRIPTION:Every other Saturday morning at the Alliance Center or at a private home. \nCafé Conversation is a great way to practice and improve your French. L’ambiance conviviale will help you feel more comfortable learning and speaking French with other francophones and francophiles. \nEnjoy coffee and pastries\, meet other members\,chat and discuss en français. \nAs the venue changes from time to time\, we recommend that you send your email address to sam.markind@gmail.com to keep informed.
URL:https://afnwct.org/event/cafe-conversation-56-2-2-4-2-2-2-10-2-3-8-2/
LOCATION:AF Center\, One Pomperaug Office Park\, Suite 301\, Southbury\, CT\, 06488\, United States
ATTACH;FMTTYPE=image/jpeg:https://afnwct.org/wp-content/uploads/2023/08/Cafe-Conversation-16-9-1.jpg
END:VEVENT
BEGIN:VEVENT
DTSTART;TZID=America/New_York:20241123T170000
DTEND;TZID=America/New_York:20241123T200000
DTSTAMP:20260424T091933
CREATED:20240825T143347Z
LAST-MODIFIED:20240825T143440Z
UID:43995-1732381200-1732392000@afnwct.org
SUMMARY:Beaujolais Nouveau
DESCRIPTION:November\, 23rd\, Saturday\, 5:00 pm location TBD\n$25 per person\nRegistration and prepayment required by November 18th\nRegistration: dbolduc61@gmail.com • (860) 480-0143 \nPay by PayPal  \n\n  \n   \n\n\n\n        \n        Beaujolais Nouveau 2024\n      \n\n\n\n        \n            Single $30.00 USD\n          \n      \n\n\n\n        \n        Name\n      \n\n\n\n        \n      \n\n\n\n        \n        Email
URL:https://afnwct.org/event/beaujolais-nouveau-2/
LOCATION:CT
ATTACH;FMTTYPE=image/jpeg:https://afnwct.org/wp-content/uploads/2024/08/Social-Events-16-9.jpg
END:VEVENT
BEGIN:VEVENT
DTSTART;TZID=America/New_York:20241126T110000
DTEND;TZID=America/New_York:20241126T123000
DTSTAMP:20260424T091933
CREATED:20240827T132807Z
LAST-MODIFIED:20240827T132807Z
UID:44037-1732618800-1732624200@afnwct.org
SUMMARY:Livres d’Histoire
DESCRIPTION:Every other Tuesday morning at the Alliance\nCenter 11:00 – 12:30 \nRead and discuss outstanding works of French nonfiction.\nFirst up: La Carte Postale by Anne Berest. Future\nreadings will include Tocqueville’s classic L’Ancien\nRégime et la Révolution. \nLa Carte Postale peut être acheté sur\nAmazon.com ou AbeBooks.com. \nCall 203-788-4698 to reserve your spot.
URL:https://afnwct.org/event/cafe-conversation-56-2-2-4-2-2-2-10-2-2-2-6/
LOCATION:AF Center\, One Pomperaug Office Park\, Suite 301\, Southbury\, CT\, 06488\, United States
ATTACH;FMTTYPE=image/jpeg:https://afnwct.org/wp-content/uploads/2024/08/Livres-dHistoire-icon.jpg
END:VEVENT
END:VCALENDAR