BEGIN:VCALENDAR
VERSION:2.0
PRODID:-//Alliance Francaise of NW CT - ECPv6.15.11//NONSGML v1.0//EN
CALSCALE:GREGORIAN
METHOD:PUBLISH
X-ORIGINAL-URL:https://afnwct.org
X-WR-CALDESC:Events for Alliance Francaise of NW CT
REFRESH-INTERVAL;VALUE=DURATION:PT1H
X-Robots-Tag:noindex
X-PUBLISHED-TTL:PT1H
BEGIN:VTIMEZONE
TZID:America/New_York
BEGIN:DAYLIGHT
TZOFFSETFROM:-0500
TZOFFSETTO:-0400
TZNAME:EDT
DTSTART:20220313T070000
END:DAYLIGHT
BEGIN:STANDARD
TZOFFSETFROM:-0400
TZOFFSETTO:-0500
TZNAME:EST
DTSTART:20221106T060000
END:STANDARD
BEGIN:DAYLIGHT
TZOFFSETFROM:-0500
TZOFFSETTO:-0400
TZNAME:EDT
DTSTART:20230312T070000
END:DAYLIGHT
BEGIN:STANDARD
TZOFFSETFROM:-0400
TZOFFSETTO:-0500
TZNAME:EST
DTSTART:20231105T060000
END:STANDARD
BEGIN:DAYLIGHT
TZOFFSETFROM:-0500
TZOFFSETTO:-0400
TZNAME:EDT
DTSTART:20240310T070000
END:DAYLIGHT
BEGIN:STANDARD
TZOFFSETFROM:-0400
TZOFFSETTO:-0500
TZNAME:EST
DTSTART:20241103T060000
END:STANDARD
END:VTIMEZONE
BEGIN:VEVENT
DTSTART;TZID=America/New_York:20230805T100000
DTEND;TZID=America/New_York:20230805T120000
DTSTAMP:20260426T001653
CREATED:20230724T145213Z
LAST-MODIFIED:20230725T012744Z
UID:43192-1691229600-1691236800@afnwct.org
SUMMARY:Café Conversation
DESCRIPTION:Café Conversation is a great way to practice\, improve and/or help you feel more comfortable speaking French with friendly francophones and Francophiles.\nEnjoy coffee and pastries\, meet fellow members and chat en français. \nSaturday mornings at the Alliance Center or at a private home\, outside if weather permits. \nNew participants need to email sam.markind@gmail.com for location details. \n 
URL:https://afnwct.org/event/cafe-conversation-54/
LOCATION:AF Center\, One Pomperaug Office Park\, Suite 301\, Southbury\, CT\, 06488\, United States
CATEGORIES:Café Conversation
ATTACH;FMTTYPE=image/jpeg:https://afnwct.org/wp-content/uploads/2023/07/Cafe-Conversation.jpg
END:VEVENT
BEGIN:VEVENT
DTSTART;TZID=America/New_York:20230819T100000
DTEND;TZID=America/New_York:20230819T120000
DTSTAMP:20260426T001653
CREATED:20230725T013236Z
LAST-MODIFIED:20230725T013305Z
UID:43230-1692439200-1692446400@afnwct.org
SUMMARY:Café Conversation
DESCRIPTION:Café Conversation is a great way to practice\, improve and/or help you feel more comfortable speaking French with friendly francophones and Francophiles.\nEnjoy coffee and pastries\, meet fellow members and chat en français. \nSaturday mornings at the Alliance Center or at a private home\, outside if weather permits. \nNew participants need to email sam.markind@gmail.com for location details. \n 
URL:https://afnwct.org/event/cafe-conversation-54-2/
LOCATION:AF Center\, One Pomperaug Office Park\, Suite 301\, Southbury\, CT\, 06488\, United States
CATEGORIES:Café Conversation
ATTACH;FMTTYPE=image/jpeg:https://afnwct.org/wp-content/uploads/2023/07/Cafe-Conversation.jpg
END:VEVENT
END:VCALENDAR