BEGIN:VCALENDAR
VERSION:2.0
PRODID:-//Alliance Francaise of NW CT - ECPv6.15.11//NONSGML v1.0//EN
CALSCALE:GREGORIAN
METHOD:PUBLISH
X-ORIGINAL-URL:https://afnwct.org
X-WR-CALDESC:Events for Alliance Francaise of NW CT
REFRESH-INTERVAL;VALUE=DURATION:PT1H
X-Robots-Tag:noindex
X-PUBLISHED-TTL:PT1H
BEGIN:VTIMEZONE
TZID:America/New_York
BEGIN:DAYLIGHT
TZOFFSETFROM:-0500
TZOFFSETTO:-0400
TZNAME:EDT
DTSTART:20220313T070000
END:DAYLIGHT
BEGIN:STANDARD
TZOFFSETFROM:-0400
TZOFFSETTO:-0500
TZNAME:EST
DTSTART:20221106T060000
END:STANDARD
BEGIN:DAYLIGHT
TZOFFSETFROM:-0500
TZOFFSETTO:-0400
TZNAME:EDT
DTSTART:20230312T070000
END:DAYLIGHT
BEGIN:STANDARD
TZOFFSETFROM:-0400
TZOFFSETTO:-0500
TZNAME:EST
DTSTART:20231105T060000
END:STANDARD
BEGIN:DAYLIGHT
TZOFFSETFROM:-0500
TZOFFSETTO:-0400
TZNAME:EDT
DTSTART:20240310T070000
END:DAYLIGHT
BEGIN:STANDARD
TZOFFSETFROM:-0400
TZOFFSETTO:-0500
TZNAME:EST
DTSTART:20241103T060000
END:STANDARD
END:VTIMEZONE
BEGIN:VEVENT
DTSTART;TZID=America/New_York:20231111T100000
DTEND;TZID=America/New_York:20231111T120000
DTSTAMP:20260425T193615
CREATED:20230824T202013Z
LAST-MODIFIED:20230824T202933Z
UID:43232-1699696800-1699704000@afnwct.org
SUMMARY:Café Conversation
DESCRIPTION:Café Conversation is a great way to practice\, improve and/or help you feel more comfortable speaking French with friendly francophones and Francophiles.\nEnjoy coffee and pastries\, meet fellow members and chat en français. \nSaturday mornings at the Alliance Center or at a private home\, outside if weather permits. \nNew participants need to email sam.markind@gmail.com for location details.
URL:https://afnwct.org/event/cafe-conversation-56/
LOCATION:CT
CATEGORIES:Café Conversation
ATTACH;FMTTYPE=image/jpeg:https://afnwct.org/wp-content/uploads/2023/08/Cafe-Conversation-16-9-1.jpg
END:VEVENT
BEGIN:VEVENT
DTSTART;TZID=America/New_York:20231125T100000
DTEND;TZID=America/New_York:20231125T120000
DTSTAMP:20260425T193615
CREATED:20230824T202442Z
LAST-MODIFIED:20230824T202907Z
UID:43380-1700906400-1700913600@afnwct.org
SUMMARY:Café Conversation
DESCRIPTION:Café Conversation is a great way to practice\, improve and/or help you feel more comfortable speaking French with friendly francophones and Francophiles.\nEnjoy coffee and pastries\, meet fellow members and chat en français. \nSaturday mornings at the Alliance Center or at a private home\, outside if weather permits. \nNew participants need to email sam.markind@gmail.com for location details.
URL:https://afnwct.org/event/cafe-conversation-56-2/
LOCATION:AF Center\, One Pomperaug Office Park\, Suite 301\, Southbury\, CT\, 06488\, United States
CATEGORIES:Café Conversation
ATTACH;FMTTYPE=image/jpeg:https://afnwct.org/wp-content/uploads/2023/08/Cafe-Conversation-16-9-1.jpg
END:VEVENT
END:VCALENDAR