BEGIN:VCALENDAR
VERSION:2.0
PRODID:-//Alliance Francaise of NW CT - ECPv6.15.11//NONSGML v1.0//EN
CALSCALE:GREGORIAN
METHOD:PUBLISH
X-WR-CALNAME:Alliance Francaise of NW CT
X-ORIGINAL-URL:https://afnwct.org
X-WR-CALDESC:Events for Alliance Francaise of NW CT
REFRESH-INTERVAL;VALUE=DURATION:PT1H
X-Robots-Tag:noindex
X-PUBLISHED-TTL:PT1H
BEGIN:VTIMEZONE
TZID:America/New_York
BEGIN:DAYLIGHT
TZOFFSETFROM:-0500
TZOFFSETTO:-0400
TZNAME:EDT
DTSTART:20220313T070000
END:DAYLIGHT
BEGIN:STANDARD
TZOFFSETFROM:-0400
TZOFFSETTO:-0500
TZNAME:EST
DTSTART:20221106T060000
END:STANDARD
BEGIN:DAYLIGHT
TZOFFSETFROM:-0500
TZOFFSETTO:-0400
TZNAME:EDT
DTSTART:20230312T070000
END:DAYLIGHT
BEGIN:STANDARD
TZOFFSETFROM:-0400
TZOFFSETTO:-0500
TZNAME:EST
DTSTART:20231105T060000
END:STANDARD
BEGIN:DAYLIGHT
TZOFFSETFROM:-0500
TZOFFSETTO:-0400
TZNAME:EDT
DTSTART:20240310T070000
END:DAYLIGHT
BEGIN:STANDARD
TZOFFSETFROM:-0400
TZOFFSETTO:-0500
TZNAME:EST
DTSTART:20241103T060000
END:STANDARD
END:VTIMEZONE
BEGIN:VEVENT
DTSTART;TZID=America/New_York:20230316T183000
DTEND;TZID=America/New_York:20230316T210000
DTSTAMP:20260425T214434
CREATED:20230213T045253Z
LAST-MODIFIED:20230307T232540Z
UID:42300-1678991400-1679000400@afnwct.org
SUMMARY:Ciné Club
DESCRIPTION:Ciné Club on the 3rd Thursday of the month \n6:30 pm at the Alliance Center\nJanuary 19\, February 28\, March 16
URL:https://afnwct.org/event/cineclub-presents-cesar-2-2/
LOCATION:CT
CATEGORIES:aaHomePage,Ciné-Club,French Discussion Group
ATTACH;FMTTYPE=image/jpeg:https://afnwct.org/wp-content/uploads/2023/02/cine.jpg
END:VEVENT
BEGIN:VEVENT
DTSTART;TZID=America/New_York:20230325T140000
DTEND;TZID=America/New_York:20230325T160000
DTSTAMP:20260425T214434
CREATED:20230213T050001Z
LAST-MODIFIED:20230307T050352Z
UID:42306-1679752800-1679760000@afnwct.org
SUMMARY:A Younger Matisse at the Met\, will follow the artist until his mid 30’s.
DESCRIPTION:A Younger Matisse at the Met\, will follow the artist until his mid 30’s. \nPresented by Armchair Art Tours’ Michael Morris. \nRefreshments will be served. \nSaturday\, March 25 at 2:00 pm at the Alliance Center
URL:https://afnwct.org/event/cineclub-presents-cesar-2-2-3/
LOCATION:CT
CATEGORIES:aaHomePage,Ciné-Club,French Discussion Group
END:VEVENT
END:VCALENDAR